BEGIN:VCALENDAR
VERSION:2.0
PRODID:-//JASNA NorCal - ECPv6.15.20//NONSGML v1.0//EN
CALSCALE:GREGORIAN
METHOD:PUBLISH
X-WR-CALNAME:JASNA NorCal
X-ORIGINAL-URL:https://www.jasnanorcal.org
X-WR-CALDESC:Events for JASNA NorCal
REFRESH-INTERVAL;VALUE=DURATION:PT1H
X-Robots-Tag:noindex
X-PUBLISHED-TTL:PT1H
BEGIN:VTIMEZONE
TZID:America/Los_Angeles
BEGIN:DAYLIGHT
TZOFFSETFROM:-0800
TZOFFSETTO:-0700
TZNAME:PDT
DTSTART:20240310T100000
END:DAYLIGHT
BEGIN:STANDARD
TZOFFSETFROM:-0700
TZOFFSETTO:-0800
TZNAME:PST
DTSTART:20241103T090000
END:STANDARD
BEGIN:DAYLIGHT
TZOFFSETFROM:-0800
TZOFFSETTO:-0700
TZNAME:PDT
DTSTART:20250309T100000
END:DAYLIGHT
BEGIN:STANDARD
TZOFFSETFROM:-0700
TZOFFSETTO:-0800
TZNAME:PST
DTSTART:20251102T090000
END:STANDARD
BEGIN:DAYLIGHT
TZOFFSETFROM:-0800
TZOFFSETTO:-0700
TZNAME:PDT
DTSTART:20260308T100000
END:DAYLIGHT
BEGIN:STANDARD
TZOFFSETFROM:-0700
TZOFFSETTO:-0800
TZNAME:PST
DTSTART:20261101T090000
END:STANDARD
END:VTIMEZONE
BEGIN:VEVENT
DTSTART;TZID=America/Los_Angeles:20250909T183000
DTEND;TZID=America/Los_Angeles:20250909T200000
DTSTAMP:20260423T220223
CREATED:20250117T052136Z
LAST-MODIFIED:20250831T212321Z
UID:5826-1757442600-1757448000@www.jasnanorcal.org
SUMMARY:Jane & Me: My Austen Heritage by Caroline Jane Knight with Special Guest Caroline Knight in Attendance
DESCRIPTION:JASNA NorCal Reading Group
URL:https://www.jasnanorcal.org/event/jasna-norcal-virtual-reading-group-jane-me-my-austen-heritage-by-caroline-jane-knight
CATEGORIES:JASNA NorCal Reading Group
END:VEVENT
END:VCALENDAR