BEGIN:VCALENDAR
VERSION:2.0
PRODID:-//JASNA NorCal - ECPv6.15.20//NONSGML v1.0//EN
CALSCALE:GREGORIAN
METHOD:PUBLISH
X-ORIGINAL-URL:https://www.jasnanorcal.org
X-WR-CALDESC:Events for JASNA NorCal
REFRESH-INTERVAL;VALUE=DURATION:PT1H
X-Robots-Tag:noindex
X-PUBLISHED-TTL:PT1H
BEGIN:VTIMEZONE
TZID:UTC
BEGIN:STANDARD
TZOFFSETFROM:+0000
TZOFFSETTO:+0000
TZNAME:UTC
DTSTART:20200101T000000
END:STANDARD
END:VTIMEZONE
BEGIN:VTIMEZONE
TZID:America/Denver
BEGIN:DAYLIGHT
TZOFFSETFROM:-0700
TZOFFSETTO:-0600
TZNAME:MDT
DTSTART:20200308T090000
END:DAYLIGHT
BEGIN:STANDARD
TZOFFSETFROM:-0600
TZOFFSETTO:-0700
TZNAME:MST
DTSTART:20201101T080000
END:STANDARD
BEGIN:DAYLIGHT
TZOFFSETFROM:-0700
TZOFFSETTO:-0600
TZNAME:MDT
DTSTART:20210314T090000
END:DAYLIGHT
BEGIN:STANDARD
TZOFFSETFROM:-0600
TZOFFSETTO:-0700
TZNAME:MST
DTSTART:20211107T080000
END:STANDARD
BEGIN:DAYLIGHT
TZOFFSETFROM:-0700
TZOFFSETTO:-0600
TZNAME:MDT
DTSTART:20220313T090000
END:DAYLIGHT
BEGIN:STANDARD
TZOFFSETFROM:-0600
TZOFFSETTO:-0700
TZNAME:MST
DTSTART:20221106T080000
END:STANDARD
END:VTIMEZONE
BEGIN:VTIMEZONE
TZID:America/New_York
BEGIN:DAYLIGHT
TZOFFSETFROM:-0500
TZOFFSETTO:-0400
TZNAME:EDT
DTSTART:20200308T070000
END:DAYLIGHT
BEGIN:STANDARD
TZOFFSETFROM:-0400
TZOFFSETTO:-0500
TZNAME:EST
DTSTART:20201101T060000
END:STANDARD
BEGIN:DAYLIGHT
TZOFFSETFROM:-0500
TZOFFSETTO:-0400
TZNAME:EDT
DTSTART:20210314T070000
END:DAYLIGHT
BEGIN:STANDARD
TZOFFSETFROM:-0400
TZOFFSETTO:-0500
TZNAME:EST
DTSTART:20211107T060000
END:STANDARD
BEGIN:DAYLIGHT
TZOFFSETFROM:-0500
TZOFFSETTO:-0400
TZNAME:EDT
DTSTART:20220313T070000
END:DAYLIGHT
BEGIN:STANDARD
TZOFFSETFROM:-0400
TZOFFSETTO:-0500
TZNAME:EST
DTSTART:20221106T060000
END:STANDARD
END:VTIMEZONE
BEGIN:VTIMEZONE
TZID:America/Chicago
BEGIN:DAYLIGHT
TZOFFSETFROM:-0600
TZOFFSETTO:-0500
TZNAME:CDT
DTSTART:20200308T080000
END:DAYLIGHT
BEGIN:STANDARD
TZOFFSETFROM:-0500
TZOFFSETTO:-0600
TZNAME:CST
DTSTART:20201101T070000
END:STANDARD
BEGIN:DAYLIGHT
TZOFFSETFROM:-0600
TZOFFSETTO:-0500
TZNAME:CDT
DTSTART:20210314T080000
END:DAYLIGHT
BEGIN:STANDARD
TZOFFSETFROM:-0500
TZOFFSETTO:-0600
TZNAME:CST
DTSTART:20211107T070000
END:STANDARD
BEGIN:DAYLIGHT
TZOFFSETFROM:-0600
TZOFFSETTO:-0500
TZNAME:CDT
DTSTART:20220313T080000
END:DAYLIGHT
BEGIN:STANDARD
TZOFFSETFROM:-0500
TZOFFSETTO:-0600
TZNAME:CST
DTSTART:20221106T070000
END:STANDARD
END:VTIMEZONE
BEGIN:VTIMEZONE
TZID:Pacific/Honolulu
BEGIN:STANDARD
TZOFFSETFROM:-1000
TZOFFSETTO:-1000
TZNAME:HST
DTSTART:20200101T000000
END:STANDARD
END:VTIMEZONE
BEGIN:VTIMEZONE
TZID:Europe/London
BEGIN:DAYLIGHT
TZOFFSETFROM:+0000
TZOFFSETTO:+0100
TZNAME:BST
DTSTART:20200329T010000
END:DAYLIGHT
BEGIN:STANDARD
TZOFFSETFROM:+0100
TZOFFSETTO:+0000
TZNAME:GMT
DTSTART:20201025T010000
END:STANDARD
BEGIN:DAYLIGHT
TZOFFSETFROM:+0000
TZOFFSETTO:+0100
TZNAME:BST
DTSTART:20210328T010000
END:DAYLIGHT
BEGIN:STANDARD
TZOFFSETFROM:+0100
TZOFFSETTO:+0000
TZNAME:GMT
DTSTART:20211031T010000
END:STANDARD
BEGIN:DAYLIGHT
TZOFFSETFROM:+0000
TZOFFSETTO:+0100
TZNAME:BST
DTSTART:20220327T010000
END:DAYLIGHT
BEGIN:STANDARD
TZOFFSETFROM:+0100
TZOFFSETTO:+0000
TZNAME:GMT
DTSTART:20221030T010000
END:STANDARD
END:VTIMEZONE
BEGIN:VTIMEZONE
TZID:America/Los_Angeles
BEGIN:DAYLIGHT
TZOFFSETFROM:-0800
TZOFFSETTO:-0700
TZNAME:PDT
DTSTART:20200308T100000
END:DAYLIGHT
BEGIN:STANDARD
TZOFFSETFROM:-0700
TZOFFSETTO:-0800
TZNAME:PST
DTSTART:20201101T090000
END:STANDARD
BEGIN:DAYLIGHT
TZOFFSETFROM:-0800
TZOFFSETTO:-0700
TZNAME:PDT
DTSTART:20210314T100000
END:DAYLIGHT
BEGIN:STANDARD
TZOFFSETFROM:-0700
TZOFFSETTO:-0800
TZNAME:PST
DTSTART:20211107T090000
END:STANDARD
BEGIN:DAYLIGHT
TZOFFSETFROM:-0800
TZOFFSETTO:-0700
TZNAME:PDT
DTSTART:20220313T100000
END:DAYLIGHT
BEGIN:STANDARD
TZOFFSETFROM:-0700
TZOFFSETTO:-0800
TZNAME:PST
DTSTART:20221106T090000
END:STANDARD
END:VTIMEZONE
BEGIN:VEVENT
DTSTART;TZID=UTC:20210327T140000
DTEND;TZID=UTC:20210327T140000
DTSTAMP:20260424T062436
CREATED:20210307T033426Z
LAST-MODIFIED:20210307T033431Z
UID:2185-1616853600-1616853600@www.jasnanorcal.org
SUMMARY:Lecture: A History of Jane Austen in America in 14 Objects
DESCRIPTION:Zoom lecture with JASNA traveling guest lecturer Dr. Juliette WellsHow were Austen’s novels first published in North America? Who read them\, and what did those readers think? What role did American readers play in the development of Austen’s international fame? This lively historical tour will answer these questions and more about Austen’s early transatlantic readers (our forebears!).
URL:https://www.jasnanorcal.org/event/lecture-a-history-of-jane-austen-in-america-in-14-objects
LOCATION:Online: Zoom
END:VEVENT
BEGIN:VEVENT
DTSTART;TZID=America/Denver:20210327T090000
DTEND;TZID=America/Denver:20210327T103000
DTSTAMP:20260424T062436
CREATED:20210321T025246Z
LAST-MODIFIED:20210321T025818Z
UID:2198-1616835600-1616841000@www.jasnanorcal.org
SUMMARY:What Jane Saw: British Exhibition 1813
DESCRIPTION:Popular presenter Janine Barchas (Louann and Larry Temple Centennial Professor of English Literature\, University of Texas at Austin) has created a beautiful virtual exhibition that allows visitors to view the very works Jane Austen saw when she visited a London gallery in May of 1813. Browse through the Sir Joshua Reynolds retrospective\, then join Janine to hear more about the project and enjoy a Q&A session.
URL:https://www.jasnanorcal.org/event/what-jane-saw-british-exhibition-1813
LOCATION:Online
END:VEVENT
BEGIN:VEVENT
DTSTART;TZID=America/New_York:20210325T170000
DTEND;TZID=America/New_York:20210325T183000
DTSTAMP:20260424T062436
CREATED:20210220T044710Z
LAST-MODIFIED:20210220T044714Z
UID:2160-1616691600-1616697000@www.jasnanorcal.org
SUMMARY:“Making No Difference for Colour or Character”: Representations of Race in Bridgerton and the Regency
DESCRIPTION:This talk will explore some of the most important Black women and men of the Regency era\, as well as the ways in which Bridgerton both illuminates and ignores their lives. This is part of the “Race and the Regency” series.
URL:https://www.jasnanorcal.org/event/making-no-difference-for-colour-or-character-representations-of-race-in-bridgerton-and-the-regency
LOCATION:Online: Zoom
END:VEVENT
BEGIN:VEVENT
DTSTART;TZID=UTC:20210321T140000
DTEND;TZID=UTC:20210321T160000
DTSTAMP:20260424T062436
CREATED:20210131T083332Z
LAST-MODIFIED:20210131T083336Z
UID:2108-1616335200-1616342400@www.jasnanorcal.org
SUMMARY:JASNA–GL March Monthly Meeting
DESCRIPTION:Join us for our March 2021 JASNA-GL meeting! “Irony in Jane Austen’s Work” presented by Jessica Williams.
URL:https://www.jasnanorcal.org/event/jasna-gl-march-monthly-meeting
LOCATION:Online: Zoom
ORGANIZER;CN="JASNA Greater Louisville":MAILTO:jasnagl@gmail.com
END:VEVENT
BEGIN:VEVENT
DTSTART;TZID=America/Chicago:20210321T130000
DTEND;TZID=America/Chicago:20210321T130000
DTSTAMP:20260424T062436
CREATED:20210321T032007Z
LAST-MODIFIED:20210321T032012Z
UID:2201-1616331600-1616331600@www.jasnanorcal.org
SUMMARY:Jane Austen in Bath
DESCRIPTION:Lauren Burke and Hannah Chapman\, the two lovely ladies behind Bonnets at Dawn\, will be joining the JASNA – South Central Texas Region to present their new talk “Jane Austen in Bath.” They will provide a “mini-history of the city\, focusing on the fun and scandalous bits\, and its literary connections to Austen\,” as well as Ann Radcliffe and Mary Shelley.
URL:https://www.jasnanorcal.org/event/jane-austen-in-bath
LOCATION:Online: Zoom
END:VEVENT
BEGIN:VEVENT
DTSTART;TZID=America/New_York:20210320T130000
DTEND;TZID=America/New_York:20210320T130000
DTSTAMP:20260424T062436
CREATED:20201123T072453Z
LAST-MODIFIED:20201123T073138Z
UID:1952-1616245200-1616245200@www.jasnanorcal.org
SUMMARY:JASNA CWNY March Meeting
DESCRIPTION:Topic: Read-through of Marie Sprayberry’s Lady Catherine play \n\n\n\nPre-registration is required; see the event link for info.
URL:https://www.jasnanorcal.org/event/jasna-cwny-march-meeting
LOCATION:Online: Zoom
ORGANIZER;CN="JASNA Central & Western New York":MAILTO:jasnacwny@gmail.com
END:VEVENT
BEGIN:VEVENT
DTSTART;TZID=UTC:20210318T180000
DTEND;TZID=UTC:20210318T180000
DTSTAMP:20260424T062436
CREATED:20210307T034207Z
LAST-MODIFIED:20210307T034212Z
UID:2189-1616090400-1616090400@www.jasnanorcal.org
SUMMARY:Jane Austen\, Emma\, and Music
DESCRIPTION:‘Without music\, the world is a blank’ says Mrs. Elton. Eighteenth century musicales or parlor performances included the traditional Irish air\, a song from a ballad opera\, piano sonatas\, or a setting of a popular dance tune. They were frequent occurrences in society and it is reflected in Austen’s personal collections and in her work. In this lecture on Jane Austen’s Emma\, join Grand Central Library and NYPL Music staff for a look into Jane Austen’s relationship with music and how it affected her writing.
URL:https://www.jasnanorcal.org/event/jane-austen-emma-and-music
LOCATION:Online: Zoom
END:VEVENT
BEGIN:VEVENT
DTSTART;TZID=America/New_York:20210316T170000
DTEND;TZID=America/New_York:20210316T183000
DTSTAMP:20260424T062436
CREATED:20210220T044327Z
LAST-MODIFIED:20210220T044333Z
UID:2158-1615914000-1615919400@www.jasnanorcal.org
SUMMARY:“I hope white hands”—Wedgwood\, Abolition\, and the Female Consumer
DESCRIPTION:Professor Patricia A. Matthew (Montclair State University) will discuss the links between the abolition movement\, sugar\, and the depiction of Black women in the Regency period. This is part of the “Race and the Regency” series.
URL:https://www.jasnanorcal.org/event/i-hope-white-hands-wedgwood-abolition-and-the-female-consumer
LOCATION:Online: Zoom
END:VEVENT
BEGIN:VEVENT
DTSTART;TZID=UTC:20210314T140000
DTEND;TZID=UTC:20210314T153000
DTSTAMP:20260424T062436
CREATED:20210307T034610Z
LAST-MODIFIED:20210307T034614Z
UID:2191-1615730400-1615735800@www.jasnanorcal.org
SUMMARY:Quarterly Meeting: Laughing with Lizzie
DESCRIPTION:JASNA-Greater Sac Region is pleased to welcome Sophie “Lizzie” Andrews\, international author\, blogger and founder of The Jane Austen Pineapple Appreciation Society. Sophie will chat with us about her books and life experiences ‘living’ in Jane Austen’s world.
URL:https://www.jasnanorcal.org/event/quarterly-meeting-laughing-with-lizzie
LOCATION:Online: Zoom
ORGANIZER;CN="JASNA Greater Sacramento":MAILTO:Jasna.grsac@gmail.com
END:VEVENT
BEGIN:VEVENT
DTSTART;TZID=Pacific/Honolulu:20210313T150000
DTEND;TZID=Pacific/Honolulu:20210313T150000
DTSTAMP:20260424T062436
CREATED:20201222T050519Z
LAST-MODIFIED:20210307T040740Z
UID:2028-1615647600-1615647600@www.jasnanorcal.org
SUMMARY:Pacific Rim Jane Austen Meeting: JASNA Hawai'i and Jane Austen Society of New Zealand
DESCRIPTION:JASNA Hawai’i and the Jane Austen Society of New Zealand join together for the first Pacific Rim international Jane Austen event. Deborah Yaffe will talk about her book\, Among the Janeites. Visit the JASNA Hawai’i web site for updates on registration.
URL:https://www.jasnanorcal.org/event/joint-meeting-jasna-hawaii-and-jane-austen-society-of-new-zealand
LOCATION:Online: Zoom
ORGANIZER;CN="JASNA Hawai'i":MAILTO:jasnahawaii@jasnahawaii.org
END:VEVENT
BEGIN:VEVENT
DTSTART;TZID=America/New_York:20210222T193000
DTEND;TZID=America/New_York:20210222T193000
DTSTAMP:20260424T062436
CREATED:20210203T035509Z
LAST-MODIFIED:20210203T035515Z
UID:2112-1614022200-1614022200@www.jasnanorcal.org
SUMMARY:Play: "The Belle's Stratagem"
DESCRIPTION:In this light-hearted comedy of courtship\, the knife-sharp Letitia has been betrothed to the foppish Doricourt since childhood\, but she fears she is soon to be trapped in a loveless marriage. Written in 1780\, Hannah Cowley’s rom-com romp is a timeless and triumphant cry for love\, decency\, and equality.
URL:https://www.jasnanorcal.org/event/play-the-belles-stratagem
LOCATION:Online
END:VEVENT
BEGIN:VEVENT
DTSTART;TZID=America/New_York:20210221T140000
DTEND;TZID=America/New_York:20210221T140000
DTSTAMP:20260424T062436
CREATED:20210203T042640Z
LAST-MODIFIED:20210203T042648Z
UID:2120-1613916000-1613916000@www.jasnanorcal.org
SUMMARY:Be My Valentine!
DESCRIPTION:Did you know there is a National Valentine Collectors Association? Find out more when the Maryland Region hosts a presentation by Nancy Rosin and Michael Russo\, courtesy of the Collectors Association. This will be followed by a “crafternoon” activity: making a Georgian valentine. How can you resist?To register\, please visit this link: http://jasnamd.org/meetings. If you wish to receive a craft kit\, please respond by February 10; suggested donation is $5. Otherwise\, please register by February 20 to attend without receiving the kit
URL:https://www.jasnanorcal.org/event/be-my-valentine
END:VEVENT
BEGIN:VEVENT
DTSTART;TZID=Europe/London:20210220T140000
DTEND;TZID=Europe/London:20210220T140000
DTSTAMP:20260424T062436
CREATED:20210123T053421Z
LAST-MODIFIED:20210123T053425Z
UID:2075-1613829600-1613829600@www.jasnanorcal.org
SUMMARY:Clergy in the novels of Jane Austen
DESCRIPTION:To speak to us at this event\, we are delighted to welcome our member David Richardson who will give a talk on clergy in the novels of Jane Austen. David will speak about the part that clergy play in the novels written by the daughter of a parson\, and sister to two others. He will focus on five in particular: ‘the sybarite\, the suitors and the spouses’.He offers two questions that you might like to think about in advance:​ \n\n\n\n●​How many Austen heroines fall in love with a clergyman? (Clue: remember the advice from schooldays – read the question carefully.)​●​Who are the two best-known clergymen in English fiction? (Clue: one is an Austen character; the other is not.) \n\n\n\nThis event will be free of charge. Please e-mail north@jasoc.org.uk to register interest and receive ID and passcode.
URL:https://www.jasnanorcal.org/event/clergy-in-the-novels-of-jane-austen
LOCATION:Online: Zoom
ORGANIZER;CN="Jane Austen Society%3A Northern Branch":MAILTO:north@jasoc.org.uk
END:VEVENT
BEGIN:VEVENT
DTSTART;TZID=America/New_York:20210220T130000
DTEND;TZID=America/New_York:20210220T130000
DTSTAMP:20260424T062436
CREATED:20210208T020202Z
LAST-MODIFIED:20210208T020208Z
UID:2124-1613826000-1613826000@www.jasnanorcal.org
SUMMARY:Q&A with Author Soniah Kamal
DESCRIPTION:Join us for a Q&A session with the author of Unmarriageable\, a witty modern retelling of Pride and Prejudice set in Pakistan.
URL:https://www.jasnanorcal.org/event/qa-with-author-soniah-kamal
LOCATION:Online: Zoom
ORGANIZER;CN="JASNA Central & Western New York":MAILTO:jasnacwny@gmail.com
END:VEVENT
BEGIN:VEVENT
DTSTART;TZID=America/New_York:20210220T130000
DTEND;TZID=America/New_York:20210220T130000
DTSTAMP:20260424T062436
CREATED:20201123T072252Z
LAST-MODIFIED:20201123T073207Z
UID:1950-1613826000-1613826000@www.jasnanorcal.org
SUMMARY:JASNA CWNY February Meeting
DESCRIPTION:Topic: Q&A on Unmarriageable with author Sonia Kamal \n\n\n\nPre-registration is required; see the event link for info.
URL:https://www.jasnanorcal.org/event/jasna-cwny-february-meeting
LOCATION:Online: Zoom
ORGANIZER;CN="JASNA Central & Western New York":MAILTO:jasnacwny@gmail.com
END:VEVENT
BEGIN:VEVENT
DTSTART;TZID=America/Los_Angeles:20210220T110000
DTEND;TZID=America/Los_Angeles:20210220T125000
DTSTAMP:20260424T062436
CREATED:20201222T045818Z
LAST-MODIFIED:20201222T045825Z
UID:2026-1613818800-1613825400@www.jasnanorcal.org
SUMMARY:"Austen and Cassatt: Working From Home"
DESCRIPTION:Using letter writing as the core activity of “work” for the educated and prosperous classes\, art historian\, curator and author Nancy Mowll Mathews will compare Austen and Cassatt’s own work lives\, their long-distance communications and how they represent women working from home in their art. As appropriate for our current remote work lives and use of Zoom\, she will draw comparisons with the similar stay-at-home professionalism of the 19th century.
URL:https://www.jasnanorcal.org/event/austen-and-cassatt-working-from-home
LOCATION:Online: Zoom
END:VEVENT
BEGIN:VEVENT
DTSTART;TZID=America/Los_Angeles:20210218T140000
DTEND;TZID=America/Los_Angeles:20210218T140000
DTSTAMP:20260424T062436
CREATED:20210123T060346Z
LAST-MODIFIED:20210123T060352Z
UID:2091-1613656800-1613656800@www.jasnanorcal.org
SUMMARY:Remixing Pride and Prejudice: A Conversation with Author Ibi Zoboi
DESCRIPTION:Jane Austen & Co. is happy to announce our second event in our 2021 series “Race and the Regency.” Join us as we sit down for a chat with Ibi Zoboi\, author of Pride (2018)\, a contemporary YA remix of Pride and Prejudice that is set to be adapted into an HBO series.
URL:https://www.jasnanorcal.org/event/remixing-pride-and-prejudice-a-conversation-with-author-ibi-zoboi
LOCATION:Online: Zoom
END:VEVENT
BEGIN:VEVENT
DTSTART;TZID=America/Los_Angeles:20210214T200000
DTEND;TZID=America/Los_Angeles:20210214T200000
DTSTAMP:20260424T062436
CREATED:20210203T041605Z
LAST-MODIFIED:20210203T041609Z
UID:2118-1613332800-1613332800@www.jasnanorcal.org
SUMMARY:Play: "Pride and Prejudice"
DESCRIPTION:Got any Valentine’s Day plans? Do you enjoy bingeing on Regency-era romance? We’re joining together with our friends at South Bay Musical Theatre to bring you a special performance of the lush and lovely Jane Austen classic\, Pride and Prejudice. Running February 13 and 14\, this “Will they or won’t they?” iconic rom-com play is sure to leave you feeling the love. \n\n\n\nWritten by Mary Keith Medbery Mackaye\, based on Jane Austen’s novel
URL:https://www.jasnanorcal.org/event/play-pride-and-prejudice-2
LOCATION:Online
END:VEVENT
BEGIN:VEVENT
DTSTART;TZID=Europe/London:20210214T170000
DTEND;TZID=Europe/London:20210214T180000
DTSTAMP:20260424T062436
CREATED:20210122T044334Z
LAST-MODIFIED:20210122T044340Z
UID:2073-1613322000-1613325600@www.jasnanorcal.org
SUMMARY:Jane Austen Love Fest
DESCRIPTION:Join us for a bumper Valentine’s Day celebration of all things Jane Austen! With a fun and eclectic line up of talks\, readings\, music and games\, this special online event will give you the chance to indulge your love of Jane Austen’s life and works\, and to share them with fellow fans around the world.
URL:https://www.jasnanorcal.org/event/jane-austen-love-fest
LOCATION:Online: Zoom
END:VEVENT
BEGIN:VEVENT
DTSTART;TZID=America/New_York:20210214T140000
DTEND;TZID=America/New_York:20210214T160000
DTSTAMP:20260424T062436
CREATED:20210131T082541Z
LAST-MODIFIED:20210131T082545Z
UID:2103-1613311200-1613318400@www.jasnanorcal.org
SUMMARY:JASNA–GL February Monthly Meeting
DESCRIPTION:Join us for our February 2021 JASNA-GL meeting! “Make a Regency Love Token for Your Valentine” presented by Eleanor Rust.
URL:https://www.jasnanorcal.org/event/jasna-gl-february-monthly-meeting
LOCATION:Online: Zoom
ORGANIZER;CN="JASNA Greater Louisville":MAILTO:jasnagl@gmail.com
END:VEVENT
BEGIN:VEVENT
DTSTART;TZID=America/Los_Angeles:20210213T200000
DTEND;TZID=America/Los_Angeles:20210213T200000
DTSTAMP:20260424T062436
CREATED:20210203T041317Z
LAST-MODIFIED:20210203T041323Z
UID:2114-1613246400-1613246400@www.jasnanorcal.org
SUMMARY:Play: "Pride and Prejudice"
DESCRIPTION:Got any Valentine’s Day plans? Do you enjoy bingeing on Regency-era romance? We’re joining together with our friends at South Bay Musical Theatre to bring you a special performance of the lush and lovely Jane Austen classic\, Pride and Prejudice. Running February 13 and 14\, this “Will they or won’t they?” iconic rom-com play is sure to leave you feeling the love. \n\n\n\nWritten by Mary Keith Medbery Mackaye\, based on Jane Austen’s novel
URL:https://www.jasnanorcal.org/event/play-pride-and-prejudice
LOCATION:Online
END:VEVENT
BEGIN:VEVENT
DTSTART;TZID=America/New_York:20210208T190000
DTEND;TZID=America/New_York:20210208T210000
DTSTAMP:20260424T062436
CREATED:20201023T035441Z
LAST-MODIFIED:20210117T041757Z
UID:1844-1612810800-1612818000@www.jasnanorcal.org
SUMMARY:Sanditon\, Bridgerton\, and David Copperfield: Modernizing the Representation of Black People in Eighteenth and Nineteenth-Century England
DESCRIPTION:Professor Gretchen Holbrook Gerzina\, author of Black London: Life before Emancipation\, will speak on “Sanditon\, Bridgerton\, and David Copperfield: Modernizing the Representation of Black People in Eighteenth and Nineteenth-Century England” at the JASNA NY February regional meeting. All (members/non-members) are welcome to attend. Donations appreciated.Prof. Gerzina’s webpage: https://gretchengerzina.com/about-gretchen-gerzina.html
URL:https://www.jasnanorcal.org/event/prof-gretchen-gerzina-and-britains-black-past
LOCATION:Online: Zoom
END:VEVENT
BEGIN:VEVENT
DTSTART;TZID=America/Los_Angeles:20210206T110000
DTEND;TZID=America/Los_Angeles:20210206T173000
DTSTAMP:20260424T062436
CREATED:20210117T042336Z
LAST-MODIFIED:20210117T042930Z
UID:2057-1612609200-1612632600@www.jasnanorcal.org
SUMMARY:Reading Jane Austen in the Pacific Northwest: "Perfect Happiness"
DESCRIPTION:Join the seven JASNA regions in Oregon\, Washington\, Idaho\, and British Columbia for a day of talks\, games\, and socializing! Keynote address: JASNA President Liz Philosophos Cooper\, on “Jane Austen: Working Woman.” Regional speakers: Regency Picnic Baskets\, The East India Company\, Victoria’s 2022 AGM\, Education of Young Women. Finale: Jane Austen Trivia! Registration is available at the event link. You can also buy a souvenir T-shirt there!  
URL:https://www.jasnanorcal.org/event/reading-jane-austen-in-the-pacific-northwest-perfect-happiness
LOCATION:Online: Zoom
END:VEVENT
BEGIN:VEVENT
DTSTART;TZID=America/Los_Angeles:20210204T140000
DTEND;TZID=America/Los_Angeles:20210204T140000
DTSTAMP:20260424T062436
CREATED:20210123T060040Z
LAST-MODIFIED:20210123T060044Z
UID:2089-1612447200-1612447200@www.jasnanorcal.org
SUMMARY:Race and the Regency: Lord Mansfield and the Slave Ship Zong
DESCRIPTION:Jane Austen & Co. presents our first talk in our 2021 series “Race and the Regency.” In this talk\, Professor Danielle Christmas (University of North Carolina at Chapel Hill) will discuss the historical connection between the Mansfield decision and Austen’s novel\, Mansfield Park.
URL:https://www.jasnanorcal.org/event/race-and-the-regency-lord-mansfield-and-the-slave-ship-zong
LOCATION:Online: Zoom
END:VEVENT
BEGIN:VEVENT
DTSTART;TZID=Europe/London:20210130T180000
DTEND;TZID=Europe/London:20210130T190000
DTSTAMP:20260424T062436
CREATED:20210122T040904Z
LAST-MODIFIED:20210122T040908Z
UID:2067-1612029600-1612033200@www.jasnanorcal.org
SUMMARY:Jane Austen at Home by Lucy Worsley
DESCRIPTION:Lucy Worsley paints a vivid picture of her favourite author\, Jane Austen. Through the houses\, places and possessions which mattered to her\, Lucy takes a fascinating look at Jane Austen’s world\, considers what home meant to Jane and to the women like her who populate her novels. Dispelling the myth of the cynical\, lonely spinster\, Lucy instead offers us a witty\, passionate and courageous woman\, who\, in her quiet way\, changed the world.
URL:https://www.jasnanorcal.org/event/jane-austen-at-home-by-lucy-worsley-2
LOCATION:Online
END:VEVENT
BEGIN:VEVENT
DTSTART;TZID=America/Los_Angeles:20210130T100000
DTEND;TZID=America/Los_Angeles:20210130T113000
DTSTAMP:20260424T062436
CREATED:20210122T041734Z
LAST-MODIFIED:20210122T041738Z
UID:2069-1612000800-1612006200@www.jasnanorcal.org
SUMMARY:Jane Austen/Regency Era Concert
DESCRIPTION:As part of our “Jane Austen month” celebrations join The Picadillys for a delightful concert of music of the Jane Austen and Regency eras\, performed on period instruments\, in costume. It is our wish to present a concert as it might have been during Miss Austen’s time. Question and discussion time with our musicians about their instruments and the music when joining in zoom. Dances and chamber music to be presented on historical instruments and reproductions\, including an 1829 Broadwood grand pianoforte\, chalumeau\, voice flute recorder\, flageolet recorder\, harp\, and Northumbrian smallpipes. The innovations being made in these instruments will be presented. Concert can be viewed free\, via Facebook Live or on Zoom (with registration).
URL:https://www.jasnanorcal.org/event/jane-austen-regency-era-concert
LOCATION:Online: Zoom
END:VEVENT
BEGIN:VEVENT
DTSTART;TZID=UTC:20210129T080000
DTEND;TZID=UTC:20210131T170000
DTSTAMP:20260424T062436
CREATED:20201122T023605Z
LAST-MODIFIED:20201122T023609Z
UID:1941-1611907200-1612112400@www.jasnanorcal.org
SUMMARY:Virtual Teel House Regency Retreat
DESCRIPTION:A jam-packed weekend full of delightful performances\, riveting speakers and informative tutorials and how-tos. You’ll be able to enjoy the festivities from the comfort and safety of your own home through our private Zoom link. Many of our talks are exclusive to this event and will not be publicly available\, so don’t miss out!
URL:https://www.jasnanorcal.org/event/virtual-teel-house-regency-retreat
LOCATION:Online: Zoom
ORGANIZER;CN="The Historic Joseph Teel House":MAILTO:friendsofteel@gmail.com
END:VEVENT
BEGIN:VEVENT
DTSTART;TZID=America/Los_Angeles:20210124T110000
DTEND;TZID=America/Los_Angeles:20210124T123000
DTSTAMP:20260424T062436
CREATED:20210104T045006Z
LAST-MODIFIED:20210104T045352Z
UID:2031-1611486000-1611491400@www.jasnanorcal.org
SUMMARY:2020 Young Filmmakers Contest Winners Premiere
DESCRIPTION:Join JASNA Southwest for the world premiere of the six winning entries in our fourth annual Young Filmmakers Contest. The screening will be followed by a Q&A with the filmmakers and several of our esteemed judges. Don’t miss this special afternoon! More information about the contest winners can be found on our web site: https://jasnasw.com/young-filmmakers-contest/
URL:https://www.jasnanorcal.org/event/2020-young-filmmakers-contest-winners-premiere
LOCATION:Online: Zoom
END:VEVENT
BEGIN:VEVENT
DTSTART;TZID=America/New_York:20210123T193000
DTEND;TZID=America/New_York:20210123T193000
DTSTAMP:20260424T062436
CREATED:20210116T032753Z
LAST-MODIFIED:20210116T032758Z
UID:2052-1611430200-1611430200@www.jasnanorcal.org
SUMMARY:Reading: "The Woman Hater" by  Frances Burney
DESCRIPTION:Frances Burney’s rarely seen 18th century proto-feminist satire is a hilarious story of broken engagements\, excessive romanticism – and one massively misguided misogynist. Sir Roderick has turned frantic misogynist for two reasons: he was jilted 17 years previously and his sister had the gall to marry his ex-fiancee’s brother. Burney’s outrageously witty comedy of manners bursts into life with the introduction of the former fiancee\, Lady Smatter\, who has turned into a voracious and addle-brained bookworm. \n\n\n\nWith its unforgettable characters and delicious absurdity\, The Woman Hater is a lost comic treat. As directed by Everett Quinton (Red Bull’s The Mystery of Irma Vep and the Ridiculous Theatrical Company)\, it’s sure to be a doubly sweet one.
URL:https://www.jasnanorcal.org/event/reading-the-woman-hater-by-frances-burney
LOCATION:Online
END:VEVENT
BEGIN:VEVENT
DTSTART;TZID=Europe/London:20210123T180000
DTEND;TZID=Europe/London:20210123T190000
DTSTAMP:20260424T062436
CREATED:20210122T040607Z
LAST-MODIFIED:20210122T040612Z
UID:2063-1611424800-1611428400@www.jasnanorcal.org
SUMMARY:Jane Austen at Home by Lucy Worsley
DESCRIPTION:Lucy Worsley paints a vivid picture of her favourite author\, Jane Austen. Through the houses\, places and possessions which mattered to her\, Lucy takes a fascinating look at Jane Austen’s world\, considers what home meant to Jane and to the women like her who populate her novels. Dispelling the myth of the cynical\, lonely spinster\, Lucy instead offers us a witty\, passionate and courageous woman\, who\, in her quiet way\, changed the world.
URL:https://www.jasnanorcal.org/event/jane-austen-at-home-by-lucy-worsley
LOCATION:Online
END:VEVENT
END:VCALENDAR