BEGIN:VCALENDAR
VERSION:2.0
PRODID:-//JASNA NorCal - ECPv6.15.20//NONSGML v1.0//EN
CALSCALE:GREGORIAN
METHOD:PUBLISH
X-WR-CALNAME:JASNA NorCal
X-ORIGINAL-URL:https://www.jasnanorcal.org
X-WR-CALDESC:Events for JASNA NorCal
REFRESH-INTERVAL;VALUE=DURATION:PT1H
X-Robots-Tag:noindex
X-PUBLISHED-TTL:PT1H
BEGIN:VTIMEZONE
TZID:America/New_York
BEGIN:DAYLIGHT
TZOFFSETFROM:-0500
TZOFFSETTO:-0400
TZNAME:EDT
DTSTART:20190310T070000
END:DAYLIGHT
BEGIN:STANDARD
TZOFFSETFROM:-0400
TZOFFSETTO:-0500
TZNAME:EST
DTSTART:20191103T060000
END:STANDARD
BEGIN:DAYLIGHT
TZOFFSETFROM:-0500
TZOFFSETTO:-0400
TZNAME:EDT
DTSTART:20200308T070000
END:DAYLIGHT
BEGIN:STANDARD
TZOFFSETFROM:-0400
TZOFFSETTO:-0500
TZNAME:EST
DTSTART:20201101T060000
END:STANDARD
BEGIN:DAYLIGHT
TZOFFSETFROM:-0500
TZOFFSETTO:-0400
TZNAME:EDT
DTSTART:20210314T070000
END:DAYLIGHT
BEGIN:STANDARD
TZOFFSETFROM:-0400
TZOFFSETTO:-0500
TZNAME:EST
DTSTART:20211107T060000
END:STANDARD
END:VTIMEZONE
BEGIN:VTIMEZONE
TZID:America/Los_Angeles
BEGIN:DAYLIGHT
TZOFFSETFROM:-0800
TZOFFSETTO:-0700
TZNAME:PDT
DTSTART:20190310T100000
END:DAYLIGHT
BEGIN:STANDARD
TZOFFSETFROM:-0700
TZOFFSETTO:-0800
TZNAME:PST
DTSTART:20191103T090000
END:STANDARD
BEGIN:DAYLIGHT
TZOFFSETFROM:-0800
TZOFFSETTO:-0700
TZNAME:PDT
DTSTART:20200308T100000
END:DAYLIGHT
BEGIN:STANDARD
TZOFFSETFROM:-0700
TZOFFSETTO:-0800
TZNAME:PST
DTSTART:20201101T090000
END:STANDARD
BEGIN:DAYLIGHT
TZOFFSETFROM:-0800
TZOFFSETTO:-0700
TZNAME:PDT
DTSTART:20210314T100000
END:DAYLIGHT
BEGIN:STANDARD
TZOFFSETFROM:-0700
TZOFFSETTO:-0800
TZNAME:PST
DTSTART:20211107T090000
END:STANDARD
END:VTIMEZONE
BEGIN:VTIMEZONE
TZID:Europe/London
BEGIN:DAYLIGHT
TZOFFSETFROM:+0000
TZOFFSETTO:+0100
TZNAME:BST
DTSTART:20190331T010000
END:DAYLIGHT
BEGIN:STANDARD
TZOFFSETFROM:+0100
TZOFFSETTO:+0000
TZNAME:GMT
DTSTART:20191027T010000
END:STANDARD
BEGIN:DAYLIGHT
TZOFFSETFROM:+0000
TZOFFSETTO:+0100
TZNAME:BST
DTSTART:20200329T010000
END:DAYLIGHT
BEGIN:STANDARD
TZOFFSETFROM:+0100
TZOFFSETTO:+0000
TZNAME:GMT
DTSTART:20201025T010000
END:STANDARD
BEGIN:DAYLIGHT
TZOFFSETFROM:+0000
TZOFFSETTO:+0100
TZNAME:BST
DTSTART:20210328T010000
END:DAYLIGHT
BEGIN:STANDARD
TZOFFSETFROM:+0100
TZOFFSETTO:+0000
TZNAME:GMT
DTSTART:20211031T010000
END:STANDARD
END:VTIMEZONE
BEGIN:VTIMEZONE
TZID:Pacific/Honolulu
BEGIN:STANDARD
TZOFFSETFROM:-1000
TZOFFSETTO:-1000
TZNAME:HST
DTSTART:20190101T000000
END:STANDARD
END:VTIMEZONE
BEGIN:VEVENT
DTSTART;TZID=America/New_York:20201105T180000
DTEND;TZID=America/New_York:20201105T200000
DTSTAMP:20260425T070013
CREATED:20201029T234739Z
LAST-MODIFIED:20201029T234743Z
UID:1867-1604599200-1604606400@www.jasnanorcal.org
SUMMARY:Great Books Forum: Pride and Prejudice
DESCRIPTION:Topie: Pride and Prejudice\, led by Professor Jina Lee \n\n\n\nThe Great Books Forum offers an opportunity to encounter classic and modern literature in company with interested readers from the college and the community. Along with the works themselves\, discussions focus on issues of context and interpretation. The theme for Fall 2020 is The Novels of Jane Austen. Email james.werner@sunywcc.edu for access information.
URL:https://www.jasnanorcal.org/event/great-books-forum-pride-and-prejudice
LOCATION:Online: Zoom
END:VEVENT
BEGIN:VEVENT
DTSTART;TZID=America/Los_Angeles:20201105T170000
DTEND;TZID=America/Los_Angeles:20201105T180000
DTSTAMP:20260425T070013
CREATED:20200920T015242Z
LAST-MODIFIED:20201014T002526Z
UID:1715-1604595600-1604599200@www.jasnanorcal.org
SUMMARY:History Happy Hour: Life\, Death\, and Locks of Hair
DESCRIPTION:During the nineteenth century\, people across the United States collected\, exchanged\, and displayed locks of hair. Jewelry made from human hair is the most familiar form of hair collecting\, in part because many of these pieces have been preserved in archives and historic homes like the Camron-Stanford House. Yet nineteenth-century Americans kept locks of hair in a wide variety of ways. Severed braids\, curls\, and strands were tucked in letters and sent through the mail\, saved in specialized albums\, and thrust into the hands of loved ones just before death. Although this practice is often associated with white\, middle-class men and women\, the emotional meanings carried by locks of hair were broadly shared by Americans from different regions\, class backgrounds\, racial groups\, and religious traditions.
URL:https://www.jasnanorcal.org/event/history-happy-hour-life-death-and-locks-of-hair
END:VEVENT
BEGIN:VEVENT
DTSTART;TZID=America/New_York:20201105T170000
DTEND;TZID=America/New_York:20201105T183000
DTSTAMP:20260425T070013
CREATED:20200920T001917Z
LAST-MODIFIED:20201014T002846Z
UID:1697-1604595600-1604601000@www.jasnanorcal.org
SUMMARY:Gardening with Jane Austen
DESCRIPTION:Kim Wilson (author of In the Garden with Jane Austen) will speak about gardens and growing in the Regency period.
URL:https://www.jasnanorcal.org/event/gardening-with-jane-austen
END:VEVENT
BEGIN:VEVENT
DTSTART;TZID=Europe/London:20201031T190000
DTEND;TZID=Europe/London:20201031T200000
DTSTAMP:20260425T070013
CREATED:20201021T014907Z
LAST-MODIFIED:20201021T014911Z
UID:1830-1604170800-1604174400@www.jasnanorcal.org
SUMMARY:Tales of Terror! Gothic Tales by the Virtual Fireside
DESCRIPTION:The final night is a dramatic reading of Mary Shelley’s little-known novella Mathilda. Although written between August 1819 and February 1820\, the subject matter was so controversial that it was not published until 1959. It tells the story of Mathilda\, a young woman desperately in love with a gifted young poet\, Woodville\, from whom she hides the shameful secret of her father’s incestuous love.
URL:https://www.jasnanorcal.org/event/tales-of-terror-gothic-tales-by-the-virtual-fireside
LOCATION:Online
END:VEVENT
BEGIN:VEVENT
DTSTART;TZID=America/New_York:20201031T130000
DTEND;TZID=America/New_York:20201031T130000
DTSTAMP:20260425T070013
CREATED:20201028T005530Z
LAST-MODIFIED:20201028T005535Z
UID:1858-1604149200-1604149200@www.jasnanorcal.org
SUMMARY:Elections in Jane Austen's Time
DESCRIPTION:Talk by James F. Nagle\, JASNA Puget Sound region. As we approach our 2020 national election\, we should consider what elections were like in Jane Austen’s time: who could vote\, who they could vote for\, how campaigns were conducted\, how the voting actually happened\, what the major parties\, issues\, and personalities were that Jane would have been aware of. If you think our electoral process is confusing and complicated\, just see what it was like in Regency England! Email JasnaSWF@gmail.com for an invitation.
URL:https://www.jasnanorcal.org/event/elections-in-jane-austens-time
END:VEVENT
BEGIN:VEVENT
DTSTART;TZID=Europe/London:20201030T190000
DTEND;TZID=Europe/London:20201030T200000
DTSTAMP:20260425T070013
CREATED:20201021T014542Z
LAST-MODIFIED:20201021T015213Z
UID:1826-1604084400-1604088000@www.jasnanorcal.org
SUMMARY:Tales of Terror! Gothic Stories by the Virtual Fireside
DESCRIPTION:Night two is dedicated to Anne Radcliffe\, the most significant Gothic writer of the eighteenth century. Far from being a horror writer\, Radcliffe wished to terrify her readers and make them feel alive through her words. Her most famous work\, The Mysteries of Udolpho (1794) takes place in the sixteenth century in Southern France and tells the tale of orphaned Emily St Aubert\, imprisoned in a castle by her villainous uncle Montoni.
URL:https://www.jasnanorcal.org/event/tales-of-terror-gothic-stories-by-the-virtual-fireside-2
END:VEVENT
BEGIN:VEVENT
DTSTART;TZID=Europe/London:20201029T190000
DTEND;TZID=Europe/London:20201029T200000
DTSTAMP:20260425T070013
CREATED:20201021T013947Z
LAST-MODIFIED:20201021T015038Z
UID:1820-1603998000-1604001600@www.jasnanorcal.org
SUMMARY:Tales of Terror! Gothic Stories by the Virtual Fireside
DESCRIPTION:We begin our Gothic retellings with Hannah More’s poem Bishop Bonner’s Ghost whose ghoulish apparition passes judgment beyond the grave. The night continues with The Midnight Bell\, described as one of Jane Austen’s ‘horrid novels’ in Northanger Abbey. Each night a mysterious bell rings in the St Francis Abbey\, where a terrible murder took place years before…
URL:https://www.jasnanorcal.org/event/tales-of-terror-gothic-stories-by-the-virtual-fireside
END:VEVENT
BEGIN:VEVENT
DTSTART;TZID=America/New_York:20201027T190000
DTEND;TZID=America/New_York:20201027T203000
DTSTAMP:20260425T070013
CREATED:20201023T034421Z
LAST-MODIFIED:20201023T034424Z
UID:1840-1603825200-1603830600@www.jasnanorcal.org
SUMMARY:Frankenstein: A Life Zoom Performance
DESCRIPTION:Right in time for Halloween\, join Kentucky Shakespeare as they bring Mary Shelley’s Frankenstein to life in a live Zoom reading of this classic tale. Mary Wollstonecraft Shelley wrote and published Frankenstein during the Croghan’s occupancy of Locust Grove\, making this a perfect melding of worlds to mark the season.
URL:https://www.jasnanorcal.org/event/frankenstein-a-life-zoom-performance
LOCATION:Online: Zoom
END:VEVENT
BEGIN:VEVENT
DTSTART;TZID=America/Los_Angeles:20201025T150000
DTEND;TZID=America/Los_Angeles:20201025T150000
DTSTAMP:20260425T070013
CREATED:20201010T050929Z
LAST-MODIFIED:20201014T002930Z
UID:1752-1603638000-1603638000@www.jasnanorcal.org
SUMMARY:Pride & Pre-Existing Conditions: The Lamplighters Annual Champagne Gala
DESCRIPTION:This year\, Lamplighters brings our original musical directly to you! What happens when the Lamplighters’ Gala Committee takes a little bit of The Marvelous Mrs. Maisel\, a bit more of The Good Place\, adds the machinations of Pride and Prejudice\, then inserts Gilbert’s characters singing new lyrics to Sullivan’s music?
URL:https://www.jasnanorcal.org/event/pride-pre-existing-conditions-the-lamplighters-annual-champagne-gala
END:VEVENT
BEGIN:VEVENT
DTSTART;TZID=America/Los_Angeles:20201024T160000
DTEND;TZID=America/Los_Angeles:20201024T170000
DTSTAMP:20260425T070013
CREATED:20200922T234103Z
LAST-MODIFIED:20201014T005417Z
UID:1724-1603555200-1603558800@www.jasnanorcal.org
SUMMARY:Tea Time: "Northanger Abbey" Adaptations
DESCRIPTION:JASNA members: Check email for an invitation to this casual get-together.
URL:https://www.jasnanorcal.org/event/tea-time-northanger-abbey-adaptations
LOCATION:Online: Zoom
ORGANIZER;CN="JASNA NorCal":MAILTO:rc@jasnanorcal.org
END:VEVENT
BEGIN:VEVENT
DTSTART;TZID=America/Los_Angeles:20201024T140000
DTEND;TZID=America/Los_Angeles:20201024T153000
DTSTAMP:20260425T070013
CREATED:20201018T231949Z
LAST-MODIFIED:20201018T232135Z
UID:1814-1603548000-1603553400@www.jasnanorcal.org
SUMMARY:Mary Bennet's Surprising New Friend
DESCRIPTION:Just in time for the spooky season\, share in a book discussion of Pride and Prometheus by John Kessel. RC Jeanne Talbot of the JASNA San Diego region will lead the discussion about this book\, which blends aspects of Pride and Prejudice with Mary Shelley’s Frankenstein. Twelve years after the end of Austen’s tale\, Mary Bennet meets Victor Frankenstein and finds him strangely compelling. Karen Joy Fowler\, author of The Jane Austen Book Club\, calls it “dark and gripping.” You have been warned!This free event is for members only. To register\, please email your full name\, email address\, and Region to ashorago@gmail.com. Please note: the time listed is Pacific Time.
URL:https://www.jasnanorcal.org/event/mary-bennets-surprising-new-friend
LOCATION:Online: Zoom
END:VEVENT
BEGIN:VEVENT
DTSTART;TZID=America/New_York:20201020T170000
DTEND;TZID=America/New_York:20201020T183000
DTSTAMP:20260425T070013
CREATED:20200920T001624Z
LAST-MODIFIED:20201014T003526Z
UID:1695-1603213200-1603218600@www.jasnanorcal.org
SUMMARY:Reading with Jane Austen
DESCRIPTION:Susan Allen Ford (Delta State University) will talk to us about the books that Jane read and loved\, as well as reading practices in the Regency period. A Q&A will follow.
URL:https://www.jasnanorcal.org/event/reading-with-jane-austen
END:VEVENT
BEGIN:VEVENT
DTSTART;TZID=America/New_York:20201018T140000
DTEND;TZID=America/New_York:20201018T140000
DTSTAMP:20260425T070013
CREATED:20200930T012004Z
LAST-MODIFIED:20201014T003658Z
UID:1746-1603029600-1603029600@www.jasnanorcal.org
SUMMARY:Is Piano Your Forte?
DESCRIPTION:Why did Austen make music\, especially when played upon the pianoforte\, a star in so many scenes? Think of Jane Fairfax receiving an expensive instrument from a secret admirer\, or Mary Bennet trying to gain some importance by applying herself more assiduously than her prettier sisters. Join discussion leaders Elizabeth Paquette and Patti Woodall to explore this fascinating topic. Austen never wasted a word–those keyboards are in there for a reason! For information and to request the event code and password\, please contact etpaquette@att.net.
URL:https://www.jasnanorcal.org/event/is-piano-your-forte
END:VEVENT
BEGIN:VEVENT
DTSTART;TZID=Pacific/Honolulu:20201017T130000
DTEND;TZID=Pacific/Honolulu:20201017T130000
DTSTAMP:20260425T070013
CREATED:20200929T012907Z
LAST-MODIFIED:20201014T002708Z
UID:1733-1602939600-1602939600@www.jasnanorcal.org
SUMMARY:Discussion: "The Jane Austen Society" by Natalie Jenner
DESCRIPTION:JASNA Hawai’i invites members from other JASNA regions to join this Zoom discussion of Jenner’s recent novel. Contact the organizers for more details.
URL:https://www.jasnanorcal.org/event/discussion-the-jane-austen-society-by-natalie-jenner
ORGANIZER;CN="JASNA Hawai'i":MAILTO:jasnahawaii@jasnahawaii.org
END:VEVENT
BEGIN:VEVENT
DTSTART;TZID=America/New_York:20201010T140000
DTEND;TZID=America/New_York:20201010T150000
DTSTAMP:20260425T070013
CREATED:20200930T005652Z
LAST-MODIFIED:20200930T005740Z
UID:1741-1602338400-1602342000@www.jasnanorcal.org
SUMMARY:Play: Jane Austen at Prinny's Palace (Part 2)
DESCRIPTION:Please join us for an original play reading as part of the “Hearthside Reading Series” with Theater 20/20!  \n\n\n\nJane Austen at Prinny’s Palace is a comic exploration of the day Jane Austen was invited to the Royal Palace by Prince Regent for tour hosted by his overly admiring Royal Librarian\, James Stanier Clarke. Despite her distaste for the dissipated lifestyle of England’s soon to be Monarch\, this event marked the highest public distinction her work received during her lifetime. \n\n\n\nThis event will be shown in two parts\, each approximately 40 minutes in length. The first part will be shown on October 3rd at 2pm. This presentation will be hosted through Zoom. Registered participants will receive meeting details the day before the event. Please register for both events separately.
URL:https://www.jasnanorcal.org/event/play-jane-austen-at-prinnys-palace
END:VEVENT
BEGIN:VEVENT
DTSTART;TZID=America/Los_Angeles:20201010T110000
DTEND;TZID=America/Los_Angeles:20201010T110000
DTSTAMP:20260425T070013
CREATED:20200920T002645Z
LAST-MODIFIED:20201014T005526Z
UID:1701-1602327600-1602327600@www.jasnanorcal.org
SUMMARY:The Regency Revival: From Deco Greco to Hollywood Glam
DESCRIPTION:The classical elegance of the Regency period in England is considered one of the most sophisticated and refined moments in design history. Throughout the twentieth century\, designers took elements of the Regency vocabulary and restyled them to meld with the reigning aesthetic of the day. The effects proved extraordinary. Ms. Eerdmans will begin with an overview of the original Regency period\, which built its sophisticated aesthetic on the example of the Neoclassical style of Napoleon’s time\, then continue with the exemplary Art Deco designs of Emile-Jacques Ruhlmann and Süe et Mare in France. By the 1930s\, the Vogue Regency had returned home to England. There\, Sibyl Colefax and Syrie Maugham created stylized classical interiors whose novelty and theatricality influenced fashion and helped shape the design aesthetic of such contemporary fashion photographers as Cecil Beaton and Horst B. Horst. In America\, the Regency Revival took hold in Hollywood with the lavish film sets of the 1930s and 1940s created by great studio art directors such as Cedric Gibbons (MGM) and Van Nest Polglase (RKO). The popularity of films like Pride and Prejudice and The Scarlet Pimpernel further popularized the style. Designers and architects to the stars Billy Haines\, John Woolf and T.H. Robsjohn-Gibbings made their marks with work for the Hollywood elite. Our presentation will include interiors of the 1930s and 1940s\, when “Lady decorators” Dorothy Draper and Elsie de Wolfe set the trends and cut a stylish Regency-infused swath from coast to coast. Rounding out these vintage interiors will be the Regency inspired work of acclaimed contemporary designers Albert Hadley\, Jacques Grange\, William Diamond\, Anthony Baratta\, and Kelly Wearstler. Join us as we revel in this fascinating topic enlivened with a rich selection of images depicting period interiors\, film sets\, and furniture.
URL:https://www.jasnanorcal.org/event/the-regency-revival-from-deco-greco-to-hollywood-glam
LOCATION:Online: Zoom
END:VEVENT
BEGIN:VEVENT
DTSTART;TZID=America/New_York:20201009T190000
DTEND;TZID=America/New_York:20201011T170000
DTSTAMP:20260425T070013
CREATED:20200919T094440Z
LAST-MODIFIED:20201014T002758Z
UID:1677-1602270000-1602435600@www.jasnanorcal.org
SUMMARY:JASNA 2020 Virtual AGM
DESCRIPTION:Jane Austen’s Juvenilia: Reason\, Romanticism\, and Revolution\n\n\n\nJoin us in our virtual conference center\, where top Austen scholars and your JASNA friends will be waiting for you! This year’s Annual General Meeting will be a long-overdue exploration and celebration of Jane Austen’s youthful writings\, including her epistolary novel Lady Susan. Complementing the juvenilia content will be new takes on favorite AGM activities\, such as the Social Hour and Promenade\, and new features that take advantage of the capabilities of an online format.
URL:https://www.jasnanorcal.org/event/jasna-2020-virtual-agm
END:VEVENT
BEGIN:VEVENT
DTSTART;TZID=America/New_York:20201003T140000
DTEND;TZID=America/New_York:20201003T150000
DTSTAMP:20260425T070013
CREATED:20200930T005329Z
LAST-MODIFIED:20200930T005339Z
UID:1739-1601733600-1601737200@www.jasnanorcal.org
SUMMARY:Play: Jane Austen at Prinny's Palace (Part 1)
DESCRIPTION:Please join us for an original play reading as part of the “Heathside Reading Series” with Theater 20/20!  \n\n\n\nJane Austen at Prinny’s Palace is a comic exploration of the day Jane Austen was invited to the Royal Palace by Prince Regent for tour hosted by his overly admiring Royal Librarian\, James Stanier Clarke. Despite her distaste for the dissipated lifestyle of England’s soon to be Monarch\, this event marked the highest public distinction her work received during her lifetime. \n\n\n\nThis event will be shown in two parts\, each approximately 40 minutes in length. The second part will be shown on  October 10th at 2pm. This presentation will be hosted through Zoom. Registered participants will receive meeting details the day before the event. Please register for both events separately.
URL:https://www.jasnanorcal.org/event/play-jane-austen-at-prinnys-palace-part-1
END:VEVENT
BEGIN:VEVENT
DTSTART;TZID=America/New_York:20201001T193000
DTEND;TZID=America/New_York:20201001T210000
DTSTAMP:20260425T070013
CREATED:20200930T010051Z
LAST-MODIFIED:20200930T010101Z
UID:1744-1601580600-1601586000@www.jasnanorcal.org
SUMMARY:Country Dance Lore with Beverly Francis
DESCRIPTION:Beverly shares her considerable knowledge on the must-know customs of English country dancing in Austen’s time\, along with a few choice reflections on dancing in the film adaptations.
URL:https://www.jasnanorcal.org/event/country-dance-lore-with-beverly-francis
END:VEVENT
BEGIN:VEVENT
DTSTART;TZID=Europe/London:20200930T200000
DTEND;TZID=Europe/London:20200930T200000
DTSTAMP:20260425T070013
CREATED:20200924T042405Z
LAST-MODIFIED:20200924T042419Z
UID:1730-1601496000-1601496000@www.jasnanorcal.org
SUMMARY:Austen Wednesdays
DESCRIPTION:Introducing a new monthly series to programs on the Austen House Youtube channel\, this event features author Rachel Cohen (Austen Years\, A Memoir in Five Novels) in conversation with Jane Austen’s House Director\, Lizzie Dunford.
URL:https://www.jasnanorcal.org/event/austen-wednesdays
END:VEVENT
BEGIN:VEVENT
DTSTART;TZID=Europe/London:20200928T193000
DTEND;TZID=Europe/London:20201004T210000
DTSTAMP:20260425T070013
CREATED:20200929T013734Z
LAST-MODIFIED:20200929T013923Z
UID:1735-1601321400-1601845200@www.jasnanorcal.org
SUMMARY:Rediscovering Jane Austen at the BRLSI
DESCRIPTION:An online celebration sponsored by the Bath Royal Literary and Scientific Institution\, exploring  the world of Jane Austen and her Writing in a Week of Live Talks\, Videos\, Music\, Dance\, Readings and Even a Quiz!
URL:https://www.jasnanorcal.org/event/rediscovering-jane-austen-at-the-brlsi
END:VEVENT
BEGIN:VEVENT
DTSTART;TZID=America/Los_Angeles:20200927T150000
DTEND;TZID=America/Los_Angeles:20200927T160000
DTSTAMP:20260425T070013
CREATED:20200922T233501Z
LAST-MODIFIED:20200922T233518Z
UID:1721-1601218800-1601222400@www.jasnanorcal.org
SUMMARY:Summer Regency Sew-A-Long Show and Tell
DESCRIPTION:Did you make an outfit or accessory this summer? Did you get started and not have time to finish? Maybe you just finally mended something. Whatever it may be\, please join us for a “sew-and-tell.” JASNA members: check your email for an invitation.
URL:https://www.jasnanorcal.org/event/summer-regency-sew-a-long-show-and-tell
END:VEVENT
BEGIN:VEVENT
DTSTART;TZID=America/Los_Angeles:20200926T160000
DTEND;TZID=America/Los_Angeles:20200926T171500
DTSTAMP:20260425T070013
CREATED:20200920T003653Z
LAST-MODIFIED:20200920T003702Z
UID:1704-1601136000-1601140500@www.jasnanorcal.org
SUMMARY:For the Love of Austen
DESCRIPTION:Replay of the July 25th program\, a pre-recorded chat with four JAFF authors. Email jasna.grsac@gmail.com for an invitation to this Zoom event.
URL:https://www.jasnanorcal.org/event/for-the-love-of-austen
END:VEVENT
BEGIN:VEVENT
DTSTART;TZID=America/New_York:20200926T140000
DTEND;TZID=America/New_York:20200926T163000
DTSTAMP:20260425T070013
CREATED:20200920T014338Z
LAST-MODIFIED:20200920T014351Z
UID:1713-1601128800-1601137800@www.jasnanorcal.org
SUMMARY:Who wore what\, where\, and when
DESCRIPTION:Speaker: Alden O’Brien\,DAR Museum Curator of Costumes and Textiles \n\n\n\nAmericans copied European fashion to different degrees. Fashionable urban elites had the means to imitate the styles of London and Paris\, but how were more extreme styles received? Fashion news reached small towns and rural areas\, but were women there able and ambitious to follow it closely? What if your religion distrusted the vanity of fashion? How far behind the times\, and how dependent on “homespun\,” were those on the frontier? Who wore what\, where\, and when?
URL:https://www.jasnanorcal.org/event/who-wore-what-where-and-when
END:VEVENT
BEGIN:VEVENT
DTSTART;TZID=Europe/London:20200924T190000
DTEND;TZID=Europe/London:20200924T193000
DTSTAMP:20260425T070013
CREATED:20200920T005742Z
LAST-MODIFIED:20200920T005753Z
UID:1711-1600974000-1600975800@www.jasnanorcal.org
SUMMARY:Gender Rebels: Author Talk with Anneka Harry
DESCRIPTION:Anneka Harry\, author of the brilliant new non-fiction book Gender Rebels\, is recording a special talk exclusively for Chawton House\, premiering on our Youtube channel. With chapters on the female soldier Hannah Snell\, pirates Anne Bonny and Mary Read\, French novelist George Sand and the Bronte sisters (all of whom feature in our 2020 exhibition\, Man Up!) there’s plenty to get excited about. If you have any questions for Anneka you want to ask beforehand\, please send them to info@chawtonhouse. \n\n\n\n\n\n£5
URL:https://www.jasnanorcal.org/event/gender-rebels-author-talk-with-anneka-harry
END:VEVENT
BEGIN:VEVENT
DTSTART;TZID=America/Los_Angeles:20200920T140000
DTEND;TZID=America/Los_Angeles:20200920T140000
DTSTAMP:20260425T070013
CREATED:20200921T005605Z
LAST-MODIFIED:20200921T005621Z
UID:1717-1600610400-1600610400@www.jasnanorcal.org
SUMMARY:Jane Austen's Juvenalia: "Wicked Funny"
DESCRIPTION:Come experience the drama and humor of Jane Austen’s Juvenilia as we read “Wicked Funny”\, an original play adapted by Michele Larrow from three of the stories in the Juvenilia. The play lasts about 30 minutes and highlights the genius and most humorous aspects of each story\, while maintaining the narrative. After the reading we will have a discussion of the three works: “The Three Sisters\,” “Jack and Alice\,” and “Love and Freindship” using breakout sessions depending on the size of the audience.
URL:https://www.jasnanorcal.org/event/jane-austens-juvenalia-wicked-funny
END:VEVENT
BEGIN:VEVENT
DTSTART;TZID=America/Los_Angeles:20200920T140000
DTEND;TZID=America/Los_Angeles:20200920T140000
DTSTAMP:20260425T070013
CREATED:20200919T100054Z
LAST-MODIFIED:20200919T102335Z
UID:1683-1600610400-1600610400@www.jasnanorcal.org
SUMMARY:JASNA Puget Sound Meeting
DESCRIPTION:Author Rachel Cohen will regale us with a reading and discussion about her recently published book: Austen Years: A Memoir in 5 Novels. Rachel read almost nothing but Jane Austen’s novels for several years during a time of life-changing events and she drew deep insights from the books that were illuminated by her personal experiences. \n\n\n\n\n\n\n\n\n\nhttps://www.austenps.com/program-of-events
URL:https://www.jasnanorcal.org/event/jasna-puget-sound-meeting
END:VEVENT
BEGIN:VEVENT
DTSTART;TZID=America/Los_Angeles:20200920T110000
DTEND;TZID=America/Los_Angeles:20200920T121500
DTSTAMP:20260425T070013
CREATED:20200919T100748Z
LAST-MODIFIED:20200919T102416Z
UID:1685-1600599600-1600604100@www.jasnanorcal.org
SUMMARY:JASNA Southwest Region Meeting
DESCRIPTION:Author Karen Joy Fowler will give a talk on “Emma and Austen’s Hidden Gothics.” 
URL:https://www.jasnanorcal.org/event/jasna-southwest-region-meeting
END:VEVENT
END:VCALENDAR