BEGIN:VCALENDAR
VERSION:2.0
PRODID:-//JASNA NorCal - ECPv6.15.20//NONSGML v1.0//EN
CALSCALE:GREGORIAN
METHOD:PUBLISH
X-WR-CALNAME:JASNA NorCal
X-ORIGINAL-URL:https://www.jasnanorcal.org
X-WR-CALDESC:Events for JASNA NorCal
REFRESH-INTERVAL;VALUE=DURATION:PT1H
X-Robots-Tag:noindex
X-PUBLISHED-TTL:PT1H
BEGIN:VTIMEZONE
TZID:America/Los_Angeles
BEGIN:DAYLIGHT
TZOFFSETFROM:-0800
TZOFFSETTO:-0700
TZNAME:PDT
DTSTART:20220313T100000
END:DAYLIGHT
BEGIN:STANDARD
TZOFFSETFROM:-0700
TZOFFSETTO:-0800
TZNAME:PST
DTSTART:20221106T090000
END:STANDARD
BEGIN:DAYLIGHT
TZOFFSETFROM:-0800
TZOFFSETTO:-0700
TZNAME:PDT
DTSTART:20230312T100000
END:DAYLIGHT
BEGIN:STANDARD
TZOFFSETFROM:-0700
TZOFFSETTO:-0800
TZNAME:PST
DTSTART:20231105T090000
END:STANDARD
BEGIN:DAYLIGHT
TZOFFSETFROM:-0800
TZOFFSETTO:-0700
TZNAME:PDT
DTSTART:20240310T100000
END:DAYLIGHT
BEGIN:STANDARD
TZOFFSETFROM:-0700
TZOFFSETTO:-0800
TZNAME:PST
DTSTART:20241103T090000
END:STANDARD
BEGIN:DAYLIGHT
TZOFFSETFROM:-0800
TZOFFSETTO:-0700
TZNAME:PDT
DTSTART:20250309T100000
END:DAYLIGHT
BEGIN:STANDARD
TZOFFSETFROM:-0700
TZOFFSETTO:-0800
TZNAME:PST
DTSTART:20251102T090000
END:STANDARD
END:VTIMEZONE
BEGIN:VEVENT
DTSTART;TZID=America/Los_Angeles:20240928T100000
DTEND;TZID=America/Los_Angeles:20240928T160000
DTSTAMP:20260423T163920
CREATED:20240928T170021Z
LAST-MODIFIED:20240816T195145Z
UID:5747-1727517600-1727539200@www.jasnanorcal.org
SUMMARY:JASNA Greater Sacramento Region Book Sale
DESCRIPTION:260 items including annotated versions of Austen’s 6 novels\, the Juvenilia\, and also her books completed by others. Contact jasna.grsac@gmail.com for inquiries and location of private home.
URL:https://www.jasnanorcal.org/event/jasna-greater-sacramento-region-book-sale
END:VEVENT
BEGIN:VEVENT
DTSTART;TZID=America/Los_Angeles:20240928T100000
DTEND;TZID=America/Los_Angeles:20240928T160000
DTSTAMP:20260423T163920
CREATED:20240816T195600Z
LAST-MODIFIED:20240816T195600Z
UID:5750-1727517600-1727539200@www.jasnanorcal.org
SUMMARY:JASNA Greater Sacramento Region Book Sale
DESCRIPTION:260 items including annotated versions of Austen’s 6 novels\, the Juvenilia\, and also her books completed by others. Contact jasna.grsac@gmail.com for inquiries and location of private home.
URL:https://www.jasnanorcal.org/event/jasna-greater-sacramento-region-book-sale-2
END:VEVENT
BEGIN:VEVENT
DTSTART;TZID=America/Los_Angeles:20240922T140000
DTEND;TZID=America/Los_Angeles:20240922T160000
DTSTAMP:20260423T163920
CREATED:20240816T195927Z
LAST-MODIFIED:20240816T195927Z
UID:5752-1727013600-1727020800@www.jasnanorcal.org
SUMMARY:JASNA Greater Sacramento Region Presents Gretna Green Presentation with Madeline Yanov
DESCRIPTION:Members are invited to attend our Quarterly Meeting. Genealogist Madeline Yanov will be our guest speaker\, presenting on Gretna Green and the English Marriage Act. Her discussion will also cover societal constraints faced by young single women\, as well as English engagements and elopements\, themes prevalent in Jane Austen’s novels. \n\n\n\nZoom details will be provided to members closer to the event date.
URL:https://www.jasnanorcal.org/event/jasna-greater-sacramento-region-presents-gretna-green-presentation-with-madeline-yanov
END:VEVENT
BEGIN:VEVENT
DTSTART;TZID=America/Los_Angeles:20240915T130000
DTEND;TZID=America/Los_Angeles:20240915T143000
DTSTAMP:20260423T163920
CREATED:20240816T192131Z
LAST-MODIFIED:20240816T192131Z
UID:5734-1726405200-1726410600@www.jasnanorcal.org
SUMMARY:JASNA NorCal Presents The Love and Lore of the Seaside in Jane Austen’s Time (Zoom)
DESCRIPTION:Award-winning novelist Julie Klassen will present highlights from her research into English seaside resorts and bathing customs of the Regency era. https://www.brownpapertickets.com/event/6391064
URL:https://www.jasnanorcal.org/event/jasna-norcal-presents-the-love-and-lore-of-the-seaside-in-jane-austens-time-zoom
END:VEVENT
BEGIN:VEVENT
DTSTART;TZID=America/Los_Angeles:20240914T130000
DTEND;TZID=America/Los_Angeles:20240914T143000
DTSTAMP:20260423T163920
CREATED:20240816T192828Z
LAST-MODIFIED:20240816T192828Z
UID:5740-1726318800-1726324200@www.jasnanorcal.org
SUMMARY:JASNA Central California Presents  Discussion of Selected Austen Juvenilia
DESCRIPTION:Summer reading program Fresno Area Public Library TBA
URL:https://www.jasnanorcal.org/event/jasna-central-california-presents-discussion-of-selected-austen-juvenilia
END:VEVENT
BEGIN:VEVENT
DTSTART;TZID=America/Los_Angeles:20240910T183000
DTEND;TZID=America/Los_Angeles:20240910T200000
DTSTAMP:20260423T163920
CREATED:20231224T015719Z
LAST-MODIFIED:20240506T173801Z
UID:5580-1725993000-1725998400@www.jasnanorcal.org
SUMMARY:JASNA NorCal Virtual Book Group
DESCRIPTION:What Jane Austen’s Characters Read (and Why) (2024)\, Susan Allen Ford
URL:https://www.jasnanorcal.org/event/jasna-norcal-virtual-book-group-6
END:VEVENT
BEGIN:VEVENT
DTSTART;TZID=America/Los_Angeles:20240907T090000
DTEND;TZID=America/Los_Angeles:20240907T130000
DTSTAMP:20260423T163920
CREATED:20240816T194013Z
LAST-MODIFIED:20240816T194013Z
UID:5745-1725699600-1725714000@www.jasnanorcal.org
SUMMARY:JASNA Southwest “Golden Threads: Richardson\, Bage\, Austen and Bronte”
DESCRIPTION:Registration deadline August 24. Cal State Universit\, Dominquez Hills
URL:https://www.jasnanorcal.org/event/jasna-southwest-golden-threads-richardson-bage-austen-and-bronte
END:VEVENT
BEGIN:VEVENT
DTSTART;TZID=America/Los_Angeles:20240818T140000
DTEND;TZID=America/Los_Angeles:20240818T160000
DTSTAMP:20260423T163920
CREATED:20240816T193506Z
LAST-MODIFIED:20240816T193506Z
UID:5743-1723989600-1723996800@www.jasnanorcal.org
SUMMARY:Maryland Region: Amanda Fagan Austen-Inspired Musical Performance (VIRTUAL)
DESCRIPTION:https://us02web.zoom.us/meeting/register/tZAqc-qtqj8tHNWBEhcphjQJt1Nd28WrT0N6#/registration
URL:https://www.jasnanorcal.org/event/maryland-region-amanda-fagan-austen-inspired-musical-performance-virtual
END:VEVENT
BEGIN:VEVENT
DTSTART;TZID=America/Los_Angeles:20240814T160000
DTEND;TZID=America/Los_Angeles:20240814T160000
DTSTAMP:20260423T163920
CREATED:20240719T012607Z
LAST-MODIFIED:20240719T012607Z
UID:5712-1723651200-1723651200@www.jasnanorcal.org
SUMMARY:Westhampton Free Library Virtual Jane Austen Book Club
DESCRIPTION:Authors Audrey Bellezza and Emily  Harding give Pride and Prejudice a fresh and funny spin in Elizabeth of East Hampton. \n\n\n\n \n\n\n\nRegistration: https://westhamptonlibrary.librarymarket.com/event/jane-austen-book-club-56763
URL:https://www.jasnanorcal.org/event/westhampton-free-library-virtual-jane-austen-book-club
END:VEVENT
BEGIN:VEVENT
DTSTART;TZID=America/Los_Angeles:20240813T183000
DTEND;TZID=America/Los_Angeles:20240813T200000
DTSTAMP:20260423T163920
CREATED:20231224T015514Z
LAST-MODIFIED:20240506T173917Z
UID:5578-1723573800-1723579200@www.jasnanorcal.org
SUMMARY:JASNA NorCal Virtual Book Group
DESCRIPTION:Austenland: A Novel (2008)\,Shannon Hale (PB)
URL:https://www.jasnanorcal.org/event/jasna-norcal-virtual-book-group-5
END:VEVENT
BEGIN:VEVENT
DTSTART;TZID=America/Los_Angeles:20240803T130000
DTEND;TZID=America/Los_Angeles:20240803T143000
DTSTAMP:20260423T163920
CREATED:20240506T174941Z
LAST-MODIFIED:20240506T174941Z
UID:5666-1722690000-1722695400@www.jasnanorcal.org
SUMMARY:JASNA Central presents: Summer Meeting Juvenilia
DESCRIPTION:Selected Juvenilia\, Fresno Library https://jasnacentralcalifornia.wordpress.com/calendar-of-events/
URL:https://www.jasnanorcal.org/event/jasna-central-presents-summer-meeting-juvenilia
END:VEVENT
BEGIN:VEVENT
DTSTART;TZID=America/Los_Angeles:20240709T183000
DTEND;TZID=America/Los_Angeles:20240709T200000
DTSTAMP:20260423T163920
CREATED:20231224T015135Z
LAST-MODIFIED:20231224T015138Z
UID:5573-1720549800-1720555200@www.jasnanorcal.org
SUMMARY:JASNA NorCal Virtual Book Group
DESCRIPTION:Jane Austen and the Price of Happiness\, Inger S. B. Brodey
URL:https://www.jasnanorcal.org/event/jasna-norcal-virtual-book-group-4
END:VEVENT
BEGIN:VEVENT
DTSTART;TZID=America/Los_Angeles:20240611T183000
DTEND;TZID=America/Los_Angeles:20240611T200000
DTSTAMP:20260423T163920
CREATED:20231224T014926Z
LAST-MODIFIED:20240506T174021Z
UID:5571-1718130600-1718136000@www.jasnanorcal.org
SUMMARY:JASNA NorCal Virtual Book Group
DESCRIPTION:Relative Strangers (2024)\, A. H. Kim (PB)
URL:https://www.jasnanorcal.org/event/jasna-norcal-virtual-book-group-3
END:VEVENT
BEGIN:VEVENT
DTSTART;TZID=America/Los_Angeles:20240601T140000
DTEND;TZID=America/Los_Angeles:20240601T140000
DTSTAMP:20260423T163920
CREATED:20240506T180735Z
LAST-MODIFIED:20240506T180735Z
UID:5674-1717250400-1717250400@www.jasnanorcal.org
SUMMARY:Central Virgina Region: A New Jane Austen (VIRTUAL)
DESCRIPTION:Juliette Wells of Goucher College about her latest book\, A New Jane Austen: How America Brought Us the World’s Greatest Novelist. The presentation will also include a sneak preview of a very exciting Austen exhibition opening in June 2025 at the Morgan Library & Museum in New York\, for which Wells is the guest co-curator. Register via email JASNACENVA@gmail.com by Friday\, May 24\, 2024\, 
URL:https://www.jasnanorcal.org/event/central-virgina-region-a-new-jane-austen-virtual
END:VEVENT
BEGIN:VEVENT
DTSTART;TZID=America/Los_Angeles:20240515T113000
DTEND;TZID=America/Los_Angeles:20240516T010000
DTSTAMP:20260423T163920
CREATED:20240506T175933Z
LAST-MODIFIED:20240506T175933Z
UID:5672-1715772600-1715821200@www.jasnanorcal.org
SUMMARY:Jane Austen’s House Museum and the Brontë Parsonage Museum | Lizzie Dunford and Ann Dinsdale
DESCRIPTION:Lizzie Dunford and Ann Dinsdale\, principal curators for the Jane Austen House and the Brontë Parsonage respectively\, will join Jane Austen & Co. for an interactive discussion centered on the historic homes of these celebrated women writers.  Free or donation. https://www.janeaustenandco.org/event-details/jane-austens-house-museum-and-the-bronte-parsonage-museum-lizzie-dunford-and-ann-dinsdale
URL:https://www.jasnanorcal.org/event/jane-austens-house-museum-and-the-bronte-parsonage-museum-lizzie-dunford-and-ann-dinsdale
END:VEVENT
BEGIN:VEVENT
DTSTART;TZID=America/Los_Angeles:20240514T183000
DTEND;TZID=America/Los_Angeles:20240514T200000
DTSTAMP:20260423T163920
CREATED:20231224T014722Z
LAST-MODIFIED:20231224T014724Z
UID:5569-1715711400-1715716800@www.jasnanorcal.org
SUMMARY:JASNA NorCal Virtual Book Club
DESCRIPTION:The Jane Austen Remedy\, Ruth Wilson
URL:https://www.jasnanorcal.org/event/jasna-norcal-virtual-book-club
END:VEVENT
BEGIN:VEVENT
DTSTART;TZID=America/Los_Angeles:20240409T183000
DTEND;TZID=America/Los_Angeles:20240409T200000
DTSTAMP:20260423T163920
CREATED:20231224T014305Z
LAST-MODIFIED:20231224T014630Z
UID:5567-1712687400-1712692800@www.jasnanorcal.org
SUMMARY:JASNA NorCal Virtual Book Group
DESCRIPTION:A New Jane Austen: How Americans Brought Us the World’s Greatest Novelist\, Juliette Wells
URL:https://www.jasnanorcal.org/event/jasna-norcal-virtual-book-group-2
END:VEVENT
BEGIN:VEVENT
DTSTART;TZID=America/Los_Angeles:20240312T183000
DTEND;TZID=America/Los_Angeles:20240312T200000
DTSTAMP:20260423T163920
CREATED:20231224T013942Z
LAST-MODIFIED:20231224T014100Z
UID:5564-1710268200-1710273600@www.jasnanorcal.org
SUMMARY:JASNA NorCal Virtual Book Group
DESCRIPTION: Her Own Happiness\, Eden Appiah-Kubi
URL:https://www.jasnanorcal.org/event/jasna-norcal-virtual-book-group
END:VEVENT
BEGIN:VEVENT
DTSTART;TZID=America/Los_Angeles:20240224T080000
DTEND;TZID=America/Los_Angeles:20240224T170000
DTSTAMP:20260423T163920
CREATED:20231224T021644Z
LAST-MODIFIED:20231224T021646Z
UID:5590-1708761600-1708794000@www.jasnanorcal.org
SUMMARY:JASNA Southwest presents Jane Austen in American Periodicals: Highlights of the First Hundred Years
DESCRIPTION:Time and place TBD
URL:https://www.jasnanorcal.org/event/jasna-southwest-presents-jane-austen-in-american-periodicals-highlights-of-the-first-hundred-years
END:VEVENT
BEGIN:VEVENT
DTSTART;TZID=America/Los_Angeles:20240213T183000
DTEND;TZID=America/Los_Angeles:20240213T200000
DTSTAMP:20260423T163920
CREATED:20240125T235800Z
LAST-MODIFIED:20240125T235804Z
UID:5637-1707849000-1707854400@www.jasnanorcal.org
SUMMARY:JASNA NorCal virtually presents: Valentine's Eve with Jane Austen
DESCRIPTION:Celebrate Valentine’s Eve by joining other NorCal Janeites to watch proposal scenes from various cinematic realizations of Jane Austen’s novels\, then share in a lively discussion. In the novels\, the proposal scenes are brief\, asking the reader to fill in the details. How do the film scenes match your imagined ones?
URL:https://www.jasnanorcal.org/event/jasna-norcal-virtually-presents-valentines-eve-with-jane-austen
END:VEVENT
BEGIN:VEVENT
DTSTART;TZID=America/Los_Angeles:20240213T183000
DTEND;TZID=America/Los_Angeles:20240213T200000
DTSTAMP:20260423T163920
CREATED:20240112T051228Z
LAST-MODIFIED:20240112T051231Z
UID:5613-1707849000-1707854400@www.jasnanorcal.org
SUMMARY:JASNA NorCal Presents: Austen's Romance: Through the Camera Lens (a virtual Valentine)
DESCRIPTION:Join JASNA NorCal for a special Valentine’s event highlighting a survey of romantic scenes from film adaptations.
URL:https://www.jasnanorcal.org/event/jasna-norcal-presents-austens-romance-through-the-camera-lens-a-virtual-valentine
END:VEVENT
BEGIN:VEVENT
DTSTART;TZID=America/Los_Angeles:20240211T140000
DTEND;TZID=America/Los_Angeles:20240211T140000
DTSTAMP:20260423T163920
CREATED:20231224T024646Z
LAST-MODIFIED:20231224T024810Z
UID:5600-1707660000-1707660000@www.jasnanorcal.org
SUMMARY:A Day of Beauty - Regency Style!
DESCRIPTION:JASNA Puget Sound Region in person or zoom event \n\n\n\n\nhttps://www.austenps.com/program-of-events
URL:https://www.jasnanorcal.org/event/a-day-of-beauty-regency-style
END:VEVENT
BEGIN:VEVENT
DTSTART;TZID=America/Los_Angeles:20240203T120000
DTEND;TZID=America/Los_Angeles:20240203T150000
DTSTAMP:20260423T163920
CREATED:20231224T025417Z
LAST-MODIFIED:20231224T025421Z
UID:5603-1706961600-1706972400@www.jasnanorcal.org
SUMMARY:Jane Austen Tea ~ “Ardently in Love” with Austen\, a Valentine’s theme
DESCRIPTION:Greater Sacramento Region JASNA \n\n\n\n\n\n\nJane Austen Tea ~ “Ardently in Love” with Austen\, a Valentine’s theme
URL:https://www.jasnanorcal.org/event/jane-austen-tea-ardently-in-love-with-austen-a-valentines-theme
END:VEVENT
BEGIN:VEVENT
DTSTART;TZID=America/Los_Angeles:20240127T130000
DTEND;TZID=America/Los_Angeles:20240127T150000
DTSTAMP:20260423T163920
CREATED:20240126T000320Z
LAST-MODIFIED:20240126T000323Z
UID:5639-1706360400-1706367600@www.jasnanorcal.org
SUMMARY:JASNA Central California Austen Book Discussion: Mansfield Park (in person)
DESCRIPTION:
URL:https://www.jasnanorcal.org/event/jasna-central-california-austen-book-discussion-mansfield-park-in-person
END:VEVENT
BEGIN:VEVENT
DTSTART;TZID=America/Los_Angeles:20240117T000000
DTEND;TZID=America/Los_Angeles:20240117T235959
DTSTAMP:20260423T163920
CREATED:20231224T024136Z
LAST-MODIFIED:20231224T024139Z
UID:5598-1705449600-1705535999@www.jasnanorcal.org
SUMMARY:Jane Austen Online - Oxford Continuing Ed
DESCRIPTION:Multi session class to April 5 \n\n\n\n\nhttps://www.conted.ox.ac.uk/courses/jane-austen-online
URL:https://www.jasnanorcal.org/event/jane-austen-online-oxford-continuing-ed
END:VEVENT
BEGIN:VEVENT
DTSTART;TZID=America/Los_Angeles:20240114T000000
DTEND;TZID=America/Los_Angeles:20240114T235959
DTSTAMP:20260423T163920
CREATED:20231224T023316Z
LAST-MODIFIED:20231224T023433Z
UID:5594-1705190400-1705276799@www.jasnanorcal.org
SUMMARY:Cambridge University Online Course - Jane Austen: Women and Society Course 2024
DESCRIPTION:Five sessions  \n\n\n\nhttps://www.literaturecambridge.co.uk/austen-2024
URL:https://www.jasnanorcal.org/event/cambridge-university-online-course-jane-austen-women-and-society-course-2024
END:VEVENT
BEGIN:VEVENT
DTSTART;TZID=America/Los_Angeles:20240113T070000
DTEND;TZID=America/Los_Angeles:20240113T120000
DTSTAMP:20260423T163920
CREATED:20231224T022115Z
LAST-MODIFIED:20231224T022122Z
UID:5592-1705129200-1705147200@www.jasnanorcal.org
SUMMARY:Smithsonian Associates present Jane Austen: Reinventing the Novel
DESCRIPTION:Virtual presentation  \n\n\n\n\nhttps://smithsonianassociates.org/ticketing/tickets/jane-austen
URL:https://www.jasnanorcal.org/event/smithsonian-associates-present-jane-austen-reinventing-the-novel
END:VEVENT
BEGIN:VEVENT
DTSTART;TZID=America/Los_Angeles:20240109T183000
DTEND;TZID=America/Los_Angeles:20240109T200000
DTSTAMP:20260423T163920
CREATED:20231224T013642Z
LAST-MODIFIED:20231224T013644Z
UID:5561-1704825000-1704830400@www.jasnanorcal.org
SUMMARY:JASNA NorCal Virtual Reading Group
DESCRIPTION:John Mullan’s What Matters in Jane Austen? Twenty Crucial Puzzles Solved
URL:https://www.jasnanorcal.org/event/jasna-norcal-virtual-reading-group-3
END:VEVENT
BEGIN:VEVENT
DTSTART;TZID=America/Los_Angeles:20231210T130000
DTEND;TZID=America/Los_Angeles:20231210T150000
DTSTAMP:20260423T163920
CREATED:20230829T005758Z
LAST-MODIFIED:20230829T013115Z
UID:5497-1702213200-1702220400@www.jasnanorcal.org
SUMMARY:JASNA NorCal Virtual GALA
DESCRIPTION:SAVE THE DATE! Speaker: Amy Smith\, Author of All Roads Lead to Austen and more! (The book will be our selected book for the November 14 book group). Registration details to follow. \n\n\n\n\n\nSAVE THE DATE
URL:https://www.jasnanorcal.org/event/jasnanorcal-gala
END:VEVENT
BEGIN:VEVENT
DTSTART;TZID=America/Los_Angeles:20231202T090000
DTEND;TZID=America/Los_Angeles:20231202T150000
DTSTAMP:20260423T163920
CREATED:20230829T012912Z
LAST-MODIFIED:20230829T013020Z
UID:5514-1701507600-1701529200@www.jasnanorcal.org
SUMMARY:JASNA Southwest In-Person Full Day Event
DESCRIPTION:In-Person Full Day Event \n\n\n\nUCLA Faculty Center \n\n\n\n\n\nFeaturing: Dr. Lana Dalley\, California State University\, Fullerton on Jane Austen; Syrie James\, author\, playwright and JASNA Southwest Member\, will present her comic play Jane Austen in 48 Minutes; Melissa Buell\, author\, teacher and JASNA Southwest Board Member\, presenting on Christmas Traditions in England From the Regency Era to Victorian Times. 
URL:https://www.jasnanorcal.org/event/jasna-southwest-in-person-full-day-event
END:VEVENT
END:VCALENDAR