BEGIN:VCALENDAR
VERSION:2.0
PRODID:-//JASNA NorCal - ECPv6.15.20//NONSGML v1.0//EN
CALSCALE:GREGORIAN
METHOD:PUBLISH
X-WR-CALNAME:JASNA NorCal
X-ORIGINAL-URL:https://www.jasnanorcal.org
X-WR-CALDESC:Events for JASNA NorCal
REFRESH-INTERVAL;VALUE=DURATION:PT1H
X-Robots-Tag:noindex
X-PUBLISHED-TTL:PT1H
BEGIN:VTIMEZONE
TZID:America/Los_Angeles
BEGIN:DAYLIGHT
TZOFFSETFROM:-0800
TZOFFSETTO:-0700
TZNAME:PDT
DTSTART:20220313T100000
END:DAYLIGHT
BEGIN:STANDARD
TZOFFSETFROM:-0700
TZOFFSETTO:-0800
TZNAME:PST
DTSTART:20221106T090000
END:STANDARD
BEGIN:DAYLIGHT
TZOFFSETFROM:-0800
TZOFFSETTO:-0700
TZNAME:PDT
DTSTART:20230312T100000
END:DAYLIGHT
BEGIN:STANDARD
TZOFFSETFROM:-0700
TZOFFSETTO:-0800
TZNAME:PST
DTSTART:20231105T090000
END:STANDARD
BEGIN:DAYLIGHT
TZOFFSETFROM:-0800
TZOFFSETTO:-0700
TZNAME:PDT
DTSTART:20240310T100000
END:DAYLIGHT
BEGIN:STANDARD
TZOFFSETFROM:-0700
TZOFFSETTO:-0800
TZNAME:PST
DTSTART:20241103T090000
END:STANDARD
END:VTIMEZONE
BEGIN:VEVENT
DTSTART;TZID=America/Los_Angeles:20231015T120000
DTEND;TZID=America/Los_Angeles:20231015T120000
DTSTAMP:20260423T163433
CREATED:20230829T011416Z
LAST-MODIFIED:20230829T011421Z
UID:5509-1697371200-1697371200@www.jasnanorcal.org
SUMMARY:Greater Sacramento Region JASNA - Pride and Prejudice Marathon
DESCRIPTION:The Jane Austen Movie Fan Club presents a marathon viewing of Pride and Prejudice (1995). All six episodes in one day! This will be a joint meeting of the Jane Austen Book-to-Fork Club. Fare: food mentioned in Pride and Prejudice. \n\n\n\n\nPride and Prejudice Marathon
URL:https://www.jasnanorcal.org/event/greater-sacramento-region-jasna-pride-and-prejudice-marathon
END:VEVENT
BEGIN:VEVENT
DTSTART;TZID=America/Los_Angeles:20231010T183000
DTEND;TZID=America/Los_Angeles:20231010T200000
DTSTAMP:20260423T163433
CREATED:20230829T010158Z
LAST-MODIFIED:20230829T010229Z
UID:5500-1696962600-1696968000@www.jasnanorcal.org
SUMMARY:JASNA NorCal Virtual Reading Group
DESCRIPTION:In Search of Jane Austen: An Investigation of a Life by Ken Methold
URL:https://www.jasnanorcal.org/event/jasna-norcal-virtual-reading-group
END:VEVENT
BEGIN:VEVENT
DTSTART;TZID=America/Los_Angeles:20231007T090000
DTEND;TZID=America/Los_Angeles:20231007T130000
DTSTAMP:20260423T163433
CREATED:20230829T012239Z
LAST-MODIFIED:20230829T013558Z
UID:5511-1696669200-1696683600@www.jasnanorcal.org
SUMMARY:JASNA SOUTHWEST - Socio-Political Implications of Jane Austen's Jewelry and Jewelry in Austen's Novels\, presentation by Carrie Wright\, University of Southern Indiana
DESCRIPTION:In person event at California State University Northridge \n\n\n\n\nhttps://myemail.constantcontact.com/August-2023-Newsletter.html?soid=1101952149314&aid=GhF3EHg7SPM
URL:https://www.jasnanorcal.org/event/jasna-southwest-socio-political-implications-of-jane-austens-jewelry-and-jewelry-in-austens-novels-presentation-by-carrie-wright-university-of-southern-indiana
END:VEVENT
BEGIN:VEVENT
DTSTART;TZID=America/Los_Angeles:20230920T190000
DTEND;TZID=America/Los_Angeles:20230920T200000
DTSTAMP:20260423T163433
CREATED:20230829T010647Z
LAST-MODIFIED:20230829T010649Z
UID:5505-1695236400-1695240000@www.jasnanorcal.org
SUMMARY:JASNA NorCal Virtual Volunteer Meeting
DESCRIPTION:Join us for learning about fun ways to help our chapter continue to provide quality programming and resources. Email rc@jasnanorcal.org to RSVP and for Zoom link.
URL:https://www.jasnanorcal.org/event/jasna-norcal-virtual-volunteer-meeting
END:VEVENT
BEGIN:VEVENT
DTSTART;TZID=America/Los_Angeles:20230917T140000
DTEND;TZID=America/Los_Angeles:20230917T160000
DTSTAMP:20260423T163433
CREATED:20230829T011151Z
LAST-MODIFIED:20230829T011155Z
UID:5507-1694959200-1694966400@www.jasnanorcal.org
SUMMARY:Rachel Dodge presenting on Regency Etiquette - Greater Sacramento JASNA Quarterly Meeting
DESCRIPTION:Region Quarterly Meeting
URL:https://www.jasnanorcal.org/event/rachel-dodge-presenting-on-regency-etiquette-greater-sacramento-jasna-quarterly-meeting
END:VEVENT
BEGIN:VEVENT
DTSTART;TZID=America/Los_Angeles:20230912T183000
DTEND;TZID=America/Los_Angeles:20230912T200000
DTSTAMP:20260423T163433
CREATED:20230707T180721Z
LAST-MODIFIED:20230707T180725Z
UID:5470-1694543400-1694548800@www.jasnanorcal.org
SUMMARY:JASNA NorCal Reading Group (Virtual)
DESCRIPTION:The Other Bennet Sister by Janice Hadlow \n\n\n\n\n\nPlease check website for registration.
URL:https://www.jasnanorcal.org/event/jasna-norcal-reading-group-virtual-3
END:VEVENT
BEGIN:VEVENT
DTSTART;TZID=America/Los_Angeles:20230910T130000
DTEND;TZID=America/Los_Angeles:20230910T143000
DTSTAMP:20260423T163433
CREATED:20230710T030108Z
LAST-MODIFIED:20230710T030112Z
UID:5472-1694350800-1694356200@www.jasnanorcal.org
SUMMARY:The Women of the Regency: A “Revolution...Almost Beyond Expression” - Robert Morrison presenter. A JASNANorCal virtual program
DESCRIPTION:Save the date – registration details to follow
URL:https://www.jasnanorcal.org/event/the-women-of-the-regency-a-revolution-almost-beyond-expression-robert-morrison-presenter-a-jasnanorcal-virtual-program
END:VEVENT
BEGIN:VEVENT
DTSTART;TZID=America/Los_Angeles:20230808T183000
DTEND;TZID=America/Los_Angeles:20230808T200000
DTSTAMP:20260423T163433
CREATED:20230707T180438Z
LAST-MODIFIED:20230707T180444Z
UID:5468-1691519400-1691524800@www.jasnanorcal.org
SUMMARY:JASNA NorCal Reading Group (Virtual)
DESCRIPTION:The Regency Years\, During Which Jane Austen Writes\, Napoleon Fights\, Byron MakesLove and Britain Becomes Modern by Robert Morrison \n\n\n\n\n\nProfessor Robert Morrison will be our speaker at our September 10 online program.  \n\n\n\nPlease check website to register for book group.
URL:https://www.jasnanorcal.org/event/jasna-norcal-reading-group-virtual-2
END:VEVENT
BEGIN:VEVENT
DTSTART;TZID=America/Los_Angeles:20230711T183000
DTEND;TZID=America/Los_Angeles:20230711T200000
DTSTAMP:20260423T163433
CREATED:20230707T175828Z
LAST-MODIFIED:20230707T175833Z
UID:5466-1689100200-1689105600@www.jasnanorcal.org
SUMMARY:JASNA NorCal Reading Group (Virtual)
DESCRIPTION:Ayesha at Last: A Novel by Uzma Jalaluddin \n\n\n\n\n\nA modern-day Muslim Pride and Prejudice for a new generation of love. \n\n\n\nPre-register here https://www.brownpapertickets.com/event/6045718
URL:https://www.jasnanorcal.org/event/jasna-norcal-reading-group-virtual
END:VEVENT
BEGIN:VEVENT
DTSTART;TZID=America/Los_Angeles:20230506T080000
DTEND;TZID=America/Los_Angeles:20230506T170000
DTSTAMP:20260423T163433
CREATED:20220701T195624Z
LAST-MODIFIED:20220701T195627Z
UID:5046-1683360000-1683392400@www.jasnanorcal.org
SUMMARY:Miss Austen Goes to WashingtonIn-Person JASNA Southwest presents Full-Day Event concluding with optional tour: Mission Inn Hotel and Spa\, RiversideFeatured speakers: Congressman Mark Takano (D-Riverside) who launched a Jane Austen reading groupon Capitol Hill; Austen scholar Sheryl Craig\, author of Jane Austen and the State of the Nation; andacclaimed author and Riverside native\, Susan Straight.
DESCRIPTION:
URL:https://www.jasnanorcal.org/event/miss-austen-goes-to-washingtonin-person-jasna-southwest-presents-full-day-event-concluding-with-optional-tour-mission-inn-hotel-and-spa-riversidefeatured-speakers-congressman-mark-takano-d-ri
END:VEVENT
BEGIN:VEVENT
DTSTART;TZID=America/Los_Angeles:20230429T110000
DTEND;TZID=America/Los_Angeles:20230429T150000
DTSTAMP:20260423T163433
CREATED:20230123T232159Z
LAST-MODIFIED:20230123T232205Z
UID:5395-1682766000-1682780400@www.jasnanorcal.org
SUMMARY:Tea Party in the Park - JASNA Central California In-Person Event
DESCRIPTION:Our 2nd event of the year will be an al fresco tea party and book discussion in Woodward Park\, Fresno\, with an optional visit to the Shinzen Friendship Garden. This social outing is a great opportunity to visit our JASNA region and get to know us a bit better.  \n\n\n\nRegency costumes are admired but not required. Garden party attire is also encouraged. Parasols and BYO chair recommended.Book discussion title: TBAMenu: We will provide a spread of tea\, cold beverages\, and a few tea sandwiches and baked goods. Feel free to contribute.Our event is free and open to the public. (Woodward Park charges $5 cash per car to enter the park. Shinzen Garden entry is also $5 for adults/$1 for Seniors.)
URL:https://www.jasnanorcal.org/event/tea-party-in-the-park-jasna-central-california-in-person-event
END:VEVENT
BEGIN:VEVENT
DTSTART;TZID=America/Los_Angeles:20230419T180000
DTEND;TZID=America/Los_Angeles:20230419T210000
DTSTAMP:20260423T163433
CREATED:20230123T233913Z
LAST-MODIFIED:20230123T233920Z
UID:5405-1681927200-1681938000@www.jasnanorcal.org
SUMMARY:JA Movie Fan Club – Northanger Abbey
DESCRIPTION:
URL:https://www.jasnanorcal.org/event/ja-movie-fan-club-northanger-abbey
END:VEVENT
BEGIN:VEVENT
DTSTART;TZID=America/Los_Angeles:20230415T143000
DTEND;TZID=America/Los_Angeles:20230415T163000
DTSTAMP:20260423T163433
CREATED:20221116T023800Z
LAST-MODIFIED:20221116T023806Z
UID:5335-1681569000-1681576200@www.jasnanorcal.org
SUMMARY:Greater Sacramento Region JASNA Virtual Reading Group: Waverley by Sir Walter Scott
DESCRIPTION:JASNA Reading Group:  Regency Poets
URL:https://www.jasnanorcal.org/event/greater-sacramento-region-jasna-virtual-reading-group-waverley-by-sir-walter-scott
END:VEVENT
BEGIN:VEVENT
DTSTART;TZID=America/Los_Angeles:20230411T183000
DTEND;TZID=America/Los_Angeles:20230411T200000
DTSTAMP:20260423T163433
CREATED:20221116T000308Z
LAST-MODIFIED:20221116T024041Z
UID:5324-1681237800-1681243200@www.jasnanorcal.org
SUMMARY:JASNA NorCal (Virtual) Reading Group- A Truth Universally Acknowledged: 33 Writers on Why We Read Jane Austen Edited by Susannah Carson
DESCRIPTION:JASNA NorCal Reading Group
URL:https://www.jasnanorcal.org/event/jasna-norcal-virtual-reading-group-a-truth-universally-acknowledged-33-writers-on-why-we-read-jane-austen-edited-by-susannah-carson
END:VEVENT
BEGIN:VEVENT
DTSTART;TZID=America/Los_Angeles:20230318T153000
DTEND;TZID=America/Los_Angeles:20230318T153000
DTSTAMP:20260423T163433
CREATED:20221116T022610Z
LAST-MODIFIED:20221116T022614Z
UID:5327-1679153400-1679153400@www.jasnanorcal.org
SUMMARY:Greater Sacramento Region JASNA Virtual Reading Group - The Heiress by Molly Greely
DESCRIPTION:2:30 pm – 4:30 pm\n\n\n\nThe JASNA Reading Group will meet on March 18th at 2:30 to discuss The Heiress by Molly Greeley. 
URL:https://www.jasnanorcal.org/event/greater-sacramento-region-jasna-virtual-reading-group-the-heiress-by-molly-greely
END:VEVENT
BEGIN:VEVENT
DTSTART;TZID=America/Los_Angeles:20230315T180000
DTEND;TZID=America/Los_Angeles:20230315T210000
DTSTAMP:20260423T163433
CREATED:20230123T233709Z
LAST-MODIFIED:20230123T233716Z
UID:5403-1678903200-1678914000@www.jasnanorcal.org
SUMMARY:JA Movie Fan Club – Mansfield Park
DESCRIPTION:
URL:https://www.jasnanorcal.org/event/ja-movie-fan-club-mansfield-park
END:VEVENT
BEGIN:VEVENT
DTSTART;TZID=America/Los_Angeles:20230314T183000
DTEND;TZID=America/Los_Angeles:20230314T200000
DTSTAMP:20260423T163433
CREATED:20221116T000122Z
LAST-MODIFIED:20221116T024015Z
UID:5322-1678818600-1678824000@www.jasnanorcal.org
SUMMARY:JASNA NorCal Virtual Reading Group - Pride\, Prejudice and Other Flavors by Sonali Dev
DESCRIPTION:JASNA NorCal Reading Group
URL:https://www.jasnanorcal.org/event/jasna-norcal-virtual-reading-group-pride-prejudice-and-other-flavors-by-sonali-dev
END:VEVENT
BEGIN:VEVENT
DTSTART;TZID=America/Los_Angeles:20230305T130000
DTEND;TZID=America/Los_Angeles:20230305T143000
DTSTAMP:20260423T163433
CREATED:20230123T225848Z
LAST-MODIFIED:20230123T225855Z
UID:5390-1678021200-1678026600@www.jasnanorcal.org
SUMMARY:Becoming William Price and Captain Wentworth: Charles Austen’s Naval Career in Relation to Mansfield Park and Persuasion - JASNA NorCal Virtual Event
DESCRIPTION:Join us for a talk by Sheila Johnson Kindred\, author of Jane Austen’s Transatlantic Sister: the Life and Letters of Fanny Palmer Austen. Go to the Events page for more information.
URL:https://www.jasnanorcal.org/event/becoming-william-price-and-captain-wentworth-charles-austens-naval-career-in-relation-to-mansfield-park-and-persuasion-jasna-norcal-virtual-event
END:VEVENT
BEGIN:VEVENT
DTSTART;TZID=America/Los_Angeles:20230304T140000
DTEND;TZID=America/Los_Angeles:20230304T160000
DTSTAMP:20260423T163433
CREATED:20230123T233541Z
LAST-MODIFIED:20230123T233547Z
UID:5401-1677938400-1677945600@www.jasnanorcal.org
SUMMARY:Austentacious Study Group – Pride and Prejudice - Greater Sacramento JASNA Virtual Event
DESCRIPTION:
URL:https://www.jasnanorcal.org/event/austentacious-study-group-pride-and-prejudice-greater-sacramento-jasna-virtual-event
END:VEVENT
BEGIN:VEVENT
DTSTART;TZID=America/Los_Angeles:20230304T081100
DTEND;TZID=America/Los_Angeles:20230304T124500
DTSTAMP:20260423T163433
CREATED:20220701T195324Z
LAST-MODIFIED:20220708T010917Z
UID:5043-1677917460-1677933900@www.jasnanorcal.org
SUMMARY:JASNA Southwest presents Coverture and Marriage Law in Early America Zoom Presentation by Dr. Catherine Allgor\, President\, Massachusetts Historical Society
DESCRIPTION:Upcoming Events
URL:https://www.jasnanorcal.org/event/jasna-southwest-presents-coverture-and-marriage-law-in-early-america-zoom-presentation-by-dr-catherine-allgor-president-massachusetts-historical-society
END:VEVENT
BEGIN:VEVENT
DTSTART;TZID=America/Los_Angeles:20230218T160000
DTEND;TZID=America/Los_Angeles:20230218T160000
DTSTAMP:20260423T163433
CREATED:20230123T231732Z
LAST-MODIFIED:20230123T231739Z
UID:5393-1676736000-1676736000@www.jasnanorcal.org
SUMMARY:A Visit to Camp Austen - JASNA Hawaii Virtual Event
DESCRIPTION:Discussion of Ted Scheinman’s Camp Austen: My Life as an Accidental Jane Austen Superfan
URL:https://www.jasnanorcal.org/event/a-visit-to-camp-austen-jasna-hawaii-virtual-event
END:VEVENT
BEGIN:VEVENT
DTSTART;TZID=America/Los_Angeles:20230218T143000
DTEND;TZID=America/Los_Angeles:20230218T143000
DTSTAMP:20260423T163433
CREATED:20221115T235148Z
LAST-MODIFIED:20221116T023538Z
UID:5316-1676730600-1676730600@www.jasnanorcal.org
SUMMARY:Greater Sacramento Region JASNA Virtual Reading Group: Mansfield Park (second half)
DESCRIPTION:February 18\, 2023 @ 2:30 pm – 4:30 pm \n\n\n\n\nJASNA Reading Group: Mansfield Park (second half)\n\n\n\n\nZoom Meeting\, CA \n\n\n\nThe JASNA Reading Group will meet on February 18th at 2:30 to discuss the second half of Mansfield Park by Jane Austen. A Zoom invitation and discussion questions will be sent out to registered members shortly before the event. Please contact reading group organizer\, Nancy Kleinert\, if you wish to attend. \n\n\n\nJASNA Greater Sacramento Region
URL:https://www.jasnanorcal.org/event/greater-sacramento-region-jasna-virtual-reading-group-mansfield-park-second-half
END:VEVENT
BEGIN:VEVENT
DTSTART;TZID=America/Los_Angeles:20230215T180000
DTEND;TZID=America/Los_Angeles:20230215T210000
DTSTAMP:20260423T163433
CREATED:20230123T233312Z
LAST-MODIFIED:20230123T233320Z
UID:5399-1676484000-1676494800@www.jasnanorcal.org
SUMMARY:JA Movie Fan Club – Cold Comfort Farm - Greater Sacramento NorCal Virtual Event
DESCRIPTION:
URL:https://www.jasnanorcal.org/event/ja-movie-fan-club-cold-comfort-farm-greater-sacramento-norcal-virtual-event
END:VEVENT
BEGIN:VEVENT
DTSTART;TZID=America/Los_Angeles:20230211T090000
DTEND;TZID=America/Los_Angeles:20230211T090000
DTSTAMP:20260423T163433
CREATED:20230123T234948Z
LAST-MODIFIED:20230123T234953Z
UID:5407-1676106000-1676106000@www.jasnanorcal.org
SUMMARY:JASNA Southwest In-Person Half-Day Event
DESCRIPTION:Regency Noir:  Romance\, Race\, and the Rise of ’The Woman of Colour’ presented by Dr. Leigh-Michil George \n\n\n\nThe Bennets are Asian American:  Asian Diaspora and the Regency Period presented by Dr. Lillian Lu
URL:https://www.jasnanorcal.org/event/jasna-southwest-in-person-half-day-event
END:VEVENT
BEGIN:VEVENT
DTSTART;TZID=America/Los_Angeles:20230211T090000
DTEND;TZID=America/Los_Angeles:20230211T124500
DTSTAMP:20260423T163433
CREATED:20220701T195206Z
LAST-MODIFIED:20220701T195209Z
UID:5041-1676106000-1676119500@www.jasnanorcal.org
SUMMARY:Regency Noir: Romance\, Race and the Rise of ‘The Woman of Colour’.
DESCRIPTION:In-Person Event Regency Noir is examined within the recent outgrowth of scholarship on the anonymous novel ‘The Woman of Colour’ (1808) and considers how scholars may learn from reimagined narratives foregrounding Black characters.Presented by Dr. Leigh-Michil George\, Lecturer\, UCLA English Department
URL:https://www.jasnanorcal.org/event/regency-noir-romance-race-and-the-rise-of-the-woman-of-colour
END:VEVENT
BEGIN:VEVENT
DTSTART;TZID=America/Los_Angeles:20230204T140000
DTEND;TZID=America/Los_Angeles:20230204T160000
DTSTAMP:20260423T163433
CREATED:20230123T233052Z
LAST-MODIFIED:20230123T233059Z
UID:5397-1675519200-1675526400@www.jasnanorcal.org
SUMMARY:Austentacious Study Group – Jane Austen’s Best Friend by Zoe Wheddon - Greater Sacramento JASNA Virtual Event
DESCRIPTION:
URL:https://www.jasnanorcal.org/event/austentacious-study-group-jane-austens-best-friend-by-zoe-wheddon-greater-sacramento-jasna-virtual-event
END:VEVENT
BEGIN:VEVENT
DTSTART;TZID=America/Los_Angeles:20230129T100000
DTEND;TZID=America/Los_Angeles:20230129T170000
DTSTAMP:20260423T163433
CREATED:20220627T032203Z
LAST-MODIFIED:20221111T011554Z
UID:5010-1674986400-1675011600@www.jasnanorcal.org
SUMMARY:Save the Date: The Unofficial Jane Austen Day at The Huntington Gardens
DESCRIPTION:We are back! Our annual UNOFFICIAL gathering of friends\, NOT associated directly with The Huntington Library\, Art Collections\, and Botanical Gardens is back for 2022. \n\n\n\nSTROLL THE GROUNDS IN FASHION:Though costumes are not required they are part of the fun! As always “Costumes admired but not required!” \n\n\n\nPlease join us for a lovely day strolling the grounds\, viewing magnificent works of art\, and enjoying the day in Jane Austen style. \n\n\n\nMAKE A RESERVATION:Use your best methods to book a reservation and enter the grounds. If you have a Huntington annual pass feel free to use it. If you have passes to share or a request for one please feel free to post in the discussion section. \n\n\n\nhttps://www.facebook.com/events/the-huntington-library-art-museum-and-botanical-gardens/the-unofficial-jane-austen-day-at-the-huntington-jan-23rd/481263003371567/ \n\n\n\n\n\n\nhttps://www.facebook.com/events/the-huntington-library-art-museum-and-botanical-gardens/the-unofficial-jane-austen-day-at-the-huntington-jan-23rd/481263003371567/
URL:https://www.jasnanorcal.org/event/save-the-date-the-unofficial-jane-austen-day-at-the-huntington-gardens
END:VEVENT
BEGIN:VEVENT
DTSTART;TZID=America/Los_Angeles:20230128T110000
DTEND;TZID=America/Los_Angeles:20230128T123000
DTSTAMP:20260423T163433
CREATED:20220701T194027Z
LAST-MODIFIED:20220701T195506Z
UID:5033-1674903600-1674909000@www.jasnanorcal.org
SUMMARY:JASNA Southwest presents College Students Take On Jane Austen Zoom Presentation by students of Dr. Jason Solinger\, 18th Century scholar\, University of Mississippi
DESCRIPTION:
URL:https://www.jasnanorcal.org/event/college-students-take-on-jane-austen-zoom-presentation-by-students-of-dr-jason-solinger-18th-century-scholar-university-of-mississippi
END:VEVENT
BEGIN:VEVENT
DTSTART;TZID=America/Los_Angeles:20230123T160000
DTEND;TZID=America/Los_Angeles:20230123T173000
DTSTAMP:20260423T163433
CREATED:20221116T032753Z
LAST-MODIFIED:20221116T032921Z
UID:5358-1674489600-1674495000@www.jasnanorcal.org
SUMMARY:Austen Mondays – Pride and Prejudice YouTube presentations by Rosenbach Museum
DESCRIPTION:The Rosenbach’s new biblioventure series will focus on Pride and Prejudice by Jane Austen. Join us for a deep-dive into this classic novel for 24 weeks beginning September 19\, 2022. We’re also moving the show to Monday evenings from 7:00-8:30 p.m. For the first half hour of every episode host Edward G. Pettit will interview scholars and Janeites about all things Austen\, then will lead a conversational annotation of a chapter or two of Pride and Prejudice. Along with co-hosts Dr. Lauren Nixon\, Dr. Kathleen Hudson\, and Kathryn MacMillan\, together we’ll examine why and how Pride and Prejudice continues to be one of the most beloved books of readers everywhere. \n\n\n\nFree YouTube program but registration required. \n\n\n\nhttps://rosenbach.org/events/ \n\n\n\n\nAusten Mondays
URL:https://www.jasnanorcal.org/event/austen-mondays-pride-and-prejudice-youtube-presentations-by-rosenbach-museum-4
END:VEVENT
BEGIN:VEVENT
DTSTART;TZID=America/Los_Angeles:20230121T143000
DTEND;TZID=America/Los_Angeles:20230121T163000
DTSTAMP:20260423T163433
CREATED:20221116T023103Z
LAST-MODIFIED:20221116T023252Z
UID:5331-1674311400-1674318600@www.jasnanorcal.org
SUMMARY:Greater Sacramento Region JASNA Virtual Reading Group: Mansfield Park (first half)
DESCRIPTION:https://jasnasac.org/event/jasna-reading-group-mansfield-park-first-half/
URL:https://www.jasnanorcal.org/event/greater-sacramento-region-jasna-virtual-reading-group-mansfield-park-first-half
END:VEVENT
END:VCALENDAR