BEGIN:VCALENDAR
VERSION:2.0
PRODID:-//JASNA NorCal - ECPv6.15.20//NONSGML v1.0//EN
CALSCALE:GREGORIAN
METHOD:PUBLISH
X-WR-CALNAME:JASNA NorCal
X-ORIGINAL-URL:https://www.jasnanorcal.org
X-WR-CALDESC:Events for JASNA NorCal
REFRESH-INTERVAL;VALUE=DURATION:PT1H
X-Robots-Tag:noindex
X-PUBLISHED-TTL:PT1H
BEGIN:VTIMEZONE
TZID:America/Los_Angeles
BEGIN:DAYLIGHT
TZOFFSETFROM:-0800
TZOFFSETTO:-0700
TZNAME:PDT
DTSTART:20210314T100000
END:DAYLIGHT
BEGIN:STANDARD
TZOFFSETFROM:-0700
TZOFFSETTO:-0800
TZNAME:PST
DTSTART:20211107T090000
END:STANDARD
BEGIN:DAYLIGHT
TZOFFSETFROM:-0800
TZOFFSETTO:-0700
TZNAME:PDT
DTSTART:20220313T100000
END:DAYLIGHT
BEGIN:STANDARD
TZOFFSETFROM:-0700
TZOFFSETTO:-0800
TZNAME:PST
DTSTART:20221106T090000
END:STANDARD
BEGIN:DAYLIGHT
TZOFFSETFROM:-0800
TZOFFSETTO:-0700
TZNAME:PDT
DTSTART:20230312T100000
END:DAYLIGHT
BEGIN:STANDARD
TZOFFSETFROM:-0700
TZOFFSETTO:-0800
TZNAME:PST
DTSTART:20231105T090000
END:STANDARD
END:VTIMEZONE
BEGIN:VTIMEZONE
TZID:America/Vancouver
BEGIN:DAYLIGHT
TZOFFSETFROM:-0800
TZOFFSETTO:-0700
TZNAME:PDT
DTSTART:20210314T100000
END:DAYLIGHT
BEGIN:STANDARD
TZOFFSETFROM:-0700
TZOFFSETTO:-0800
TZNAME:PST
DTSTART:20211107T090000
END:STANDARD
BEGIN:DAYLIGHT
TZOFFSETFROM:-0800
TZOFFSETTO:-0700
TZNAME:PDT
DTSTART:20220313T100000
END:DAYLIGHT
BEGIN:STANDARD
TZOFFSETFROM:-0700
TZOFFSETTO:-0800
TZNAME:PST
DTSTART:20221106T090000
END:STANDARD
BEGIN:DAYLIGHT
TZOFFSETFROM:-0800
TZOFFSETTO:-0700
TZNAME:PDT
DTSTART:20230312T100000
END:DAYLIGHT
BEGIN:STANDARD
TZOFFSETFROM:-0700
TZOFFSETTO:-0800
TZNAME:PST
DTSTART:20231105T090000
END:STANDARD
END:VTIMEZONE
BEGIN:VEVENT
DTSTART;TZID=America/Los_Angeles:20221119T143000
DTEND;TZID=America/Los_Angeles:20221119T163000
DTSTAMP:20260423T233745
CREATED:20220708T010037Z
LAST-MODIFIED:20220708T010040Z
UID:5093-1668868200-1668875400@www.jasnanorcal.org
SUMMARY:JASNA Greater Sacramento presents JASNA Reading Group: Evelina by Frances Burney (Zoom)
DESCRIPTION:
URL:https://www.jasnanorcal.org/event/jasna-greater-sacramento-presents-jasna-reading-group-evelina-by-frances-burney-zoom
END:VEVENT
BEGIN:VEVENT
DTSTART;TZID=America/Los_Angeles:20221119T140000
DTEND;TZID=America/Los_Angeles:20221119T160000
DTSTAMP:20260423T233745
CREATED:20221116T024509Z
LAST-MODIFIED:20221116T024644Z
UID:5340-1668866400-1668873600@www.jasnanorcal.org
SUMMARY:New Jersey Region: A Yearlong Journey With Jane (Virtual)
DESCRIPTION:NOV 19 \n\n\n\n2:00 PM – 4:00 PM EASTERN TIME \n\n\n\nAll Roads Lead to Austen\n\n\n\nArmed with a suitcase of Jane Austen novels en español\, Amy Elizabeth Smith set off on a Latin American adventure to six countries. Gathering a traveling book club of taxi drivers and teachers\, poets and politicians\, Smith discovered what Austen knew all along: that we are not always speaking the same language\, even when we are speaking the same language.   \n\n\n\nThis event is free and open to all. To register\, please click here. 
URL:https://www.jasnanorcal.org/event/new-jersey-region-a-yearlong-journey-with-jane-virtual
END:VEVENT
BEGIN:VEVENT
DTSTART;TZID=America/Los_Angeles:20221112T120000
DTEND;TZID=America/Los_Angeles:20221112T120000
DTSTAMP:20260423T233745
CREATED:20220701T194244Z
LAST-MODIFIED:20220708T011203Z
UID:5035-1668254400-1668254400@www.jasnanorcal.org
SUMMARY:JASNA Southwest Zoom presentation - History and Restoration of the Lost Art of Dhaka Muslin by Mr. Saiful Islam\, who leads a project to resurrect the precious fabric imported fromwhat was then Bengal (and now Bangladesh) and popularized in the late 18th century (Zoom)
DESCRIPTION:Upcoming Events
URL:https://www.jasnanorcal.org/event/jasna-southwest-zoom-presentation-history-and-restoration-of-the-lost-art-of-dhaka-muslin-by-mr-saiful-islam-who-leads-a-project-to-resurrect-the-precious-fabric-imported-fromwhat-was-then-bengal
END:VEVENT
BEGIN:VEVENT
DTSTART;TZID=America/Los_Angeles:20221108T183000
DTEND;TZID=America/Los_Angeles:20221108T200000
DTSTAMP:20260423T233745
CREATED:20220627T025904Z
LAST-MODIFIED:20220708T011944Z
UID:5001-1667932200-1667937600@www.jasnanorcal.org
SUMMARY:JASNA NorCal Reading Group - Stephanie Barron\, Jane and the Twelve Days of Christmas (Zoom)
DESCRIPTION:
URL:https://www.jasnanorcal.org/event/jasna-norcal-reading-group-stephanie-barron-jane-and-the-twelve-days-of-christmas
END:VEVENT
BEGIN:VEVENT
DTSTART;TZID=America/Los_Angeles:20221106T080000
DTEND;TZID=America/Los_Angeles:20221106T170000
DTSTAMP:20260423T233745
CREATED:20221107T025518Z
LAST-MODIFIED:20221107T025522Z
UID:5293-1667721600-1667754000@www.jasnanorcal.org
SUMMARY:Greater Sacramento JASNA Reading Group: Mansfield Park (first half) - Virtual
DESCRIPTION:January 21\, 2023 @ 2:30 pm – 4:30 pm\n\n\n\nThe JASNA Reading Group will meet on January 21st at 2:30 to discuss the first half of Mansfield Park by Jane Austen. A Zoom invitation and discussion questions will be sent out to registered members shortly before the event. Please contact reading group organizer\, Nancy Kleinert\, if you wish to attend.
URL:https://www.jasnanorcal.org/event/greater-sacramento-jasna-reading-group-mansfield-park-first-half-virtual
END:VEVENT
BEGIN:VEVENT
DTSTART;TZID=America/Los_Angeles:20221105T130000
DTEND;TZID=America/Los_Angeles:20221105T130000
DTSTAMP:20260423T233745
CREATED:20220729T021618Z
LAST-MODIFIED:20220729T021622Z
UID:5216-1667653200-1667653200@www.jasnanorcal.org
SUMMARY:jasnacentralcalifornia Discussion of Northanger Abbey (in-person)November 5\, 2022 at 1 p.m. Location: TBA
DESCRIPTION:Calendar of Events
URL:https://www.jasnanorcal.org/event/jasnacentralcalifornia-discussion-of-northanger-abbey-in-personnovember-5-2022-at-1-p-m-location-tba
END:VEVENT
BEGIN:VEVENT
DTSTART;TZID=America/Los_Angeles:20221020T140000
DTEND;TZID=America/Los_Angeles:20221020T140000
DTSTAMP:20260423T233745
CREATED:20220627T031715Z
LAST-MODIFIED:20220627T031718Z
UID:5008-1666274400-1666274400@www.jasnanorcal.org
SUMMARY:Pride and Prejudice - Aquila Theatre\, Grass Valley\, CA
DESCRIPTION:
URL:https://www.jasnanorcal.org/event/pride-and-prejudice-aquila-theatre-grass-valley-ca-2
END:VEVENT
BEGIN:VEVENT
DTSTART;TZID=America/Los_Angeles:20221019T193000
DTEND;TZID=America/Los_Angeles:20221019T193000
DTSTAMP:20260423T233745
CREATED:20220627T031447Z
LAST-MODIFIED:20220627T031450Z
UID:5005-1666207800-1666207800@www.jasnanorcal.org
SUMMARY:Pride and Prejudice - Aquila Theatre\, Grass Valley\, CA
DESCRIPTION:
URL:https://www.jasnanorcal.org/event/pride-and-prejudice-aquila-theatre-grass-valley-ca
END:VEVENT
BEGIN:VEVENT
DTSTART;TZID=America/Los_Angeles:20221019T183000
DTEND;TZID=America/Los_Angeles:20221019T210000
DTSTAMP:20260423T233745
CREATED:20220701T215644Z
LAST-MODIFIED:20220701T215646Z
UID:5058-1666204200-1666213200@www.jasnanorcal.org
SUMMARY:JASNA Greater Sacramento Region (zoom) Movie Fan Club: Pride and Prejudice and Zombies
DESCRIPTION:
URL:https://www.jasnanorcal.org/event/jasna-greater-sacramento-region-zoom-movie-fan-club-pride-and-prejudice-and-zombies
END:VEVENT
BEGIN:VEVENT
DTSTART;TZID=America/Los_Angeles:20221015T143000
DTEND;TZID=America/Los_Angeles:20221015T163000
DTSTAMP:20260423T233745
CREATED:20220708T005855Z
LAST-MODIFIED:20220708T005939Z
UID:5090-1665844200-1665851400@www.jasnanorcal.org
SUMMARY:JASNA Greater Sacramento presents JASNA Reading Group: The Murder of Mr. Wickham by Claudia Gray (Zoom)
DESCRIPTION:
URL:https://www.jasnanorcal.org/event/jasna-greater-sacramento-presents-jasna-reading-group-the-murder-of-mr-wickham-by-claudia-gray
END:VEVENT
BEGIN:VEVENT
DTSTART;TZID=America/Los_Angeles:20221014T200000
DTEND;TZID=America/Los_Angeles:20221014T200000
DTSTAMP:20260423T233745
CREATED:20220729T021208Z
LAST-MODIFIED:20220729T021211Z
UID:5212-1665777600-1665777600@www.jasnanorcal.org
SUMMARY:
DESCRIPTION:Aquila Theatre: Pride & PrejudiceFriday\, October 14\, 2022\, 8:00 pmBuy Tickets\n\n\n\nAquila Theatre: Pride & Prejudice\n\n\n\nSunset Center\, Carmel-by-the-Sea \n\n\n\n\nhttps://www.sunsetcenter.org/e-aquila-theatre-pride-prejudice-663.htm
URL:https://www.jasnanorcal.org/event/5212
END:VEVENT
BEGIN:VEVENT
DTSTART;TZID=America/Los_Angeles:20221011T183000
DTEND;TZID=America/Los_Angeles:20221011T200000
DTSTAMP:20260423T233745
CREATED:20220627T025659Z
LAST-MODIFIED:20220708T011817Z
UID:4999-1665513000-1665518400@www.jasnanorcal.org
SUMMARY:JASNA NorCal Reading Group - Deborah Yaffe\, Among the Janeites: A Journey Through the World of Jane Austen Fandom (Zoom)
DESCRIPTION:
URL:https://www.jasnanorcal.org/event/jasna-norcal-reading-group-deborah-yaffe-among-the-janeites-a-journey-through-the-world-of-jane-austen-fandom
END:VEVENT
BEGIN:VEVENT
DTSTART;TZID=America/Los_Angeles:20221009T140000
DTEND;TZID=America/Los_Angeles:20221009T170000
DTSTAMP:20260423T233745
CREATED:20220627T034109Z
LAST-MODIFIED:20220627T034112Z
UID:5027-1665324000-1665334800@www.jasnanorcal.org
SUMMARY:English Country Dancing Meetup - San Jose\, CA
DESCRIPTION:
URL:https://www.jasnanorcal.org/event/english-country-dancing-meetup-san-jose-ca-2
END:VEVENT
BEGIN:VEVENT
DTSTART;TZID=America/Vancouver:20220930T080000
DTEND;TZID=America/Vancouver:20221003T170000
DTSTAMP:20260423T233745
CREATED:20210208T022238Z
LAST-MODIFIED:20210208T022241Z
UID:2132-1664524800-1664816400@www.jasnanorcal.org
SUMMARY:2022 JASNA AGM (Annual General Meeting)
DESCRIPTION:Theme: Sense and Sensibility in the City of Gardens \n\n\n\nThe Victoria\, BC\, Region wishes to excite your anticipation with a return to Canada for the 2022 JASNA AGM! \n\n\n\nCome to the city with a long JASNA history. One of JASNA’s three co-founders was Joan Austen Leigh\, a native of Victoria\, BC and great-great grand-niece of Jane Austen. She also co-founded our Victoria Region\, and we are proud to have her as part of our legacy in this corner of North America. We know many JASNA members will be ready for a lovely getaway to our City of Gardens when the time comes\, and we can guarantee you are going to have a fantastic time filled with our Jane\, and everything Victoria has to offer.
URL:https://www.jasnanorcal.org/event/2022-jasna-agm-annual-general-meeting
LOCATION:Victoria Conference Centre\, 720 Douglas Street\, Victoria\, BC\, V8W 3M7\, Canada
ORGANIZER;CN="JASNA Victoria BC Region":MAILTO:jasnavictoriabc@gmail.com
END:VEVENT
BEGIN:VEVENT
DTSTART;TZID=America/Los_Angeles:20220917T143000
DTEND;TZID=America/Los_Angeles:20220917T163000
DTSTAMP:20260423T233745
CREATED:20220708T005552Z
LAST-MODIFIED:20220708T005556Z
UID:5088-1663425000-1663432200@www.jasnanorcal.org
SUMMARY:JASNA Greater Sacramento presents JASNA Reading Group: Sensei and Sensibility
DESCRIPTION:
URL:https://www.jasnanorcal.org/event/jasna-greater-sacramento-presents-jasna-reading-group-sensei-and-sensibility
END:VEVENT
BEGIN:VEVENT
DTSTART;TZID=America/Los_Angeles:20220913T183000
DTEND;TZID=America/Los_Angeles:20220913T200000
DTSTAMP:20260423T233745
CREATED:20220627T025519Z
LAST-MODIFIED:20220708T011846Z
UID:4997-1663093800-1663099200@www.jasnanorcal.org
SUMMARY:JASNA NorCal Reading Group - Karen Tei Yamashita\, Sansei and Sensibility (Zoom)
DESCRIPTION:
URL:https://www.jasnanorcal.org/event/jasna-norcal-reading-group-karen-tei-yamashita-sansei-and-sensibility
END:VEVENT
BEGIN:VEVENT
DTSTART;TZID=America/Los_Angeles:20220911T140000
DTEND;TZID=America/Los_Angeles:20220911T170000
DTSTAMP:20260423T233745
CREATED:20220627T033923Z
LAST-MODIFIED:20220627T033926Z
UID:5025-1662904800-1662915600@www.jasnanorcal.org
SUMMARY:English Country Dancing Meetup - San Jose\, CA
DESCRIPTION:
URL:https://www.jasnanorcal.org/event/english-country-dancing-meetup-san-jose-ca
END:VEVENT
BEGIN:VEVENT
DTSTART;TZID=America/Los_Angeles:20220910T090000
DTEND;TZID=America/Los_Angeles:20220910T124500
DTSTAMP:20260423T233745
CREATED:20220701T195017Z
LAST-MODIFIED:20220708T011053Z
UID:5039-1662800400-1662813900@www.jasnanorcal.org
SUMMARY:JASNA Southwest IN PERSON - “FAMILY LAW AND MANSFIELD PARK” Presented by Superior Court Judge Stephanie Thornton-Harris and "Jane Austen and the Movies Today" presented by Writer and Film Producer Alex Siskin
DESCRIPTION:Upcoming Events
URL:https://www.jasnanorcal.org/event/jasna-southwest-in-person-family-law-and-mansfield-park-presented-by-superior-court-judge-stephanie-thornton-harris-and-jane-austen-and-the-movies-today-presented-by-writer-and
END:VEVENT
BEGIN:VEVENT
DTSTART;TZID=America/Los_Angeles:20220904T190000
DTEND;TZID=America/Los_Angeles:20220904T190000
DTSTAMP:20260423T233745
CREATED:20220729T020400Z
LAST-MODIFIED:20220729T020402Z
UID:5210-1662318000-1662318000@www.jasnanorcal.org
SUMMARY:Sense and Sensibility
DESCRIPTION:August 5 – September 4\, 2022\n\n\n\nSelect Thursdays – Sundays at 7:00pmSanborn Skyline County Park\, Saratoga\, CATickets $20-$50\n\n\n\nhttps://www.svshakespeare.org/our-season/sense-and-sensibility-2022/
URL:https://www.jasnanorcal.org/event/sense-and-sensibility-11
END:VEVENT
BEGIN:VEVENT
DTSTART;TZID=America/Los_Angeles:20220903T190000
DTEND;TZID=America/Los_Angeles:20220903T190000
DTSTAMP:20260423T233745
CREATED:20220729T020331Z
LAST-MODIFIED:20220729T020334Z
UID:5208-1662231600-1662231600@www.jasnanorcal.org
SUMMARY:Sense and Sensibility
DESCRIPTION:August 5 – September 4\, 2022\n\n\n\nSelect Thursdays – Sundays at 7:00pmSanborn Skyline County Park\, Saratoga\, CATickets $20-$50\n\n\n\nhttps://www.svshakespeare.org/our-season/sense-and-sensibility-2022/
URL:https://www.jasnanorcal.org/event/sense-and-sensibility-10
END:VEVENT
BEGIN:VEVENT
DTSTART;TZID=America/Los_Angeles:20220828T140000
DTEND;TZID=America/Los_Angeles:20220828T160000
DTSTAMP:20260423T233745
CREATED:20220627T030733Z
LAST-MODIFIED:20220627T030736Z
UID:5003-1661695200-1661702400@www.jasnanorcal.org
SUMMARY:Central Virginia Region: The Topaz Crosses (Virtual)
DESCRIPTION:
URL:https://www.jasnanorcal.org/event/central-virginia-region-the-topaz-crosses-virtual
END:VEVENT
BEGIN:VEVENT
DTSTART;TZID=America/Los_Angeles:20220826T190000
DTEND;TZID=America/Los_Angeles:20220826T190000
DTSTAMP:20260423T233745
CREATED:20220729T020157Z
LAST-MODIFIED:20220729T020159Z
UID:5205-1661540400-1661540400@www.jasnanorcal.org
SUMMARY:Sense and Sensibility
DESCRIPTION:August 5 – September 4\, 2022\n\n\n\nSelect Thursdays – Sundays at 7:00pmSanborn Skyline County Park\, Saratoga\, CATickets $20-$50\n\n\n\nhttps://www.svshakespeare.org/our-season/sense-and-sensibility-2022/
URL:https://www.jasnanorcal.org/event/sense-and-sensibility-9
END:VEVENT
BEGIN:VEVENT
DTSTART;TZID=America/Los_Angeles:20220825T190000
DTEND;TZID=America/Los_Angeles:20220825T190000
DTSTAMP:20260423T233745
CREATED:20220729T020122Z
LAST-MODIFIED:20220729T020125Z
UID:5203-1661454000-1661454000@www.jasnanorcal.org
SUMMARY:Sense and Sensibility
DESCRIPTION:August 5 – September 4\, 2022\n\n\n\nSelect Thursdays – Sundays at 7:00pmSanborn Skyline County Park\, Saratoga\, CATickets $20-$50\n\n\n\nhttps://www.svshakespeare.org/our-season/sense-and-sensibility-2022/
URL:https://www.jasnanorcal.org/event/sense-and-sensibility-8
END:VEVENT
BEGIN:VEVENT
DTSTART;TZID=America/Los_Angeles:20220824T180000
DTEND;TZID=America/Los_Angeles:20220824T210000
DTSTAMP:20260423T233745
CREATED:20220701T215251Z
LAST-MODIFIED:20220708T012519Z
UID:5054-1661364000-1661374800@www.jasnanorcal.org
SUMMARY:JASNA Sacramento Greater Region (Zoom) Movie Fan Club – Sense & Sensibility (Part 5-7)
DESCRIPTION:Movie Fan Club – Sense & Sensibility (Part 5-7)
URL:https://www.jasnanorcal.org/event/jasna-sacramento-greater-region-zoom-movie-fan-club-sense-sensibility-part-5-7
END:VEVENT
BEGIN:VEVENT
DTSTART;TZID=America/Los_Angeles:20220821T190000
DTEND;TZID=America/Los_Angeles:20220821T190000
DTSTAMP:20260423T233745
CREATED:20220729T020000Z
LAST-MODIFIED:20220729T020003Z
UID:5201-1661108400-1661108400@www.jasnanorcal.org
SUMMARY:Sense and Sensibility
DESCRIPTION:August 5 – September 4\, 2022\n\n\n\nSelect Thursdays – Sundays at 7:00pmSanborn Skyline County Park\, Saratoga\, CATickets $20-$50\n\n\n\nhttps://www.svshakespeare.org/our-season/sense-and-sensibility-2022/
URL:https://www.jasnanorcal.org/event/sense-and-sensibility-7
END:VEVENT
BEGIN:VEVENT
DTSTART;TZID=America/Los_Angeles:20220821T110000
DTEND;TZID=America/Los_Angeles:20220821T130000
DTSTAMP:20260423T233745
CREATED:20220708T004019Z
LAST-MODIFIED:20220708T004022Z
UID:5077-1661079600-1661086800@www.jasnanorcal.org
SUMMARY:JASNA Maryland presents STORMS\, TEMPESTS AND ‘VISIONS OF ROMANCE’ – AUGUST VIRTUAL MEETINGhttps://jasnamd.org/meetings/aug2022/
DESCRIPTION:
URL:https://www.jasnanorcal.org/event/jasna-maryland-presents-storms-tempests-and-visions-of-romance-august-virtual-meetinghttps-jasnamd-org-meetings-aug2022
END:VEVENT
BEGIN:VEVENT
DTSTART;TZID=America/Los_Angeles:20220820T190000
DTEND;TZID=America/Los_Angeles:20220820T190000
DTSTAMP:20260423T233745
CREATED:20220729T015909Z
LAST-MODIFIED:20220729T015912Z
UID:5199-1661022000-1661022000@www.jasnanorcal.org
SUMMARY:Sense and Sensibility
DESCRIPTION:August 5 – September 4\, 2022\n\n\n\nSelect Thursdays – Sundays at 7:00pmSanborn Skyline County Park\, Saratoga\, CATickets $20-$50\n\n\n\nhttps://www.svshakespeare.org/our-season/sense-and-sensibility-2022/
URL:https://www.jasnanorcal.org/event/sense-and-sensibility-6
END:VEVENT
BEGIN:VEVENT
DTSTART;TZID=America/Los_Angeles:20220820T143000
DTEND;TZID=America/Los_Angeles:20220820T163000
DTSTAMP:20260423T233745
CREATED:20220708T005440Z
LAST-MODIFIED:20220708T005443Z
UID:5086-1661005800-1661013000@www.jasnanorcal.org
SUMMARY:JASNA Greater Sacramento presents Austentacious Study Group & JASNA Reading Group- Sense & Sensibility part 2 (ZOOM)
DESCRIPTION:
URL:https://www.jasnanorcal.org/event/jasna-greater-sacramento-presents-austentacious-study-group-jasna-reading-group-sense-sensibility-part-2-zoom
END:VEVENT
BEGIN:VEVENT
DTSTART;TZID=America/Los_Angeles:20220820T081100
DTEND;TZID=America/Los_Angeles:20220820T123000
DTSTAMP:20260423T233745
CREATED:20220701T193555Z
LAST-MODIFIED:20220708T011023Z
UID:5031-1660983060-1660998600@www.jasnanorcal.org
SUMMARY:JASNA Southwest Zoom - Kamila Knows Best\, a Bollywood-style retelling of Emma set in Toronto’s South Asian Community Zoom Presentation by author Farah Heron
DESCRIPTION:Upcoming Events
URL:https://www.jasnanorcal.org/event/jasna-southwest-zoom-kamila-knows-best-a-bollywood-style-retelling-of-emma-set-in-torontos-south-asian-community-zoom-presentation-by-author-farah-heron
END:VEVENT
BEGIN:VEVENT
DTSTART;TZID=America/Los_Angeles:20220812T190000
DTEND;TZID=America/Los_Angeles:20220812T190000
DTSTAMP:20260423T233745
CREATED:20220729T015643Z
LAST-MODIFIED:20220729T015645Z
UID:5195-1660330800-1660330800@www.jasnanorcal.org
SUMMARY:Sense and Sensibility
DESCRIPTION:August 5 – September 4\, 2022\n\n\n\nSelect Thursdays – Sundays at 7:00pmSanborn Skyline County Park\, Saratoga\, CATickets $20-$50\n\n\n\nhttps://www.svshakespeare.org/our-season/sense-and-sensibility-2022/
URL:https://www.jasnanorcal.org/event/sense-and-sensibility-4
END:VEVENT
END:VCALENDAR