BEGIN:VCALENDAR
VERSION:2.0
PRODID:-//JASNA NorCal - ECPv6.15.20//NONSGML v1.0//EN
CALSCALE:GREGORIAN
METHOD:PUBLISH
X-WR-CALNAME:JASNA NorCal
X-ORIGINAL-URL:https://www.jasnanorcal.org
X-WR-CALDESC:Events for JASNA NorCal
REFRESH-INTERVAL;VALUE=DURATION:PT1H
X-Robots-Tag:noindex
X-PUBLISHED-TTL:PT1H
BEGIN:VTIMEZONE
TZID:America/Los_Angeles
BEGIN:DAYLIGHT
TZOFFSETFROM:-0800
TZOFFSETTO:-0700
TZNAME:PDT
DTSTART:20210314T100000
END:DAYLIGHT
BEGIN:STANDARD
TZOFFSETFROM:-0700
TZOFFSETTO:-0800
TZNAME:PST
DTSTART:20211107T090000
END:STANDARD
BEGIN:DAYLIGHT
TZOFFSETFROM:-0800
TZOFFSETTO:-0700
TZNAME:PDT
DTSTART:20220313T100000
END:DAYLIGHT
BEGIN:STANDARD
TZOFFSETFROM:-0700
TZOFFSETTO:-0800
TZNAME:PST
DTSTART:20221106T090000
END:STANDARD
BEGIN:DAYLIGHT
TZOFFSETFROM:-0800
TZOFFSETTO:-0700
TZNAME:PDT
DTSTART:20230312T100000
END:DAYLIGHT
BEGIN:STANDARD
TZOFFSETFROM:-0700
TZOFFSETTO:-0800
TZNAME:PST
DTSTART:20231105T090000
END:STANDARD
END:VTIMEZONE
BEGIN:VTIMEZONE
TZID:America/Vancouver
BEGIN:DAYLIGHT
TZOFFSETFROM:-0800
TZOFFSETTO:-0700
TZNAME:PDT
DTSTART:20210314T100000
END:DAYLIGHT
BEGIN:STANDARD
TZOFFSETFROM:-0700
TZOFFSETTO:-0800
TZNAME:PST
DTSTART:20211107T090000
END:STANDARD
BEGIN:DAYLIGHT
TZOFFSETFROM:-0800
TZOFFSETTO:-0700
TZNAME:PDT
DTSTART:20220313T100000
END:DAYLIGHT
BEGIN:STANDARD
TZOFFSETFROM:-0700
TZOFFSETTO:-0800
TZNAME:PST
DTSTART:20221106T090000
END:STANDARD
BEGIN:DAYLIGHT
TZOFFSETFROM:-0800
TZOFFSETTO:-0700
TZNAME:PDT
DTSTART:20230312T100000
END:DAYLIGHT
BEGIN:STANDARD
TZOFFSETFROM:-0700
TZOFFSETTO:-0800
TZNAME:PST
DTSTART:20231105T090000
END:STANDARD
END:VTIMEZONE
BEGIN:VEVENT
DTSTART;TZID=America/Los_Angeles:20220903T190000
DTEND;TZID=America/Los_Angeles:20220903T190000
DTSTAMP:20260425T202425
CREATED:20220729T020331Z
LAST-MODIFIED:20220729T020334Z
UID:5208-1662231600-1662231600@www.jasnanorcal.org
SUMMARY:Sense and Sensibility
DESCRIPTION:August 5 – September 4\, 2022\n\n\n\nSelect Thursdays – Sundays at 7:00pmSanborn Skyline County Park\, Saratoga\, CATickets $20-$50\n\n\n\nhttps://www.svshakespeare.org/our-season/sense-and-sensibility-2022/
URL:https://www.jasnanorcal.org/event/sense-and-sensibility-10
END:VEVENT
BEGIN:VEVENT
DTSTART;TZID=America/Los_Angeles:20220904T190000
DTEND;TZID=America/Los_Angeles:20220904T190000
DTSTAMP:20260425T202425
CREATED:20220729T020400Z
LAST-MODIFIED:20220729T020402Z
UID:5210-1662318000-1662318000@www.jasnanorcal.org
SUMMARY:Sense and Sensibility
DESCRIPTION:August 5 – September 4\, 2022\n\n\n\nSelect Thursdays – Sundays at 7:00pmSanborn Skyline County Park\, Saratoga\, CATickets $20-$50\n\n\n\nhttps://www.svshakespeare.org/our-season/sense-and-sensibility-2022/
URL:https://www.jasnanorcal.org/event/sense-and-sensibility-11
END:VEVENT
BEGIN:VEVENT
DTSTART;TZID=America/Los_Angeles:20220910T090000
DTEND;TZID=America/Los_Angeles:20220910T124500
DTSTAMP:20260425T202425
CREATED:20220701T195017Z
LAST-MODIFIED:20220708T011053Z
UID:5039-1662800400-1662813900@www.jasnanorcal.org
SUMMARY:JASNA Southwest IN PERSON - “FAMILY LAW AND MANSFIELD PARK” Presented by Superior Court Judge Stephanie Thornton-Harris and "Jane Austen and the Movies Today" presented by Writer and Film Producer Alex Siskin
DESCRIPTION:Upcoming Events
URL:https://www.jasnanorcal.org/event/jasna-southwest-in-person-family-law-and-mansfield-park-presented-by-superior-court-judge-stephanie-thornton-harris-and-jane-austen-and-the-movies-today-presented-by-writer-and
END:VEVENT
BEGIN:VEVENT
DTSTART;TZID=America/Los_Angeles:20220911T140000
DTEND;TZID=America/Los_Angeles:20220911T170000
DTSTAMP:20260425T202425
CREATED:20220627T033923Z
LAST-MODIFIED:20220627T033926Z
UID:5025-1662904800-1662915600@www.jasnanorcal.org
SUMMARY:English Country Dancing Meetup - San Jose\, CA
DESCRIPTION:
URL:https://www.jasnanorcal.org/event/english-country-dancing-meetup-san-jose-ca
END:VEVENT
BEGIN:VEVENT
DTSTART;TZID=America/Los_Angeles:20220913T183000
DTEND;TZID=America/Los_Angeles:20220913T200000
DTSTAMP:20260425T202425
CREATED:20220627T025519Z
LAST-MODIFIED:20220708T011846Z
UID:4997-1663093800-1663099200@www.jasnanorcal.org
SUMMARY:JASNA NorCal Reading Group - Karen Tei Yamashita\, Sansei and Sensibility (Zoom)
DESCRIPTION:
URL:https://www.jasnanorcal.org/event/jasna-norcal-reading-group-karen-tei-yamashita-sansei-and-sensibility
END:VEVENT
BEGIN:VEVENT
DTSTART;TZID=America/Los_Angeles:20220917T143000
DTEND;TZID=America/Los_Angeles:20220917T163000
DTSTAMP:20260425T202425
CREATED:20220708T005552Z
LAST-MODIFIED:20220708T005556Z
UID:5088-1663425000-1663432200@www.jasnanorcal.org
SUMMARY:JASNA Greater Sacramento presents JASNA Reading Group: Sensei and Sensibility
DESCRIPTION:
URL:https://www.jasnanorcal.org/event/jasna-greater-sacramento-presents-jasna-reading-group-sensei-and-sensibility
END:VEVENT
BEGIN:VEVENT
DTSTART;TZID=America/Vancouver:20220930T080000
DTEND;TZID=America/Vancouver:20221003T170000
DTSTAMP:20260425T202425
CREATED:20210208T022238Z
LAST-MODIFIED:20210208T022241Z
UID:2132-1664524800-1664816400@www.jasnanorcal.org
SUMMARY:2022 JASNA AGM (Annual General Meeting)
DESCRIPTION:Theme: Sense and Sensibility in the City of Gardens \n\n\n\nThe Victoria\, BC\, Region wishes to excite your anticipation with a return to Canada for the 2022 JASNA AGM! \n\n\n\nCome to the city with a long JASNA history. One of JASNA’s three co-founders was Joan Austen Leigh\, a native of Victoria\, BC and great-great grand-niece of Jane Austen. She also co-founded our Victoria Region\, and we are proud to have her as part of our legacy in this corner of North America. We know many JASNA members will be ready for a lovely getaway to our City of Gardens when the time comes\, and we can guarantee you are going to have a fantastic time filled with our Jane\, and everything Victoria has to offer.
URL:https://www.jasnanorcal.org/event/2022-jasna-agm-annual-general-meeting
LOCATION:Victoria Conference Centre\, 720 Douglas Street\, Victoria\, BC\, V8W 3M7\, Canada
ORGANIZER;CN="JASNA Victoria BC Region":MAILTO:jasnavictoriabc@gmail.com
END:VEVENT
END:VCALENDAR