BEGIN:VCALENDAR
VERSION:2.0
PRODID:-//JASNA NorCal - ECPv6.15.20//NONSGML v1.0//EN
CALSCALE:GREGORIAN
METHOD:PUBLISH
X-WR-CALNAME:JASNA NorCal
X-ORIGINAL-URL:https://www.jasnanorcal.org
X-WR-CALDESC:Events for JASNA NorCal
REFRESH-INTERVAL;VALUE=DURATION:PT1H
X-Robots-Tag:noindex
X-PUBLISHED-TTL:PT1H
BEGIN:VTIMEZONE
TZID:America/Los_Angeles
BEGIN:DAYLIGHT
TZOFFSETFROM:-0800
TZOFFSETTO:-0700
TZNAME:PDT
DTSTART:20210314T100000
END:DAYLIGHT
BEGIN:STANDARD
TZOFFSETFROM:-0700
TZOFFSETTO:-0800
TZNAME:PST
DTSTART:20211107T090000
END:STANDARD
BEGIN:DAYLIGHT
TZOFFSETFROM:-0800
TZOFFSETTO:-0700
TZNAME:PDT
DTSTART:20220313T100000
END:DAYLIGHT
BEGIN:STANDARD
TZOFFSETFROM:-0700
TZOFFSETTO:-0800
TZNAME:PST
DTSTART:20221106T090000
END:STANDARD
BEGIN:DAYLIGHT
TZOFFSETFROM:-0800
TZOFFSETTO:-0700
TZNAME:PDT
DTSTART:20230312T100000
END:DAYLIGHT
BEGIN:STANDARD
TZOFFSETFROM:-0700
TZOFFSETTO:-0800
TZNAME:PST
DTSTART:20231105T090000
END:STANDARD
END:VTIMEZONE
BEGIN:VEVENT
DTSTART;TZID=America/Los_Angeles:20221203T080000
DTEND;TZID=America/Los_Angeles:20221203T170000
DTSTAMP:20260425T161455
CREATED:20220701T194705Z
LAST-MODIFIED:20220708T011230Z
UID:5037-1670054400-1670086800@www.jasnanorcal.org
SUMMARY:JASNA Southwest presents Jane Austen and the Musical Arts In-Person Full-Day Event concluding with a dance lesson: The Grand Event Center\, Long BeachMusical Performance by Flutist Ann Erwin and Pianist Edie Orloff; History of Dance in Jane Austen’s Time presented by Cara King; English Country Dancing led by Cara King
DESCRIPTION:Upcoming Events
URL:https://www.jasnanorcal.org/event/jasna-southwest-presents-jane-austen-and-the-musical-arts-in-person-full-day-event-concluding-with-a-dance-lesson-the-grand-event-center-long-beachmusical-performance-by-flutist-ann-erwin-and-p
END:VEVENT
BEGIN:VEVENT
DTSTART;TZID=America/Los_Angeles:20221204T123000
DTEND;TZID=America/Los_Angeles:20221204T143000
DTSTAMP:20260425T161455
CREATED:20221107T021351Z
LAST-MODIFIED:20221107T022655Z
UID:5263-1670157000-1670164200@www.jasnanorcal.org
SUMMARY:JASNA NorCal Presents A Jane Austen Birthday Gala (Virtual)Featuring:  Kim Wilson\, speaking on “The Twelve Days of a Regency Christmas”
DESCRIPTION:visit jasnanorcal.org for registration information \n\n\n\n \n\n\n\nFeaturing:  Kim Wilson\, speaking on “The Twelve Days of a Regency Christmas” \n\n\n\n\n\n \n\n\n\nKim Wilson will explore how the Twelve Days of Christmas were celebrated in Jane Austen’s day\, including traditional Georgian and Regency holiday activities and games.    Kim will also share recipes for making a Twelfth Night Cake and a Wassail bowl so attendees can plan their own Jane Austen holiday celebration! Followed by a champagne toast to Jane and short chapter business meeting.
URL:https://www.jasnanorcal.org/event/jane-austen-birthday-gala-virtual
END:VEVENT
BEGIN:VEVENT
DTSTART;TZID=America/Los_Angeles:20221205T160000
DTEND;TZID=America/Los_Angeles:20221205T173000
DTSTAMP:20260425T161455
CREATED:20221116T032037Z
LAST-MODIFIED:20221116T032043Z
UID:5354-1670256000-1670261400@www.jasnanorcal.org
SUMMARY:Austen Mondays – Pride and Prejudice YouTube presentations by Rosenbach Museum
DESCRIPTION:The Rosenbach’s new biblioventure series will focus on Pride and Prejudice by Jane Austen. Join us for a deep-dive into this classic novel for 24 weeks beginning September 19\, 2022. We’re also moving the show to Monday evenings from 7:00-8:30 p.m. For the first half hour of every episode host Edward G. Pettit will interview scholars and Janeites about all things Austen\, then will lead a conversational annotation of a chapter or two of Pride and Prejudice. Along with co-hosts Dr. Lauren Nixon\, Dr. Kathleen Hudson\, and Kathryn MacMillan\, together we’ll examine why and how Pride and Prejudice continues to be one of the most beloved books of readers everywhere. \n\n\n\nFree YouTube program but registration required. \n\n\n\nhttps://rosenbach.org/events/ \n\n\n\n\nAusten Mondays
URL:https://www.jasnanorcal.org/event/austen-mondays-pride-and-prejudice-youtube-presentations-by-rosenbach-museum-2
END:VEVENT
BEGIN:VEVENT
DTSTART;TZID=America/Los_Angeles:20221210T110000
DTEND;TZID=America/Los_Angeles:20221210T133000
DTSTAMP:20260425T161455
CREATED:20221116T025053Z
LAST-MODIFIED:20221116T025057Z
UID:5343-1670670000-1670679000@www.jasnanorcal.org
SUMMARY:New York Region: Widow Watching (In Person and Virtual)
DESCRIPTION:DEC 10 \n\n\n\n2:00 PM – 4:30 PM EASTERN \n\n\n\nReading the Marriage Plot Aslant\n\n\n\nIn celebration of Jane Austen’s birthday\, Professor Stephanie Insley Hershinow will look at the novels’ widows\, including Mrs. Dashwood\, Mrs. Smith\, Mrs. Ferrars\, and especially the merry Mrs. Jennings. Professor Hershinow will provide some historical and legal context for the role of the widow in Austen’s novels as well as readers’ expectations about social status\, romance\, and narrative.   \n\n\n\nThis is a hybrid event\, available virtually and in person. For more information and to register\, please click here. 
URL:https://www.jasnanorcal.org/event/new-york-region-widow-watching-in-person-and-virtual
END:VEVENT
BEGIN:VEVENT
DTSTART;TZID=America/Los_Angeles:20221213T140000
DTEND;TZID=America/Los_Angeles:20221213T153000
DTSTAMP:20260425T161455
CREATED:20221116T025726Z
LAST-MODIFIED:20221116T033810Z
UID:5346-1670940000-1670945400@www.jasnanorcal.org
SUMMARY:Jane Austen and Lord Byron: Closer than you might think
DESCRIPTION:Jane Austen & Co. Zoom Webinar  \n\n\n\nJane Austen and Lord Byron: Closer than you might think \n\n\n\nJane Austen and Lord Byron are often thought of opposites\, but they actually had much in common. In this talk\, Christine Kenyon Jones explores their points of contact and their near-misses\, and argues that Byron and Austen were – both biographically and literarily – closer than we might think. \n\n\n\n\n\nhttps://www.janeaustenandco.org/event-details/jane-austen-and-lord-byron-closer-than-you-might-think
URL:https://www.jasnanorcal.org/event/jane-austen-and-lord-byron-closer-than-you-might-think
END:VEVENT
BEGIN:VEVENT
DTSTART;TZID=America/Los_Angeles:20221214T120000
DTEND;TZID=America/Los_Angeles:20221214T120000
DTSTAMP:20260425T161456
CREATED:20221107T024934Z
LAST-MODIFIED:20221107T024938Z
UID:5284-1671019200-1671019200@www.jasnanorcal.org
SUMMARY:Greater Sacramento JA Movie Fan Club-Christmas at Pemberley Manor (virtual)
DESCRIPTION:December 14 @ 6:30 pm – 9:00 pm\n\n\n\nChristmas at Pemberley Manor (2018)
URL:https://www.jasnanorcal.org/event/greater-sacramento-ja-movie-fan-club-christmas-at-pemberley-manor-virtual
END:VEVENT
BEGIN:VEVENT
DTSTART;TZID=America/Los_Angeles:20221217T143000
DTEND;TZID=America/Los_Angeles:20221217T164000
DTSTAMP:20260425T161456
CREATED:20221107T024710Z
LAST-MODIFIED:20221107T024715Z
UID:5282-1671287400-1671295200@www.jasnanorcal.org
SUMMARY:Greater Sacramento Region JASNA Reading Group: Regency Poets (Virtual)
DESCRIPTION:December 17 @ 2:30 pm – 4:30 pm\n\n\n\nThe JASNA Reading Group will meet on December 17th at 2:30 on Zoom for a poetry reading and discussion of Regency Era poets. The poets covered will be Lord Byron\, Samuel Taylor Coleridge\, William Cowper\, George Crabbe\, Sir Walter Scott\, and William Wordsworth. A Zoom invitation and discussion questions will be sent out to registered members shortly before the event. Please contact reading group organizer\, Nancy Kleinert\, if you wish to attend.
URL:https://www.jasnanorcal.org/event/greater-sacramento-region-jasna-reading-group-regency-poets-virtual
END:VEVENT
BEGIN:VEVENT
DTSTART;TZID=America/Los_Angeles:20221219T160000
DTEND;TZID=America/Los_Angeles:20221219T170000
DTSTAMP:20260425T161456
CREATED:20221116T032617Z
LAST-MODIFIED:20221116T032623Z
UID:5356-1671465600-1671469200@www.jasnanorcal.org
SUMMARY:Austen Mondays – Pride and Prejudice YouTube presentations by Rosenbach Museum
DESCRIPTION:The Rosenbach’s new biblioventure series will focus on Pride and Prejudice by Jane Austen. Join us for a deep-dive into this classic novel for 24 weeks beginning September 19\, 2022. We’re also moving the show to Monday evenings from 7:00-8:30 p.m. For the first half hour of every episode host Edward G. Pettit will interview scholars and Janeites about all things Austen\, then will lead a conversational annotation of a chapter or two of Pride and Prejudice. Along with co-hosts Dr. Lauren Nixon\, Dr. Kathleen Hudson\, and Kathryn MacMillan\, together we’ll examine why and how Pride and Prejudice continues to be one of the most beloved books of readers everywhere. \n\n\n\nFree YouTube program but registration required. \n\n\n\nhttps://rosenbach.org/events/ \n\n\n\n\nAusten Mondays
URL:https://www.jasnanorcal.org/event/austen-mondays-pride-and-prejudice-youtube-presentations-by-rosenbach-museum-3
END:VEVENT
END:VCALENDAR