BEGIN:VCALENDAR
VERSION:2.0
PRODID:-//JASNA NorCal - ECPv6.15.20//NONSGML v1.0//EN
CALSCALE:GREGORIAN
METHOD:PUBLISH
X-ORIGINAL-URL:https://www.jasnanorcal.org
X-WR-CALDESC:Events for JASNA NorCal
REFRESH-INTERVAL;VALUE=DURATION:PT1H
X-Robots-Tag:noindex
X-PUBLISHED-TTL:PT1H
BEGIN:VTIMEZONE
TZID:America/Los_Angeles
BEGIN:DAYLIGHT
TZOFFSETFROM:-0800
TZOFFSETTO:-0700
TZNAME:PDT
DTSTART:20220313T100000
END:DAYLIGHT
BEGIN:STANDARD
TZOFFSETFROM:-0700
TZOFFSETTO:-0800
TZNAME:PST
DTSTART:20221106T090000
END:STANDARD
BEGIN:DAYLIGHT
TZOFFSETFROM:-0800
TZOFFSETTO:-0700
TZNAME:PDT
DTSTART:20230312T100000
END:DAYLIGHT
BEGIN:STANDARD
TZOFFSETFROM:-0700
TZOFFSETTO:-0800
TZNAME:PST
DTSTART:20231105T090000
END:STANDARD
BEGIN:DAYLIGHT
TZOFFSETFROM:-0800
TZOFFSETTO:-0700
TZNAME:PDT
DTSTART:20240310T100000
END:DAYLIGHT
BEGIN:STANDARD
TZOFFSETFROM:-0700
TZOFFSETTO:-0800
TZNAME:PST
DTSTART:20241103T090000
END:STANDARD
END:VTIMEZONE
BEGIN:VEVENT
DTSTART;TZID=America/Los_Angeles:20230109T160000
DTEND;TZID=America/Los_Angeles:20230109T173000
DTSTAMP:20260425T145345
CREATED:20221116T033134Z
LAST-MODIFIED:20221116T033139Z
UID:5361-1673280000-1673285400@www.jasnanorcal.org
SUMMARY:Austen Mondays – Pride and Prejudice YouTube presentations by Rosenbach Museum
DESCRIPTION:The Rosenbach’s new biblioventure series will focus on Pride and Prejudice by Jane Austen. Join us for a deep-dive into this classic novel for 24 weeks beginning September 19\, 2022. We’re also moving the show to Monday evenings from 7:00-8:30 p.m. For the first half hour of every episode host Edward G. Pettit will interview scholars and Janeites about all things Austen\, then will lead a conversational annotation of a chapter or two of Pride and Prejudice. Along with co-hosts Dr. Lauren Nixon\, Dr. Kathleen Hudson\, and Kathryn MacMillan\, together we’ll examine why and how Pride and Prejudice continues to be one of the most beloved books of readers everywhere. \n\n\n\nFree YouTube program but registration required. \n\n\n\nhttps://rosenbach.org/events/ \n\n\n\n\nAusten Mondays
URL:https://www.jasnanorcal.org/event/austen-mondays-pride-and-prejudice-youtube-presentations-by-rosenbach-museum-5
END:VEVENT
BEGIN:VEVENT
DTSTART;TZID=America/Los_Angeles:20230110T140000
DTEND;TZID=America/Los_Angeles:20230110T153000
DTSTAMP:20260425T145345
CREATED:20221116T030122Z
LAST-MODIFIED:20221116T033350Z
UID:5348-1673359200-1673364600@www.jasnanorcal.org
SUMMARY:Jane Austen and the Magazines
DESCRIPTION:Jane Austen & Co. Zoom Webinar EASTERN  \n\n\n\nThis illustrated talk by Jennie Batchelor (University of Kent) looks at Jane Austen’s indebtedness to periodicals and her playful reuse of their contents in her novels. \n\n\n\n\n\nhttps://www.janeaustenandco.org/event-details/jane-austen-and-the-magazines
URL:https://www.jasnanorcal.org/event/jane-austen-and-the-magazines
END:VEVENT
BEGIN:VEVENT
DTSTART;TZID=America/Los_Angeles:20230110T183000
DTEND;TZID=America/Los_Angeles:20230110T200000
DTSTAMP:20260425T145345
CREATED:20221115T235614Z
LAST-MODIFIED:20221116T023952Z
UID:5318-1673375400-1673380800@www.jasnanorcal.org
SUMMARY:JASNA NorCal Virtual Reading Group - Jane Austen’s Transatlantic Sister: The Life and Letters of Fanny Palmer Austen by Sheila Johnson Kindred
DESCRIPTION:JASNA NorCal Reading Group
URL:https://www.jasnanorcal.org/event/jasna-norcal-virtual-reading-group-jane-austens-transatlantic-sister-the-life-and-letters-of-fanny-palmer-austen-by-sheila-johnson-kindred
END:VEVENT
BEGIN:VEVENT
DTSTART;TZID=America/Los_Angeles:20230121T143000
DTEND;TZID=America/Los_Angeles:20230121T163000
DTSTAMP:20260425T145345
CREATED:20221116T023103Z
LAST-MODIFIED:20221116T023252Z
UID:5331-1674311400-1674318600@www.jasnanorcal.org
SUMMARY:Greater Sacramento Region JASNA Virtual Reading Group: Mansfield Park (first half)
DESCRIPTION:https://jasnasac.org/event/jasna-reading-group-mansfield-park-first-half/
URL:https://www.jasnanorcal.org/event/greater-sacramento-region-jasna-virtual-reading-group-mansfield-park-first-half
END:VEVENT
BEGIN:VEVENT
DTSTART;TZID=America/Los_Angeles:20230123T160000
DTEND;TZID=America/Los_Angeles:20230123T173000
DTSTAMP:20260425T145345
CREATED:20221116T032753Z
LAST-MODIFIED:20221116T032921Z
UID:5358-1674489600-1674495000@www.jasnanorcal.org
SUMMARY:Austen Mondays – Pride and Prejudice YouTube presentations by Rosenbach Museum
DESCRIPTION:The Rosenbach’s new biblioventure series will focus on Pride and Prejudice by Jane Austen. Join us for a deep-dive into this classic novel for 24 weeks beginning September 19\, 2022. We’re also moving the show to Monday evenings from 7:00-8:30 p.m. For the first half hour of every episode host Edward G. Pettit will interview scholars and Janeites about all things Austen\, then will lead a conversational annotation of a chapter or two of Pride and Prejudice. Along with co-hosts Dr. Lauren Nixon\, Dr. Kathleen Hudson\, and Kathryn MacMillan\, together we’ll examine why and how Pride and Prejudice continues to be one of the most beloved books of readers everywhere. \n\n\n\nFree YouTube program but registration required. \n\n\n\nhttps://rosenbach.org/events/ \n\n\n\n\nAusten Mondays
URL:https://www.jasnanorcal.org/event/austen-mondays-pride-and-prejudice-youtube-presentations-by-rosenbach-museum-4
END:VEVENT
BEGIN:VEVENT
DTSTART;TZID=America/Los_Angeles:20230128T110000
DTEND;TZID=America/Los_Angeles:20230128T123000
DTSTAMP:20260425T145345
CREATED:20220701T194027Z
LAST-MODIFIED:20220701T195506Z
UID:5033-1674903600-1674909000@www.jasnanorcal.org
SUMMARY:JASNA Southwest presents College Students Take On Jane Austen Zoom Presentation by students of Dr. Jason Solinger\, 18th Century scholar\, University of Mississippi
DESCRIPTION:
URL:https://www.jasnanorcal.org/event/college-students-take-on-jane-austen-zoom-presentation-by-students-of-dr-jason-solinger-18th-century-scholar-university-of-mississippi
END:VEVENT
BEGIN:VEVENT
DTSTART;TZID=America/Los_Angeles:20230129T100000
DTEND;TZID=America/Los_Angeles:20230129T170000
DTSTAMP:20260425T145345
CREATED:20220627T032203Z
LAST-MODIFIED:20221111T011554Z
UID:5010-1674986400-1675011600@www.jasnanorcal.org
SUMMARY:Save the Date: The Unofficial Jane Austen Day at The Huntington Gardens
DESCRIPTION:We are back! Our annual UNOFFICIAL gathering of friends\, NOT associated directly with The Huntington Library\, Art Collections\, and Botanical Gardens is back for 2022. \n\n\n\nSTROLL THE GROUNDS IN FASHION:Though costumes are not required they are part of the fun! As always “Costumes admired but not required!” \n\n\n\nPlease join us for a lovely day strolling the grounds\, viewing magnificent works of art\, and enjoying the day in Jane Austen style. \n\n\n\nMAKE A RESERVATION:Use your best methods to book a reservation and enter the grounds. If you have a Huntington annual pass feel free to use it. If you have passes to share or a request for one please feel free to post in the discussion section. \n\n\n\nhttps://www.facebook.com/events/the-huntington-library-art-museum-and-botanical-gardens/the-unofficial-jane-austen-day-at-the-huntington-jan-23rd/481263003371567/ \n\n\n\n\n\n\nhttps://www.facebook.com/events/the-huntington-library-art-museum-and-botanical-gardens/the-unofficial-jane-austen-day-at-the-huntington-jan-23rd/481263003371567/
URL:https://www.jasnanorcal.org/event/save-the-date-the-unofficial-jane-austen-day-at-the-huntington-gardens
END:VEVENT
END:VCALENDAR