BEGIN:VCALENDAR
VERSION:2.0
PRODID:-//JASNA NorCal - ECPv6.15.20//NONSGML v1.0//EN
CALSCALE:GREGORIAN
METHOD:PUBLISH
X-ORIGINAL-URL:https://www.jasnanorcal.org
X-WR-CALDESC:Events for JASNA NorCal
REFRESH-INTERVAL;VALUE=DURATION:PT1H
X-Robots-Tag:noindex
X-PUBLISHED-TTL:PT1H
BEGIN:VTIMEZONE
TZID:America/Los_Angeles
BEGIN:DAYLIGHT
TZOFFSETFROM:-0800
TZOFFSETTO:-0700
TZNAME:PDT
DTSTART:20220313T100000
END:DAYLIGHT
BEGIN:STANDARD
TZOFFSETFROM:-0700
TZOFFSETTO:-0800
TZNAME:PST
DTSTART:20221106T090000
END:STANDARD
BEGIN:DAYLIGHT
TZOFFSETFROM:-0800
TZOFFSETTO:-0700
TZNAME:PDT
DTSTART:20230312T100000
END:DAYLIGHT
BEGIN:STANDARD
TZOFFSETFROM:-0700
TZOFFSETTO:-0800
TZNAME:PST
DTSTART:20231105T090000
END:STANDARD
BEGIN:DAYLIGHT
TZOFFSETFROM:-0800
TZOFFSETTO:-0700
TZNAME:PDT
DTSTART:20240310T100000
END:DAYLIGHT
BEGIN:STANDARD
TZOFFSETFROM:-0700
TZOFFSETTO:-0800
TZNAME:PST
DTSTART:20241103T090000
END:STANDARD
END:VTIMEZONE
BEGIN:VEVENT
DTSTART;TZID=America/Los_Angeles:20230910T130000
DTEND;TZID=America/Los_Angeles:20230910T143000
DTSTAMP:20260425T033005
CREATED:20230710T030108Z
LAST-MODIFIED:20230710T030112Z
UID:5472-1694350800-1694356200@www.jasnanorcal.org
SUMMARY:The Women of the Regency: A “Revolution...Almost Beyond Expression” - Robert Morrison presenter. A JASNANorCal virtual program
DESCRIPTION:Save the date – registration details to follow
URL:https://www.jasnanorcal.org/event/the-women-of-the-regency-a-revolution-almost-beyond-expression-robert-morrison-presenter-a-jasnanorcal-virtual-program
END:VEVENT
BEGIN:VEVENT
DTSTART;TZID=America/Los_Angeles:20230912T183000
DTEND;TZID=America/Los_Angeles:20230912T200000
DTSTAMP:20260425T033005
CREATED:20230707T180721Z
LAST-MODIFIED:20230707T180725Z
UID:5470-1694543400-1694548800@www.jasnanorcal.org
SUMMARY:JASNA NorCal Reading Group (Virtual)
DESCRIPTION:The Other Bennet Sister by Janice Hadlow \n\n\n\n\n\nPlease check website for registration.
URL:https://www.jasnanorcal.org/event/jasna-norcal-reading-group-virtual-3
END:VEVENT
BEGIN:VEVENT
DTSTART;TZID=America/Los_Angeles:20230917T140000
DTEND;TZID=America/Los_Angeles:20230917T160000
DTSTAMP:20260425T033005
CREATED:20230829T011151Z
LAST-MODIFIED:20230829T011155Z
UID:5507-1694959200-1694966400@www.jasnanorcal.org
SUMMARY:Rachel Dodge presenting on Regency Etiquette - Greater Sacramento JASNA Quarterly Meeting
DESCRIPTION:Region Quarterly Meeting
URL:https://www.jasnanorcal.org/event/rachel-dodge-presenting-on-regency-etiquette-greater-sacramento-jasna-quarterly-meeting
END:VEVENT
BEGIN:VEVENT
DTSTART;TZID=America/Los_Angeles:20230920T190000
DTEND;TZID=America/Los_Angeles:20230920T200000
DTSTAMP:20260425T033005
CREATED:20230829T010647Z
LAST-MODIFIED:20230829T010649Z
UID:5505-1695236400-1695240000@www.jasnanorcal.org
SUMMARY:JASNA NorCal Virtual Volunteer Meeting
DESCRIPTION:Join us for learning about fun ways to help our chapter continue to provide quality programming and resources. Email rc@jasnanorcal.org to RSVP and for Zoom link.
URL:https://www.jasnanorcal.org/event/jasna-norcal-virtual-volunteer-meeting
END:VEVENT
END:VCALENDAR