BEGIN:VCALENDAR
VERSION:2.0
PRODID:-//JASNA NorCal - ECPv6.15.20//NONSGML v1.0//EN
CALSCALE:GREGORIAN
METHOD:PUBLISH
X-ORIGINAL-URL:https://www.jasnanorcal.org
X-WR-CALDESC:Events for JASNA NorCal
REFRESH-INTERVAL;VALUE=DURATION:PT1H
X-Robots-Tag:noindex
X-PUBLISHED-TTL:PT1H
BEGIN:VTIMEZONE
TZID:America/Los_Angeles
BEGIN:DAYLIGHT
TZOFFSETFROM:-0800
TZOFFSETTO:-0700
TZNAME:PDT
DTSTART:20230312T100000
END:DAYLIGHT
BEGIN:STANDARD
TZOFFSETFROM:-0700
TZOFFSETTO:-0800
TZNAME:PST
DTSTART:20231105T090000
END:STANDARD
BEGIN:DAYLIGHT
TZOFFSETFROM:-0800
TZOFFSETTO:-0700
TZNAME:PDT
DTSTART:20240310T100000
END:DAYLIGHT
BEGIN:STANDARD
TZOFFSETFROM:-0700
TZOFFSETTO:-0800
TZNAME:PST
DTSTART:20241103T090000
END:STANDARD
BEGIN:DAYLIGHT
TZOFFSETFROM:-0800
TZOFFSETTO:-0700
TZNAME:PDT
DTSTART:20250309T100000
END:DAYLIGHT
BEGIN:STANDARD
TZOFFSETFROM:-0700
TZOFFSETTO:-0800
TZNAME:PST
DTSTART:20251102T090000
END:STANDARD
END:VTIMEZONE
BEGIN:VEVENT
DTSTART;TZID=America/Los_Angeles:20241214T140000
DTEND;TZID=America/Los_Angeles:20241214T140000
DTSTAMP:20260424T062319
CREATED:20241106T183907Z
LAST-MODIFIED:20241106T183907Z
UID:5772-1734184800-1734184800@www.jasnanorcal.org
SUMMARY:JASNA NorCal Birthday Gala
DESCRIPTION:Miss Bennett Christmas at Pemberley\, a play by Lauren Gunderson and Margo MelconJoin us for the play\, post-discussion. More to come!
URL:https://www.jasnanorcal.org/event/jasna-norcal-birthday-gala
END:VEVENT
BEGIN:VEVENT
DTSTART;TZID=America/Los_Angeles:20241215T100000
DTEND;TZID=America/Los_Angeles:20241215T120000
DTSTAMP:20260424T062319
CREATED:20240506T175453Z
LAST-MODIFIED:20240506T175453Z
UID:5670-1734256800-1734264000@www.jasnanorcal.org
SUMMARY:JASNA Central California Presents Jane Austen Birthday
DESCRIPTION:No Host BrunchCDT Cocina\, Fresno https://jasnacentralcalifornia.wordpress.com/calendar-of-events/
URL:https://www.jasnanorcal.org/event/jasna-central-california-presents-jane-austen-birthday
END:VEVENT
END:VCALENDAR