BEGIN:VCALENDAR
VERSION:2.0
PRODID:-//JASNA NorCal - ECPv6.15.20//NONSGML v1.0//EN
CALSCALE:GREGORIAN
METHOD:PUBLISH
X-WR-CALNAME:JASNA NorCal
X-ORIGINAL-URL:https://www.jasnanorcal.org
X-WR-CALDESC:Events for JASNA NorCal
REFRESH-INTERVAL;VALUE=DURATION:PT1H
X-Robots-Tag:noindex
X-PUBLISHED-TTL:PT1H
BEGIN:VTIMEZONE
TZID:America/Los_Angeles
BEGIN:DAYLIGHT
TZOFFSETFROM:-0800
TZOFFSETTO:-0700
TZNAME:PDT
DTSTART:20240310T100000
END:DAYLIGHT
BEGIN:STANDARD
TZOFFSETFROM:-0700
TZOFFSETTO:-0800
TZNAME:PST
DTSTART:20241103T090000
END:STANDARD
BEGIN:DAYLIGHT
TZOFFSETFROM:-0800
TZOFFSETTO:-0700
TZNAME:PDT
DTSTART:20250309T100000
END:DAYLIGHT
BEGIN:STANDARD
TZOFFSETFROM:-0700
TZOFFSETTO:-0800
TZNAME:PST
DTSTART:20251102T090000
END:STANDARD
BEGIN:DAYLIGHT
TZOFFSETFROM:-0800
TZOFFSETTO:-0700
TZNAME:PDT
DTSTART:20260308T100000
END:DAYLIGHT
BEGIN:STANDARD
TZOFFSETFROM:-0700
TZOFFSETTO:-0800
TZNAME:PST
DTSTART:20261101T090000
END:STANDARD
END:VTIMEZONE
BEGIN:VEVENT
DTSTART;TZID=America/Los_Angeles:20250405T133000
DTEND;TZID=America/Los_Angeles:20250405T153000
DTSTAMP:20260424T004218
CREATED:20250307T173113Z
LAST-MODIFIED:20250307T173118Z
UID:5889-1743859800-1743867000@www.jasnanorcal.org
SUMMARY:JASNA NorCal presents“The Forgotten Tale of Doctor Syntax\, the Regency’s Most Popular Fictional Character” - In person and virtual event
DESCRIPTION:The Regency’s favorite travelling clergyman has reached the Bay Area! Join us in the Terrace Room at Margaret-Jacks Hall on Stanford Campus (or online) for a talk on what was\, by some measures\, the most popular poem of Austen’s day\, The Tour of Doctor Syntax in Search of the Picturesque (1812). JASNA NorCal member Ben Wiebracht and three of his students\, co-winners of the 2024 JASNA New Voices Award\, will share key insights from their semester-long project on Doctor Syntax. Register at https://www.jasnanorcal.org/
URL:https://www.jasnanorcal.org/event/jasna-norcal-presentsthe-forgotten-tale-of-doctor-syntax-the-regencys-most-popular-fictional-character-in-person-and-virtual-event
END:VEVENT
BEGIN:VEVENT
DTSTART;TZID=America/Los_Angeles:20250408T183000
DTEND;TZID=America/Los_Angeles:20250408T200000
DTSTAMP:20260424T004218
CREATED:20250117T051030Z
LAST-MODIFIED:20250117T051030Z
UID:5816-1744137000-1744142400@www.jasnanorcal.org
SUMMARY:JASNA NorCal Virtual Reading Group - Miss Austen by Gill Horby
DESCRIPTION:Home page
URL:https://www.jasnanorcal.org/event/jasna-norcal-virtual-reading-group-miss-austen-by-gill-horby-2
END:VEVENT
BEGIN:VEVENT
DTSTART;TZID=America/Los_Angeles:20250419T190000
DTEND;TZID=America/Los_Angeles:20250419T210000
DTSTAMP:20260424T004218
CREATED:20250307T174759Z
LAST-MODIFIED:20250307T174804Z
UID:5894-1745089200-1745096400@www.jasnanorcal.org
SUMMARY:Pulp & Prejudice: A Defense of Romance Novels
DESCRIPTION:Pulp & Prejudice is a hilarious one-woman show that passionately defends romance—romance novels\, that is. Written and performed by local artist Jenny Noa\, Pulp & Prejudice has been described as “a tightly corseted solo show about lovers and haters.” Noa turns a wide-angle lens on the subject of romance and the intense emotions the novels in particular inspire. Why is the genre vilified and beloved in equal measure? This comedic exploration of this complicated topic covers the origins of the author’s own obsessions\, romance novels as social barometer\, and larger questions about why we love what we love. All proceeds from this event will directly support Chapter 510’s free writing programs for Black\, brown\, and queer youth in Oakland. Tickets are available on a sliding scale. The Dept. of Make / Believe546 9th Street\, Oakland\, CA\, 94607United States https://www.chapter510.org/events/chapter-pulp-andprejudice-event
URL:https://www.jasnanorcal.org/event/pulp-prejudice-a-defense-of-romance-novels
END:VEVENT
END:VCALENDAR