BEGIN:VCALENDAR
VERSION:2.0
PRODID:-//JASNA NorCal - ECPv6.15.20//NONSGML v1.0//EN
CALSCALE:GREGORIAN
METHOD:PUBLISH
X-WR-CALNAME:JASNA NorCal
X-ORIGINAL-URL:https://www.jasnanorcal.org
X-WR-CALDESC:Events for JASNA NorCal
REFRESH-INTERVAL;VALUE=DURATION:PT1H
X-Robots-Tag:noindex
X-PUBLISHED-TTL:PT1H
BEGIN:VTIMEZONE
TZID:America/Los_Angeles
BEGIN:DAYLIGHT
TZOFFSETFROM:-0800
TZOFFSETTO:-0700
TZNAME:PDT
DTSTART:20240310T100000
END:DAYLIGHT
BEGIN:STANDARD
TZOFFSETFROM:-0700
TZOFFSETTO:-0800
TZNAME:PST
DTSTART:20241103T090000
END:STANDARD
BEGIN:DAYLIGHT
TZOFFSETFROM:-0800
TZOFFSETTO:-0700
TZNAME:PDT
DTSTART:20250309T100000
END:DAYLIGHT
BEGIN:STANDARD
TZOFFSETFROM:-0700
TZOFFSETTO:-0800
TZNAME:PST
DTSTART:20251102T090000
END:STANDARD
BEGIN:DAYLIGHT
TZOFFSETFROM:-0800
TZOFFSETTO:-0700
TZNAME:PDT
DTSTART:20260308T100000
END:DAYLIGHT
BEGIN:STANDARD
TZOFFSETFROM:-0700
TZOFFSETTO:-0800
TZNAME:PST
DTSTART:20261101T090000
END:STANDARD
END:VTIMEZONE
BEGIN:VEVENT
DTSTART;TZID=America/Los_Angeles:20250503T083000
DTEND;TZID=America/Los_Angeles:20250504T170000
DTSTAMP:20260423T232015
CREATED:20250307T173634Z
LAST-MODIFIED:20250307T173638Z
UID:5891-1746261000-1746378000@www.jasnanorcal.org
SUMMARY:JASNA Southwest A Star Is Born: A Truth Universally Acknowledged
DESCRIPTION:2025 is the anniversary of numerous filmed adaptations of Austen’s novels: the 85th anniversary of MGM’s 1940 version of Pride and Prejudice starring Greer Garson and Laurence Olivier; the 45th anniversary of the Elizabeth Garvie and David Rintoul production; and the 30th anniversary of Clueless\, Emma Thompson’s Sense and Sensibility\, Sony Picture Classics’ Persuasion\, and the beloved BBC miniseries of Pride and Prejudice starring Jennifer Ehle and Colin Firth\, and the 20th anniversary of the Keira Knightley/Matthew Macfadyen version. \n\n\n\nTo celebrate these milestones\, our Southwest Region is planning a multi-day Gala the first weekend in May 2025. The theme is “A Star is Born: A Truth Universally Acknowledged.”  https://jasnasw.com/events/upcoming-events/
URL:https://www.jasnanorcal.org/event/jasna-southwest-a-star-is-born-a-truth-universally-acknowledged
END:VEVENT
BEGIN:VEVENT
DTSTART;TZID=America/Los_Angeles:20250513T183000
DTEND;TZID=America/Los_Angeles:20250513T200000
DTSTAMP:20260423T232015
CREATED:20250117T051318Z
LAST-MODIFIED:20250824T010008Z
UID:5818-1747161000-1747166400@www.jasnanorcal.org
SUMMARY:Old Friends and New Francies: An Imaginary Sequel to the Novels of Jane Austen; Rudyard Kipling\, “The Janeites”; Rudyard Kipling\, “Jane’s Marriage”; Active 19th Century Lady of Distinction\, The Mirror of the Graces by  Sybil Brinton
DESCRIPTION:Home page
URL:https://www.jasnanorcal.org/event/jasna-norcal-virtual-reading-group-old-friends-and-new-francies-an-imaginary-sequel-to-the-novels-of-jane-austen-rudyard-kipling-the-janeites-rudyard-kipling-ja
CATEGORIES:JASNA NorCal Reading Group
END:VEVENT
END:VCALENDAR