BEGIN:VCALENDAR
VERSION:2.0
PRODID:-//JASNA NorCal - ECPv6.15.20//NONSGML v1.0//EN
CALSCALE:GREGORIAN
METHOD:PUBLISH
X-ORIGINAL-URL:https://www.jasnanorcal.org
X-WR-CALDESC:Events for JASNA NorCal
REFRESH-INTERVAL;VALUE=DURATION:PT1H
X-Robots-Tag:noindex
X-PUBLISHED-TTL:PT1H
BEGIN:VTIMEZONE
TZID:America/Los_Angeles
BEGIN:DAYLIGHT
TZOFFSETFROM:-0800
TZOFFSETTO:-0700
TZNAME:PDT
DTSTART:20240310T100000
END:DAYLIGHT
BEGIN:STANDARD
TZOFFSETFROM:-0700
TZOFFSETTO:-0800
TZNAME:PST
DTSTART:20241103T090000
END:STANDARD
BEGIN:DAYLIGHT
TZOFFSETFROM:-0800
TZOFFSETTO:-0700
TZNAME:PDT
DTSTART:20250309T100000
END:DAYLIGHT
BEGIN:STANDARD
TZOFFSETFROM:-0700
TZOFFSETTO:-0800
TZNAME:PST
DTSTART:20251102T090000
END:STANDARD
BEGIN:DAYLIGHT
TZOFFSETFROM:-0800
TZOFFSETTO:-0700
TZNAME:PDT
DTSTART:20260308T100000
END:DAYLIGHT
BEGIN:STANDARD
TZOFFSETFROM:-0700
TZOFFSETTO:-0800
TZNAME:PST
DTSTART:20261101T090000
END:STANDARD
END:VTIMEZONE
BEGIN:VEVENT
DTSTART;TZID=America/Los_Angeles:20251213T110000
DTEND;TZID=America/Los_Angeles:20251213T130000
DTSTAMP:20260423T134058
CREATED:20250627T153314Z
LAST-MODIFIED:20251210T232145Z
UID:5926-1765623600-1765630800@www.jasnanorcal.org
SUMMARY:JASNA NorCal Annual Jane Austen Birthday Gala Tea
DESCRIPTION:Trinity Lutheran Church at 1295 Middlefield Road\, Palo Alto. Details and registration coming soon on our website.
URL:https://www.jasnanorcal.org/event/jasna-norcal-jane-austen-birthday-gala
CATEGORIES:Regional Event
END:VEVENT
BEGIN:VEVENT
DTSTART;TZID=America/Los_Angeles:20251213T140000
DTEND;TZID=America/Los_Angeles:20251213T163000
DTSTAMP:20260423T134058
CREATED:20250831T202758Z
LAST-MODIFIED:20251211T025447Z
UID:6107-1765634400-1765643400@www.jasnanorcal.org
SUMMARY:JASNA NorCal Silicon Valley TheatreWorks Georgiana and Kitty: Christmas at Pemberley
DESCRIPTION:Following our Gala Tea we will cross the street to Silicon Valley TheatreWorks to see the new play by  Lauren Gunderson and Margot Melcon. Tickets for the play are available now through TheatreWorks https://theatreworks.org/mainstage/georgina-kitty/  . TIckets are selling fast. Make sure you select the matinee to join us. 1305 Middlefield Road\, Palo Alto.
URL:https://www.jasnanorcal.org/event/jasna-norcal-silicon-valley-theatreworks-georgiana-and-kitty-christmas-at-pemberley
END:VEVENT
END:VCALENDAR