BEGIN:VCALENDAR
VERSION:2.0
PRODID:-//JASNA NorCal - ECPv6.15.20//NONSGML v1.0//EN
CALSCALE:GREGORIAN
METHOD:PUBLISH
X-WR-CALNAME:JASNA NorCal
X-ORIGINAL-URL:https://www.jasnanorcal.org
X-WR-CALDESC:Events for JASNA NorCal
REFRESH-INTERVAL;VALUE=DURATION:PT1H
X-Robots-Tag:noindex
X-PUBLISHED-TTL:PT1H
BEGIN:VTIMEZONE
TZID:America/Los_Angeles
BEGIN:DAYLIGHT
TZOFFSETFROM:-0800
TZOFFSETTO:-0700
TZNAME:PDT
DTSTART:20250309T100000
END:DAYLIGHT
BEGIN:STANDARD
TZOFFSETFROM:-0700
TZOFFSETTO:-0800
TZNAME:PST
DTSTART:20251102T090000
END:STANDARD
BEGIN:DAYLIGHT
TZOFFSETFROM:-0800
TZOFFSETTO:-0700
TZNAME:PDT
DTSTART:20260308T100000
END:DAYLIGHT
BEGIN:STANDARD
TZOFFSETFROM:-0700
TZOFFSETTO:-0800
TZNAME:PST
DTSTART:20261101T090000
END:STANDARD
BEGIN:DAYLIGHT
TZOFFSETFROM:-0800
TZOFFSETTO:-0700
TZNAME:PDT
DTSTART:20270314T100000
END:DAYLIGHT
BEGIN:STANDARD
TZOFFSETFROM:-0700
TZOFFSETTO:-0800
TZNAME:PST
DTSTART:20271107T090000
END:STANDARD
END:VTIMEZONE
BEGIN:VEVENT
DTSTART;TZID=America/Los_Angeles:20260512T183000
DTEND;TZID=America/Los_Angeles:20260512T200000
DTSTAMP:20260423T091249
CREATED:20260313T171119Z
LAST-MODIFIED:20260313T171354Z
UID:6221-1778610600-1778616000@www.jasnanorcal.org
SUMMARY:Virtual Reading Group: In the Path of Jane Austen: Travels and Tales\, a 250th Birthday Anthology
DESCRIPTION:For our May reading group\, we’re discussing a new anthology of Austen-inspired short stories that the publisher describes as “just as much a whimsical travelogue as an anthology of excellent Regency romance fiction and fantasy. Each author tells the story of their homage to Jane Austen during their past travels to the UK\, with photos to enhance the tale.” \n\n\n\nWe’re thrilled that one of the six authors\, Kelly Miller\, will be joining us for our discussion! A third generation Japanese-American native California\, Kelly is a fellow member of JASNA NorCal. She is the award-winning writer of a number of Austenesque Regency romances\, including The Impoverished Orphan\, A Dutiful Son\, and Captive Hearts. \n\n\n\nKelly is generously providing some free download codes for her audiobooks and e-books\, which we’ll distribute via a drawing at the meeting\, so be sure to join us for your chance to win!
URL:https://www.jasnanorcal.org/event/virtual-reading-group-in-the-path-of-jane-austen-travels-and-tales-a-250th-birthday-anthology
END:VEVENT
BEGIN:VEVENT
DTSTART;TZID=America/Los_Angeles:20260530T130000
DTEND;TZID=America/Los_Angeles:20260530T143000
DTSTAMP:20260423T091249
CREATED:20260320T235514Z
LAST-MODIFIED:20260320T235518Z
UID:6238-1780146000-1780151400@www.jasnanorcal.org
SUMMARY:JASNA NorCal presents Conduct Literature in Jane Austen's Time (in person) by Stanford PHD Candidate Rebecca Adams
DESCRIPTION:Conduct literature refers to texts that instruct and inform and give guidance on basic etiquette\, and larger matters of religion and intellectual life. The primary concern of such works was virtue and propriety. Jane Austen was no stranger to the genre\, though her personal feelings towards it are difficult to ascertain. Conduct literature seems to be as much a part of the world of Austen’s characters as it was a part of her own. \n\n\n\n \n\n\n\nThis program will be a live event on the Stanford campus. \n\n\n\n \n\n\n\njasnanorcal.org for registration and more information
URL:https://www.jasnanorcal.org/event/jasna-norcal-presents-conduct-literature-in-jane-austens-time-in-person-by-stanford-phd-candidate-rebecca-adams
END:VEVENT
END:VCALENDAR