BEGIN:VCALENDAR
VERSION:2.0
PRODID:-//JASNA NorCal - ECPv6.15.20//NONSGML v1.0//EN
CALSCALE:GREGORIAN
METHOD:PUBLISH
X-ORIGINAL-URL:https://www.jasnanorcal.org
X-WR-CALDESC:Events for JASNA NorCal
REFRESH-INTERVAL;VALUE=DURATION:PT1H
X-Robots-Tag:noindex
X-PUBLISHED-TTL:PT1H
BEGIN:VTIMEZONE
TZID:America/Los_Angeles
BEGIN:DAYLIGHT
TZOFFSETFROM:-0800
TZOFFSETTO:-0700
TZNAME:PDT
DTSTART:20250309T100000
END:DAYLIGHT
BEGIN:STANDARD
TZOFFSETFROM:-0700
TZOFFSETTO:-0800
TZNAME:PST
DTSTART:20251102T090000
END:STANDARD
BEGIN:DAYLIGHT
TZOFFSETFROM:-0800
TZOFFSETTO:-0700
TZNAME:PDT
DTSTART:20260308T100000
END:DAYLIGHT
BEGIN:STANDARD
TZOFFSETFROM:-0700
TZOFFSETTO:-0800
TZNAME:PST
DTSTART:20261101T090000
END:STANDARD
BEGIN:DAYLIGHT
TZOFFSETFROM:-0800
TZOFFSETTO:-0700
TZNAME:PDT
DTSTART:20270314T100000
END:DAYLIGHT
BEGIN:STANDARD
TZOFFSETFROM:-0700
TZOFFSETTO:-0800
TZNAME:PST
DTSTART:20271107T090000
END:STANDARD
END:VTIMEZONE
BEGIN:VEVENT
DTSTART;TZID=America/Los_Angeles:20260609T183000
DTEND;TZID=America/Los_Angeles:20260609T200000
DTSTAMP:20260423T103658
CREATED:20260320T014743Z
LAST-MODIFIED:20260320T014747Z
UID:6228-1781029800-1781035200@www.jasnanorcal.org
SUMMARY:JASNA NorCal Virtual Reading Group: Death Comes to Pemberley by P. D. James
DESCRIPTION:Join our discussion of Death Comes to Pemberley. “P. D. James\, long among the most admired mystery writers of our time\, draws the characters of Jane Austen’s beloved novel Pride and Prejudice into a tale of murder and emotional mayhem.” – Goodreads
URL:https://www.jasnanorcal.org/event/jasna-norcal-virtual-reading-group-death-comes-to-pemberley-by-p-d-james
END:VEVENT
END:VCALENDAR