BEGIN:VCALENDAR
VERSION:2.0
PRODID:-//JASNA NorCal - ECPv6.15.20//NONSGML v1.0//EN
CALSCALE:GREGORIAN
METHOD:PUBLISH
X-WR-CALNAME:JASNA NorCal
X-ORIGINAL-URL:https://www.jasnanorcal.org
X-WR-CALDESC:Events for JASNA NorCal
REFRESH-INTERVAL;VALUE=DURATION:PT1H
X-Robots-Tag:noindex
X-PUBLISHED-TTL:PT1H
BEGIN:VTIMEZONE
TZID:America/Los_Angeles
BEGIN:DAYLIGHT
TZOFFSETFROM:-0800
TZOFFSETTO:-0700
TZNAME:PDT
DTSTART:20250309T100000
END:DAYLIGHT
BEGIN:STANDARD
TZOFFSETFROM:-0700
TZOFFSETTO:-0800
TZNAME:PST
DTSTART:20251102T090000
END:STANDARD
BEGIN:DAYLIGHT
TZOFFSETFROM:-0800
TZOFFSETTO:-0700
TZNAME:PDT
DTSTART:20260308T100000
END:DAYLIGHT
BEGIN:STANDARD
TZOFFSETFROM:-0700
TZOFFSETTO:-0800
TZNAME:PST
DTSTART:20261101T090000
END:STANDARD
BEGIN:DAYLIGHT
TZOFFSETFROM:-0800
TZOFFSETTO:-0700
TZNAME:PDT
DTSTART:20270314T100000
END:DAYLIGHT
BEGIN:STANDARD
TZOFFSETFROM:-0700
TZOFFSETTO:-0800
TZNAME:PST
DTSTART:20271107T090000
END:STANDARD
END:VTIMEZONE
BEGIN:VEVENT
DTSTART;TZID=America/Los_Angeles:20260919T130000
DTEND;TZID=America/Los_Angeles:20260919T143000
DTSTAMP:20260423T133315
CREATED:20260321T001044Z
LAST-MODIFIED:20260321T001143Z
UID:6249-1789822800-1789828200@www.jasnanorcal.org
SUMMARY:JASNA NorCal presents Jane Austen in 41 Objects\, a virtual presentation by Professor Kathryn Sutherland
DESCRIPTION:Jane Austen in 41 Objects is Professor Kathryn Sutherland’s attempt to address a paradox: of all writers Jane Austen is among those very few that we most ardently wish to know but so little survives for us on which to base our knowledge. Summarizing a life in 41 objects is a way of acknowledging that no life can ever be fully known; all our encounters with another life are selective and partial—Jane Austen’s most of all. \n\n\n\n \n\n\n\nProfessor Kathryn Sutherland is Senior Research Fellow and Professor of English Literature\, St Anne’s College\, Oxford.  \n\n\n\n \n\n\n\nVisit jasnanorcal.org for more information and registration \n\n\n\n \n\n\n\n \n\n\n\n \n\n\n\njasnanorcal.org for registration and more information
URL:https://www.jasnanorcal.org/event/jasna-norcal-presents-jane-austen-in-41-objects-a-virtual-presentation-by-professor-kathryn-sutherland
END:VEVENT
END:VCALENDAR