BEGIN:VCALENDAR
VERSION:2.0
PRODID:-//JASNA NorCal - ECPv6.15.20//NONSGML v1.0//EN
CALSCALE:GREGORIAN
METHOD:PUBLISH
X-ORIGINAL-URL:https://www.jasnanorcal.org
X-WR-CALDESC:Events for JASNA NorCal
REFRESH-INTERVAL;VALUE=DURATION:PT1H
X-Robots-Tag:noindex
X-PUBLISHED-TTL:PT1H
BEGIN:VTIMEZONE
TZID:America/Los_Angeles
BEGIN:DAYLIGHT
TZOFFSETFROM:-0800
TZOFFSETTO:-0700
TZNAME:PDT
DTSTART:20250309T100000
END:DAYLIGHT
BEGIN:STANDARD
TZOFFSETFROM:-0700
TZOFFSETTO:-0800
TZNAME:PST
DTSTART:20251102T090000
END:STANDARD
BEGIN:DAYLIGHT
TZOFFSETFROM:-0800
TZOFFSETTO:-0700
TZNAME:PDT
DTSTART:20260308T100000
END:DAYLIGHT
BEGIN:STANDARD
TZOFFSETFROM:-0700
TZOFFSETTO:-0800
TZNAME:PST
DTSTART:20261101T090000
END:STANDARD
BEGIN:DAYLIGHT
TZOFFSETFROM:-0800
TZOFFSETTO:-0700
TZNAME:PDT
DTSTART:20270314T100000
END:DAYLIGHT
BEGIN:STANDARD
TZOFFSETFROM:-0700
TZOFFSETTO:-0800
TZNAME:PST
DTSTART:20271107T090000
END:STANDARD
END:VTIMEZONE
BEGIN:VEVENT
DTSTART;TZID=America/Los_Angeles:20260425T130000
DTEND;TZID=America/Los_Angeles:20260425T143000
DTSTAMP:20260423T074804
CREATED:20260225T005436Z
LAST-MODIFIED:20260320T235330Z
UID:6216-1777122000-1777127400@www.jasnanorcal.org
SUMMARY:JASNA NorCal presents "Formed for [an] Elegant and Rational Society”: The History of Persuasions and Persuasions On-Line - a virtual presentation by Susan Allen Ford
DESCRIPTION:How did Persuasions develop from a 32-page newsletter designed to serve a fledging organization to a 256-page printed journal and a vibrant online journal accessible worldwide? The story of Persuasions and Persuasions On-Line is part of JASNA’s history that helps us see the genius\, the excitement\, and the growing pains of the organization and its members. \n\n\n\nSusan Allen Ford has been Editor of Persuasions and Persuasions On-Line since 2006 . She is Professor of English Emerita at Delta State University. She has written on Austen and her contemporaries\, the gothic\, detective fiction and Shakespeare. Her book\, What Jane Austen’s Characters Read (and Why)\, was published in 2024. She is now working on a history of JASNA. \n\n\n\n \n\n\n\njasnanorcal.org for registration and more information
URL:https://www.jasnanorcal.org/event/jasna-norcal-presents-formed-for-an-elegant-and-rational-society-the-history-of-persuasions-and-persuasions-on-line-a-virtual-presentation-by-susan-allen-ford
CATEGORIES:Regional Event
END:VEVENT
END:VCALENDAR